BEGIN:VCALENDAR
VERSION:2.0
PRODID:-//U3A - ECPv6.15.20//NONSGML v1.0//EN
CALSCALE:GREGORIAN
METHOD:PUBLISH
X-ORIGINAL-URL:https://horshamu3a.org.au
X-WR-CALDESC:Events for U3A
REFRESH-INTERVAL;VALUE=DURATION:PT1H
X-Robots-Tag:noindex
X-PUBLISHED-TTL:PT1H
BEGIN:VTIMEZONE
TZID:Australia/Melbourne
BEGIN:STANDARD
TZOFFSETFROM:+1100
TZOFFSETTO:+1000
TZNAME:AEST
DTSTART:20250405T160000
END:STANDARD
BEGIN:DAYLIGHT
TZOFFSETFROM:+1000
TZOFFSETTO:+1100
TZNAME:AEDT
DTSTART:20251004T160000
END:DAYLIGHT
BEGIN:STANDARD
TZOFFSETFROM:+1100
TZOFFSETTO:+1000
TZNAME:AEST
DTSTART:20260404T160000
END:STANDARD
BEGIN:DAYLIGHT
TZOFFSETFROM:+1000
TZOFFSETTO:+1100
TZNAME:AEDT
DTSTART:20261003T160000
END:DAYLIGHT
BEGIN:STANDARD
TZOFFSETFROM:+1100
TZOFFSETTO:+1000
TZNAME:AEST
DTSTART:20270403T160000
END:STANDARD
BEGIN:DAYLIGHT
TZOFFSETFROM:+1000
TZOFFSETTO:+1100
TZNAME:AEDT
DTSTART:20271002T160000
END:DAYLIGHT
END:VTIMEZONE
BEGIN:VEVENT
DTSTART;TZID=Australia/Melbourne:20260601T090000
DTEND;TZID=Australia/Melbourne:20260601T170000
DTSTAMP:20260419T230922
CREATED:20260118T024328Z
LAST-MODIFIED:20260118T024328Z
UID:10016051-1780304400-1780333200@horshamu3a.org.au
SUMMARY:Table Tennis (Monday)
DESCRIPTION:With Graeme Kuhne \nTable tennis is held at the Table Tennis Association building 3 mornings per week.  Come along for a social game\, exercise and a lot of fun. Small cost per session.  $3.00 \nEvery Monday\, Wednesday and Friday at 9.00 am at the Table Tennis Association 
URL:https://horshamu3a.org.au/event/table-tennis-monday/2026-06-01/
LOCATION:Table Tennis Association\, 11 Harriett Street\, Horsham\, VIC\, 3400\, Australia
CATEGORIES:lifestyle
ATTACH;FMTTYPE=image/png:https://horshamu3a.org.au/wp-content/uploads/2025/01/table-tennis-monday-1.png
END:VEVENT
BEGIN:VEVENT
DTSTART;TZID=Australia/Melbourne:20260603T090000
DTEND;TZID=Australia/Melbourne:20260603T170000
DTSTAMP:20260419T230922
CREATED:20260119T045627Z
LAST-MODIFIED:20260119T045627Z
UID:10017512-1780477200-1780506000@horshamu3a.org.au
SUMMARY:Table Tennis (Wednesday)
DESCRIPTION:With Graeme Kuhne \nTable tennis is held at the Table Tennis Association building 3 mornings per week.  Come along for a social game\, exercise and a lot of fun. Small cost per session.  $3.00 \nEvery Monday\, Wednesday and Friday at 9.00 am at the Table Tennis Association 
URL:https://horshamu3a.org.au/event/table-tennis-wednesday/2026-06-03/
LOCATION:Table Tennis Association\, 11 Harriett Street\, Horsham\, VIC\, 3400\, Australia
CATEGORIES:active
ATTACH;FMTTYPE=image/png:https://horshamu3a.org.au/wp-content/uploads/2024/02/table-tennis-wednesday.png
ORGANIZER;CN="June Liddy":MAILTO:office@horshamu3a.org.au
END:VEVENT
BEGIN:VEVENT
DTSTART;TZID=Australia/Melbourne:20260605T083000
DTEND;TZID=Australia/Melbourne:20260605T120000
DTSTAMP:20260419T230922
CREATED:20260123T223524Z
LAST-MODIFIED:20260123T223524Z
UID:10019651-1780648200-1780660800@horshamu3a.org.au
SUMMARY:Table Tennis (Friday)
DESCRIPTION:With Graeme Kuhne \nTable tennis is held at the Table Tennis Association building 3 mornings per week.  Come along for a social game\, exercise and a lot of fun. Small cost per session.  $3.00 \nEvery Monday\, Wednesday and Friday at 9.00 am at the Table Tennis Association 
URL:https://horshamu3a.org.au/event/table-tennis-friday/2026-06-05/
LOCATION:Table Tennis Association\, 11 Harriett Street\, Horsham\, VIC\, 3400\, Australia
CATEGORIES:active
ATTACH;FMTTYPE=image/png:https://horshamu3a.org.au/wp-content/uploads/2024/01/table-tennis-2.png
END:VEVENT
BEGIN:VEVENT
DTSTART;TZID=Australia/Melbourne:20260608T090000
DTEND;TZID=Australia/Melbourne:20260608T170000
DTSTAMP:20260419T230922
CREATED:20260118T024328Z
LAST-MODIFIED:20260118T024328Z
UID:10016052-1780909200-1780938000@horshamu3a.org.au
SUMMARY:Table Tennis (Monday)
DESCRIPTION:With Graeme Kuhne \nTable tennis is held at the Table Tennis Association building 3 mornings per week.  Come along for a social game\, exercise and a lot of fun. Small cost per session.  $3.00 \nEvery Monday\, Wednesday and Friday at 9.00 am at the Table Tennis Association 
URL:https://horshamu3a.org.au/event/table-tennis-monday/2026-06-08/
LOCATION:Table Tennis Association\, 11 Harriett Street\, Horsham\, VIC\, 3400\, Australia
CATEGORIES:lifestyle
ATTACH;FMTTYPE=image/png:https://horshamu3a.org.au/wp-content/uploads/2025/01/table-tennis-monday-1.png
END:VEVENT
BEGIN:VEVENT
DTSTART;TZID=Australia/Melbourne:20260610T090000
DTEND;TZID=Australia/Melbourne:20260610T170000
DTSTAMP:20260419T230922
CREATED:20260119T045627Z
LAST-MODIFIED:20260119T045627Z
UID:10017513-1781082000-1781110800@horshamu3a.org.au
SUMMARY:Table Tennis (Wednesday)
DESCRIPTION:With Graeme Kuhne \nTable tennis is held at the Table Tennis Association building 3 mornings per week.  Come along for a social game\, exercise and a lot of fun. Small cost per session.  $3.00 \nEvery Monday\, Wednesday and Friday at 9.00 am at the Table Tennis Association 
URL:https://horshamu3a.org.au/event/table-tennis-wednesday/2026-06-10/
LOCATION:Table Tennis Association\, 11 Harriett Street\, Horsham\, VIC\, 3400\, Australia
CATEGORIES:active
ATTACH;FMTTYPE=image/png:https://horshamu3a.org.au/wp-content/uploads/2024/02/table-tennis-wednesday.png
ORGANIZER;CN="June Liddy":MAILTO:office@horshamu3a.org.au
END:VEVENT
BEGIN:VEVENT
DTSTART;TZID=Australia/Melbourne:20260612T083000
DTEND;TZID=Australia/Melbourne:20260612T120000
DTSTAMP:20260419T230922
CREATED:20260123T223524Z
LAST-MODIFIED:20260123T223524Z
UID:10019652-1781253000-1781265600@horshamu3a.org.au
SUMMARY:Table Tennis (Friday)
DESCRIPTION:With Graeme Kuhne \nTable tennis is held at the Table Tennis Association building 3 mornings per week.  Come along for a social game\, exercise and a lot of fun. Small cost per session.  $3.00 \nEvery Monday\, Wednesday and Friday at 9.00 am at the Table Tennis Association 
URL:https://horshamu3a.org.au/event/table-tennis-friday/2026-06-12/
LOCATION:Table Tennis Association\, 11 Harriett Street\, Horsham\, VIC\, 3400\, Australia
CATEGORIES:active
ATTACH;FMTTYPE=image/png:https://horshamu3a.org.au/wp-content/uploads/2024/01/table-tennis-2.png
END:VEVENT
BEGIN:VEVENT
DTSTART;TZID=Australia/Melbourne:20260615T090000
DTEND;TZID=Australia/Melbourne:20260615T170000
DTSTAMP:20260419T230922
CREATED:20260118T024328Z
LAST-MODIFIED:20260118T024328Z
UID:10016053-1781514000-1781542800@horshamu3a.org.au
SUMMARY:Table Tennis (Monday)
DESCRIPTION:With Graeme Kuhne \nTable tennis is held at the Table Tennis Association building 3 mornings per week.  Come along for a social game\, exercise and a lot of fun. Small cost per session.  $3.00 \nEvery Monday\, Wednesday and Friday at 9.00 am at the Table Tennis Association 
URL:https://horshamu3a.org.au/event/table-tennis-monday/2026-06-15/
LOCATION:Table Tennis Association\, 11 Harriett Street\, Horsham\, VIC\, 3400\, Australia
CATEGORIES:lifestyle
ATTACH;FMTTYPE=image/png:https://horshamu3a.org.au/wp-content/uploads/2025/01/table-tennis-monday-1.png
END:VEVENT
BEGIN:VEVENT
DTSTART;TZID=Australia/Melbourne:20260617T090000
DTEND;TZID=Australia/Melbourne:20260617T170000
DTSTAMP:20260419T230922
CREATED:20260119T045627Z
LAST-MODIFIED:20260119T045627Z
UID:10017514-1781686800-1781715600@horshamu3a.org.au
SUMMARY:Table Tennis (Wednesday)
DESCRIPTION:With Graeme Kuhne \nTable tennis is held at the Table Tennis Association building 3 mornings per week.  Come along for a social game\, exercise and a lot of fun. Small cost per session.  $3.00 \nEvery Monday\, Wednesday and Friday at 9.00 am at the Table Tennis Association 
URL:https://horshamu3a.org.au/event/table-tennis-wednesday/2026-06-17/
LOCATION:Table Tennis Association\, 11 Harriett Street\, Horsham\, VIC\, 3400\, Australia
CATEGORIES:active
ATTACH;FMTTYPE=image/png:https://horshamu3a.org.au/wp-content/uploads/2024/02/table-tennis-wednesday.png
ORGANIZER;CN="June Liddy":MAILTO:office@horshamu3a.org.au
END:VEVENT
BEGIN:VEVENT
DTSTART;TZID=Australia/Melbourne:20260619T083000
DTEND;TZID=Australia/Melbourne:20260619T120000
DTSTAMP:20260419T230922
CREATED:20260123T223524Z
LAST-MODIFIED:20260123T223524Z
UID:10019653-1781857800-1781870400@horshamu3a.org.au
SUMMARY:Table Tennis (Friday)
DESCRIPTION:With Graeme Kuhne \nTable tennis is held at the Table Tennis Association building 3 mornings per week.  Come along for a social game\, exercise and a lot of fun. Small cost per session.  $3.00 \nEvery Monday\, Wednesday and Friday at 9.00 am at the Table Tennis Association 
URL:https://horshamu3a.org.au/event/table-tennis-friday/2026-06-19/
LOCATION:Table Tennis Association\, 11 Harriett Street\, Horsham\, VIC\, 3400\, Australia
CATEGORIES:active
ATTACH;FMTTYPE=image/png:https://horshamu3a.org.au/wp-content/uploads/2024/01/table-tennis-2.png
END:VEVENT
BEGIN:VEVENT
DTSTART;TZID=Australia/Melbourne:20260622T090000
DTEND;TZID=Australia/Melbourne:20260622T170000
DTSTAMP:20260419T230922
CREATED:20260118T024328Z
LAST-MODIFIED:20260118T024328Z
UID:10016054-1782118800-1782147600@horshamu3a.org.au
SUMMARY:Table Tennis (Monday)
DESCRIPTION:With Graeme Kuhne \nTable tennis is held at the Table Tennis Association building 3 mornings per week.  Come along for a social game\, exercise and a lot of fun. Small cost per session.  $3.00 \nEvery Monday\, Wednesday and Friday at 9.00 am at the Table Tennis Association 
URL:https://horshamu3a.org.au/event/table-tennis-monday/2026-06-22/
LOCATION:Table Tennis Association\, 11 Harriett Street\, Horsham\, VIC\, 3400\, Australia
CATEGORIES:lifestyle
ATTACH;FMTTYPE=image/png:https://horshamu3a.org.au/wp-content/uploads/2025/01/table-tennis-monday-1.png
END:VEVENT
BEGIN:VEVENT
DTSTART;TZID=Australia/Melbourne:20260624T090000
DTEND;TZID=Australia/Melbourne:20260624T170000
DTSTAMP:20260419T230922
CREATED:20260119T045627Z
LAST-MODIFIED:20260119T045627Z
UID:10017515-1782291600-1782320400@horshamu3a.org.au
SUMMARY:Table Tennis (Wednesday)
DESCRIPTION:With Graeme Kuhne \nTable tennis is held at the Table Tennis Association building 3 mornings per week.  Come along for a social game\, exercise and a lot of fun. Small cost per session.  $3.00 \nEvery Monday\, Wednesday and Friday at 9.00 am at the Table Tennis Association 
URL:https://horshamu3a.org.au/event/table-tennis-wednesday/2026-06-24/
LOCATION:Table Tennis Association\, 11 Harriett Street\, Horsham\, VIC\, 3400\, Australia
CATEGORIES:active
ATTACH;FMTTYPE=image/png:https://horshamu3a.org.au/wp-content/uploads/2024/02/table-tennis-wednesday.png
ORGANIZER;CN="June Liddy":MAILTO:office@horshamu3a.org.au
END:VEVENT
BEGIN:VEVENT
DTSTART;TZID=Australia/Melbourne:20260626T083000
DTEND;TZID=Australia/Melbourne:20260626T120000
DTSTAMP:20260419T230922
CREATED:20260123T223524Z
LAST-MODIFIED:20260123T223524Z
UID:10019654-1782462600-1782475200@horshamu3a.org.au
SUMMARY:Table Tennis (Friday)
DESCRIPTION:With Graeme Kuhne \nTable tennis is held at the Table Tennis Association building 3 mornings per week.  Come along for a social game\, exercise and a lot of fun. Small cost per session.  $3.00 \nEvery Monday\, Wednesday and Friday at 9.00 am at the Table Tennis Association 
URL:https://horshamu3a.org.au/event/table-tennis-friday/2026-06-26/
LOCATION:Table Tennis Association\, 11 Harriett Street\, Horsham\, VIC\, 3400\, Australia
CATEGORIES:active
ATTACH;FMTTYPE=image/png:https://horshamu3a.org.au/wp-content/uploads/2024/01/table-tennis-2.png
END:VEVENT
BEGIN:VEVENT
DTSTART;TZID=Australia/Melbourne:20260629T090000
DTEND;TZID=Australia/Melbourne:20260629T170000
DTSTAMP:20260419T230922
CREATED:20260118T024328Z
LAST-MODIFIED:20260118T024328Z
UID:10016055-1782723600-1782752400@horshamu3a.org.au
SUMMARY:Table Tennis (Monday)
DESCRIPTION:With Graeme Kuhne \nTable tennis is held at the Table Tennis Association building 3 mornings per week.  Come along for a social game\, exercise and a lot of fun. Small cost per session.  $3.00 \nEvery Monday\, Wednesday and Friday at 9.00 am at the Table Tennis Association 
URL:https://horshamu3a.org.au/event/table-tennis-monday/2026-06-29/
LOCATION:Table Tennis Association\, 11 Harriett Street\, Horsham\, VIC\, 3400\, Australia
CATEGORIES:lifestyle
ATTACH;FMTTYPE=image/png:https://horshamu3a.org.au/wp-content/uploads/2025/01/table-tennis-monday-1.png
END:VEVENT
BEGIN:VEVENT
DTSTART;TZID=Australia/Melbourne:20260701T090000
DTEND;TZID=Australia/Melbourne:20260701T170000
DTSTAMP:20260419T230922
CREATED:20260119T045627Z
LAST-MODIFIED:20260119T045627Z
UID:10017516-1782896400-1782925200@horshamu3a.org.au
SUMMARY:Table Tennis (Wednesday)
DESCRIPTION:With Graeme Kuhne \nTable tennis is held at the Table Tennis Association building 3 mornings per week.  Come along for a social game\, exercise and a lot of fun. Small cost per session.  $3.00 \nEvery Monday\, Wednesday and Friday at 9.00 am at the Table Tennis Association 
URL:https://horshamu3a.org.au/event/table-tennis-wednesday/2026-07-01/
LOCATION:Table Tennis Association\, 11 Harriett Street\, Horsham\, VIC\, 3400\, Australia
CATEGORIES:active
ATTACH;FMTTYPE=image/png:https://horshamu3a.org.au/wp-content/uploads/2024/02/table-tennis-wednesday.png
ORGANIZER;CN="June Liddy":MAILTO:office@horshamu3a.org.au
END:VEVENT
BEGIN:VEVENT
DTSTART;TZID=Australia/Melbourne:20260703T083000
DTEND;TZID=Australia/Melbourne:20260703T120000
DTSTAMP:20260419T230922
CREATED:20260123T223524Z
LAST-MODIFIED:20260123T223524Z
UID:10019655-1783067400-1783080000@horshamu3a.org.au
SUMMARY:Table Tennis (Friday)
DESCRIPTION:With Graeme Kuhne \nTable tennis is held at the Table Tennis Association building 3 mornings per week.  Come along for a social game\, exercise and a lot of fun. Small cost per session.  $3.00 \nEvery Monday\, Wednesday and Friday at 9.00 am at the Table Tennis Association 
URL:https://horshamu3a.org.au/event/table-tennis-friday/2026-07-03/
LOCATION:Table Tennis Association\, 11 Harriett Street\, Horsham\, VIC\, 3400\, Australia
CATEGORIES:active
ATTACH;FMTTYPE=image/png:https://horshamu3a.org.au/wp-content/uploads/2024/01/table-tennis-2.png
END:VEVENT
BEGIN:VEVENT
DTSTART;TZID=Australia/Melbourne:20260706T090000
DTEND;TZID=Australia/Melbourne:20260706T170000
DTSTAMP:20260419T230922
CREATED:20260118T024328Z
LAST-MODIFIED:20260118T024328Z
UID:10016056-1783328400-1783357200@horshamu3a.org.au
SUMMARY:Table Tennis (Monday)
DESCRIPTION:With Graeme Kuhne \nTable tennis is held at the Table Tennis Association building 3 mornings per week.  Come along for a social game\, exercise and a lot of fun. Small cost per session.  $3.00 \nEvery Monday\, Wednesday and Friday at 9.00 am at the Table Tennis Association 
URL:https://horshamu3a.org.au/event/table-tennis-monday/2026-07-06/
LOCATION:Table Tennis Association\, 11 Harriett Street\, Horsham\, VIC\, 3400\, Australia
CATEGORIES:lifestyle
ATTACH;FMTTYPE=image/png:https://horshamu3a.org.au/wp-content/uploads/2025/01/table-tennis-monday-1.png
END:VEVENT
BEGIN:VEVENT
DTSTART;TZID=Australia/Melbourne:20260708T090000
DTEND;TZID=Australia/Melbourne:20260708T170000
DTSTAMP:20260419T230922
CREATED:20260119T045627Z
LAST-MODIFIED:20260119T045627Z
UID:10017517-1783501200-1783530000@horshamu3a.org.au
SUMMARY:Table Tennis (Wednesday)
DESCRIPTION:With Graeme Kuhne \nTable tennis is held at the Table Tennis Association building 3 mornings per week.  Come along for a social game\, exercise and a lot of fun. Small cost per session.  $3.00 \nEvery Monday\, Wednesday and Friday at 9.00 am at the Table Tennis Association 
URL:https://horshamu3a.org.au/event/table-tennis-wednesday/2026-07-08/
LOCATION:Table Tennis Association\, 11 Harriett Street\, Horsham\, VIC\, 3400\, Australia
CATEGORIES:active
ATTACH;FMTTYPE=image/png:https://horshamu3a.org.au/wp-content/uploads/2024/02/table-tennis-wednesday.png
ORGANIZER;CN="June Liddy":MAILTO:office@horshamu3a.org.au
END:VEVENT
BEGIN:VEVENT
DTSTART;TZID=Australia/Melbourne:20260710T083000
DTEND;TZID=Australia/Melbourne:20260710T120000
DTSTAMP:20260419T230922
CREATED:20260123T223524Z
LAST-MODIFIED:20260123T223524Z
UID:10019656-1783672200-1783684800@horshamu3a.org.au
SUMMARY:Table Tennis (Friday)
DESCRIPTION:With Graeme Kuhne \nTable tennis is held at the Table Tennis Association building 3 mornings per week.  Come along for a social game\, exercise and a lot of fun. Small cost per session.  $3.00 \nEvery Monday\, Wednesday and Friday at 9.00 am at the Table Tennis Association 
URL:https://horshamu3a.org.au/event/table-tennis-friday/2026-07-10/
LOCATION:Table Tennis Association\, 11 Harriett Street\, Horsham\, VIC\, 3400\, Australia
CATEGORIES:active
ATTACH;FMTTYPE=image/png:https://horshamu3a.org.au/wp-content/uploads/2024/01/table-tennis-2.png
END:VEVENT
BEGIN:VEVENT
DTSTART;TZID=Australia/Melbourne:20260713T090000
DTEND;TZID=Australia/Melbourne:20260713T170000
DTSTAMP:20260419T230922
CREATED:20260118T024328Z
LAST-MODIFIED:20260118T024328Z
UID:10016057-1783933200-1783962000@horshamu3a.org.au
SUMMARY:Table Tennis (Monday)
DESCRIPTION:With Graeme Kuhne \nTable tennis is held at the Table Tennis Association building 3 mornings per week.  Come along for a social game\, exercise and a lot of fun. Small cost per session.  $3.00 \nEvery Monday\, Wednesday and Friday at 9.00 am at the Table Tennis Association 
URL:https://horshamu3a.org.au/event/table-tennis-monday/2026-07-13/
LOCATION:Table Tennis Association\, 11 Harriett Street\, Horsham\, VIC\, 3400\, Australia
CATEGORIES:lifestyle
ATTACH;FMTTYPE=image/png:https://horshamu3a.org.au/wp-content/uploads/2025/01/table-tennis-monday-1.png
END:VEVENT
BEGIN:VEVENT
DTSTART;TZID=Australia/Melbourne:20260715T090000
DTEND;TZID=Australia/Melbourne:20260715T170000
DTSTAMP:20260419T230922
CREATED:20260119T045627Z
LAST-MODIFIED:20260119T045627Z
UID:10017518-1784106000-1784134800@horshamu3a.org.au
SUMMARY:Table Tennis (Wednesday)
DESCRIPTION:With Graeme Kuhne \nTable tennis is held at the Table Tennis Association building 3 mornings per week.  Come along for a social game\, exercise and a lot of fun. Small cost per session.  $3.00 \nEvery Monday\, Wednesday and Friday at 9.00 am at the Table Tennis Association 
URL:https://horshamu3a.org.au/event/table-tennis-wednesday/2026-07-15/
LOCATION:Table Tennis Association\, 11 Harriett Street\, Horsham\, VIC\, 3400\, Australia
CATEGORIES:active
ATTACH;FMTTYPE=image/png:https://horshamu3a.org.au/wp-content/uploads/2024/02/table-tennis-wednesday.png
ORGANIZER;CN="June Liddy":MAILTO:office@horshamu3a.org.au
END:VEVENT
BEGIN:VEVENT
DTSTART;TZID=Australia/Melbourne:20260717T083000
DTEND;TZID=Australia/Melbourne:20260717T120000
DTSTAMP:20260419T230922
CREATED:20260123T223524Z
LAST-MODIFIED:20260123T223524Z
UID:10019657-1784277000-1784289600@horshamu3a.org.au
SUMMARY:Table Tennis (Friday)
DESCRIPTION:With Graeme Kuhne \nTable tennis is held at the Table Tennis Association building 3 mornings per week.  Come along for a social game\, exercise and a lot of fun. Small cost per session.  $3.00 \nEvery Monday\, Wednesday and Friday at 9.00 am at the Table Tennis Association 
URL:https://horshamu3a.org.au/event/table-tennis-friday/2026-07-17/
LOCATION:Table Tennis Association\, 11 Harriett Street\, Horsham\, VIC\, 3400\, Australia
CATEGORIES:active
ATTACH;FMTTYPE=image/png:https://horshamu3a.org.au/wp-content/uploads/2024/01/table-tennis-2.png
END:VEVENT
BEGIN:VEVENT
DTSTART;TZID=Australia/Melbourne:20260720T090000
DTEND;TZID=Australia/Melbourne:20260720T170000
DTSTAMP:20260419T230922
CREATED:20260118T024328Z
LAST-MODIFIED:20260118T024328Z
UID:10016058-1784538000-1784566800@horshamu3a.org.au
SUMMARY:Table Tennis (Monday)
DESCRIPTION:With Graeme Kuhne \nTable tennis is held at the Table Tennis Association building 3 mornings per week.  Come along for a social game\, exercise and a lot of fun. Small cost per session.  $3.00 \nEvery Monday\, Wednesday and Friday at 9.00 am at the Table Tennis Association 
URL:https://horshamu3a.org.au/event/table-tennis-monday/2026-07-20/
LOCATION:Table Tennis Association\, 11 Harriett Street\, Horsham\, VIC\, 3400\, Australia
CATEGORIES:lifestyle
ATTACH;FMTTYPE=image/png:https://horshamu3a.org.au/wp-content/uploads/2025/01/table-tennis-monday-1.png
END:VEVENT
BEGIN:VEVENT
DTSTART;TZID=Australia/Melbourne:20260722T090000
DTEND;TZID=Australia/Melbourne:20260722T170000
DTSTAMP:20260419T230922
CREATED:20260119T045627Z
LAST-MODIFIED:20260119T045627Z
UID:10017519-1784710800-1784739600@horshamu3a.org.au
SUMMARY:Table Tennis (Wednesday)
DESCRIPTION:With Graeme Kuhne \nTable tennis is held at the Table Tennis Association building 3 mornings per week.  Come along for a social game\, exercise and a lot of fun. Small cost per session.  $3.00 \nEvery Monday\, Wednesday and Friday at 9.00 am at the Table Tennis Association 
URL:https://horshamu3a.org.au/event/table-tennis-wednesday/2026-07-22/
LOCATION:Table Tennis Association\, 11 Harriett Street\, Horsham\, VIC\, 3400\, Australia
CATEGORIES:active
ATTACH;FMTTYPE=image/png:https://horshamu3a.org.au/wp-content/uploads/2024/02/table-tennis-wednesday.png
ORGANIZER;CN="June Liddy":MAILTO:office@horshamu3a.org.au
END:VEVENT
BEGIN:VEVENT
DTSTART;TZID=Australia/Melbourne:20260724T083000
DTEND;TZID=Australia/Melbourne:20260724T120000
DTSTAMP:20260419T230922
CREATED:20260123T223524Z
LAST-MODIFIED:20260123T223524Z
UID:10019658-1784881800-1784894400@horshamu3a.org.au
SUMMARY:Table Tennis (Friday)
DESCRIPTION:With Graeme Kuhne \nTable tennis is held at the Table Tennis Association building 3 mornings per week.  Come along for a social game\, exercise and a lot of fun. Small cost per session.  $3.00 \nEvery Monday\, Wednesday and Friday at 9.00 am at the Table Tennis Association 
URL:https://horshamu3a.org.au/event/table-tennis-friday/2026-07-24/
LOCATION:Table Tennis Association\, 11 Harriett Street\, Horsham\, VIC\, 3400\, Australia
CATEGORIES:active
ATTACH;FMTTYPE=image/png:https://horshamu3a.org.au/wp-content/uploads/2024/01/table-tennis-2.png
END:VEVENT
BEGIN:VEVENT
DTSTART;TZID=Australia/Melbourne:20260727T090000
DTEND;TZID=Australia/Melbourne:20260727T170000
DTSTAMP:20260419T230922
CREATED:20260118T024328Z
LAST-MODIFIED:20260118T024328Z
UID:10016059-1785142800-1785171600@horshamu3a.org.au
SUMMARY:Table Tennis (Monday)
DESCRIPTION:With Graeme Kuhne \nTable tennis is held at the Table Tennis Association building 3 mornings per week.  Come along for a social game\, exercise and a lot of fun. Small cost per session.  $3.00 \nEvery Monday\, Wednesday and Friday at 9.00 am at the Table Tennis Association 
URL:https://horshamu3a.org.au/event/table-tennis-monday/2026-07-27/
LOCATION:Table Tennis Association\, 11 Harriett Street\, Horsham\, VIC\, 3400\, Australia
CATEGORIES:lifestyle
ATTACH;FMTTYPE=image/png:https://horshamu3a.org.au/wp-content/uploads/2025/01/table-tennis-monday-1.png
END:VEVENT
BEGIN:VEVENT
DTSTART;TZID=Australia/Melbourne:20260729T090000
DTEND;TZID=Australia/Melbourne:20260729T170000
DTSTAMP:20260419T230922
CREATED:20260119T045627Z
LAST-MODIFIED:20260119T045627Z
UID:10017520-1785315600-1785344400@horshamu3a.org.au
SUMMARY:Table Tennis (Wednesday)
DESCRIPTION:With Graeme Kuhne \nTable tennis is held at the Table Tennis Association building 3 mornings per week.  Come along for a social game\, exercise and a lot of fun. Small cost per session.  $3.00 \nEvery Monday\, Wednesday and Friday at 9.00 am at the Table Tennis Association 
URL:https://horshamu3a.org.au/event/table-tennis-wednesday/2026-07-29/
LOCATION:Table Tennis Association\, 11 Harriett Street\, Horsham\, VIC\, 3400\, Australia
CATEGORIES:active
ATTACH;FMTTYPE=image/png:https://horshamu3a.org.au/wp-content/uploads/2024/02/table-tennis-wednesday.png
ORGANIZER;CN="June Liddy":MAILTO:office@horshamu3a.org.au
END:VEVENT
BEGIN:VEVENT
DTSTART;TZID=Australia/Melbourne:20260731T083000
DTEND;TZID=Australia/Melbourne:20260731T120000
DTSTAMP:20260419T230922
CREATED:20260123T223524Z
LAST-MODIFIED:20260123T223524Z
UID:10019659-1785486600-1785499200@horshamu3a.org.au
SUMMARY:Table Tennis (Friday)
DESCRIPTION:With Graeme Kuhne \nTable tennis is held at the Table Tennis Association building 3 mornings per week.  Come along for a social game\, exercise and a lot of fun. Small cost per session.  $3.00 \nEvery Monday\, Wednesday and Friday at 9.00 am at the Table Tennis Association 
URL:https://horshamu3a.org.au/event/table-tennis-friday/2026-07-31/
LOCATION:Table Tennis Association\, 11 Harriett Street\, Horsham\, VIC\, 3400\, Australia
CATEGORIES:active
ATTACH;FMTTYPE=image/png:https://horshamu3a.org.au/wp-content/uploads/2024/01/table-tennis-2.png
END:VEVENT
BEGIN:VEVENT
DTSTART;TZID=Australia/Melbourne:20260803T090000
DTEND;TZID=Australia/Melbourne:20260803T170000
DTSTAMP:20260419T230922
CREATED:20260118T024328Z
LAST-MODIFIED:20260118T024328Z
UID:10016060-1785747600-1785776400@horshamu3a.org.au
SUMMARY:Table Tennis (Monday)
DESCRIPTION:With Graeme Kuhne \nTable tennis is held at the Table Tennis Association building 3 mornings per week.  Come along for a social game\, exercise and a lot of fun. Small cost per session.  $3.00 \nEvery Monday\, Wednesday and Friday at 9.00 am at the Table Tennis Association 
URL:https://horshamu3a.org.au/event/table-tennis-monday/2026-08-03/
LOCATION:Table Tennis Association\, 11 Harriett Street\, Horsham\, VIC\, 3400\, Australia
CATEGORIES:lifestyle
ATTACH;FMTTYPE=image/png:https://horshamu3a.org.au/wp-content/uploads/2025/01/table-tennis-monday-1.png
END:VEVENT
BEGIN:VEVENT
DTSTART;TZID=Australia/Melbourne:20260805T090000
DTEND;TZID=Australia/Melbourne:20260805T170000
DTSTAMP:20260419T230923
CREATED:20260119T045627Z
LAST-MODIFIED:20260119T045627Z
UID:10017521-1785920400-1785949200@horshamu3a.org.au
SUMMARY:Table Tennis (Wednesday)
DESCRIPTION:With Graeme Kuhne \nTable tennis is held at the Table Tennis Association building 3 mornings per week.  Come along for a social game\, exercise and a lot of fun. Small cost per session.  $3.00 \nEvery Monday\, Wednesday and Friday at 9.00 am at the Table Tennis Association 
URL:https://horshamu3a.org.au/event/table-tennis-wednesday/2026-08-05/
LOCATION:Table Tennis Association\, 11 Harriett Street\, Horsham\, VIC\, 3400\, Australia
CATEGORIES:active
ATTACH;FMTTYPE=image/png:https://horshamu3a.org.au/wp-content/uploads/2024/02/table-tennis-wednesday.png
ORGANIZER;CN="June Liddy":MAILTO:office@horshamu3a.org.au
END:VEVENT
BEGIN:VEVENT
DTSTART;TZID=Australia/Melbourne:20260807T083000
DTEND;TZID=Australia/Melbourne:20260807T120000
DTSTAMP:20260419T230923
CREATED:20260123T223524Z
LAST-MODIFIED:20260123T223524Z
UID:10019660-1786091400-1786104000@horshamu3a.org.au
SUMMARY:Table Tennis (Friday)
DESCRIPTION:With Graeme Kuhne \nTable tennis is held at the Table Tennis Association building 3 mornings per week.  Come along for a social game\, exercise and a lot of fun. Small cost per session.  $3.00 \nEvery Monday\, Wednesday and Friday at 9.00 am at the Table Tennis Association 
URL:https://horshamu3a.org.au/event/table-tennis-friday/2026-08-07/
LOCATION:Table Tennis Association\, 11 Harriett Street\, Horsham\, VIC\, 3400\, Australia
CATEGORIES:active
ATTACH;FMTTYPE=image/png:https://horshamu3a.org.au/wp-content/uploads/2024/01/table-tennis-2.png
END:VEVENT
END:VCALENDAR