BEGIN:VCALENDAR
VERSION:2.0
PRODID:-//U3A - ECPv6.15.20//NONSGML v1.0//EN
CALSCALE:GREGORIAN
METHOD:PUBLISH
X-ORIGINAL-URL:https://horshamu3a.org.au
X-WR-CALDESC:Events for U3A
REFRESH-INTERVAL;VALUE=DURATION:PT1H
X-Robots-Tag:noindex
X-PUBLISHED-TTL:PT1H
BEGIN:VTIMEZONE
TZID:Australia/Melbourne
BEGIN:STANDARD
TZOFFSETFROM:+1100
TZOFFSETTO:+1000
TZNAME:AEST
DTSTART:20260404T160000
END:STANDARD
BEGIN:DAYLIGHT
TZOFFSETFROM:+1000
TZOFFSETTO:+1100
TZNAME:AEDT
DTSTART:20261003T160000
END:DAYLIGHT
BEGIN:STANDARD
TZOFFSETFROM:+1100
TZOFFSETTO:+1000
TZNAME:AEST
DTSTART:20270403T160000
END:STANDARD
BEGIN:DAYLIGHT
TZOFFSETFROM:+1000
TZOFFSETTO:+1100
TZNAME:AEDT
DTSTART:20271002T160000
END:DAYLIGHT
BEGIN:STANDARD
TZOFFSETFROM:+1100
TZOFFSETTO:+1000
TZNAME:AEST
DTSTART:20280401T160000
END:STANDARD
BEGIN:DAYLIGHT
TZOFFSETFROM:+1000
TZOFFSETTO:+1100
TZNAME:AEDT
DTSTART:20280930T160000
END:DAYLIGHT
END:VTIMEZONE
BEGIN:VEVENT
DTSTART;TZID=Australia/Melbourne:20270330T100000
DTEND;TZID=Australia/Melbourne:20270330T120000
DTSTAMP:20260423T015445
CREATED:20260119T042808Z
LAST-MODIFIED:20260119T045145Z
UID:10017035-1806400800-1806408000@horshamu3a.org.au
SUMMARY:Art: Pastels & Water Colours
DESCRIPTION:With Robin Ellis. \nThis group meets to learn and practice new skills in Acrylic and Water Colour Painting and Pastel and Pencil Drawing. Come along and join in and learn new skills.
URL:https://horshamu3a.org.au/event/art-pastels-water-colours/2027-03-30/
LOCATION:Railway Station\, 23 Railway Avenue\, Horsham\, VIC\, 3400\, Australia
CATEGORIES:craft
ATTACH;FMTTYPE=image/png:https://horshamu3a.org.au/wp-content/uploads/2024/02/Pastels-Water-Colours.png
END:VEVENT
BEGIN:VEVENT
DTSTART;TZID=Australia/Melbourne:20270406T100000
DTEND;TZID=Australia/Melbourne:20270406T120000
DTSTAMP:20260423T015445
CREATED:20260119T042808Z
LAST-MODIFIED:20260119T045145Z
UID:10017036-1807005600-1807012800@horshamu3a.org.au
SUMMARY:Art: Pastels & Water Colours
DESCRIPTION:With Robin Ellis. \nThis group meets to learn and practice new skills in Acrylic and Water Colour Painting and Pastel and Pencil Drawing. Come along and join in and learn new skills.
URL:https://horshamu3a.org.au/event/art-pastels-water-colours/2027-04-06/
LOCATION:Railway Station\, 23 Railway Avenue\, Horsham\, VIC\, 3400\, Australia
CATEGORIES:craft
ATTACH;FMTTYPE=image/png:https://horshamu3a.org.au/wp-content/uploads/2024/02/Pastels-Water-Colours.png
END:VEVENT
BEGIN:VEVENT
DTSTART;TZID=Australia/Melbourne:20270413T100000
DTEND;TZID=Australia/Melbourne:20270413T120000
DTSTAMP:20260423T015445
CREATED:20260119T042808Z
LAST-MODIFIED:20260119T045145Z
UID:10017037-1807610400-1807617600@horshamu3a.org.au
SUMMARY:Art: Pastels & Water Colours
DESCRIPTION:With Robin Ellis. \nThis group meets to learn and practice new skills in Acrylic and Water Colour Painting and Pastel and Pencil Drawing. Come along and join in and learn new skills.
URL:https://horshamu3a.org.au/event/art-pastels-water-colours/2027-04-13/
LOCATION:Railway Station\, 23 Railway Avenue\, Horsham\, VIC\, 3400\, Australia
CATEGORIES:craft
ATTACH;FMTTYPE=image/png:https://horshamu3a.org.au/wp-content/uploads/2024/02/Pastels-Water-Colours.png
END:VEVENT
BEGIN:VEVENT
DTSTART;TZID=Australia/Melbourne:20270420T100000
DTEND;TZID=Australia/Melbourne:20270420T120000
DTSTAMP:20260423T015445
CREATED:20260119T042808Z
LAST-MODIFIED:20260119T045145Z
UID:10017038-1808215200-1808222400@horshamu3a.org.au
SUMMARY:Art: Pastels & Water Colours
DESCRIPTION:With Robin Ellis. \nThis group meets to learn and practice new skills in Acrylic and Water Colour Painting and Pastel and Pencil Drawing. Come along and join in and learn new skills.
URL:https://horshamu3a.org.au/event/art-pastels-water-colours/2027-04-20/
LOCATION:Railway Station\, 23 Railway Avenue\, Horsham\, VIC\, 3400\, Australia
CATEGORIES:craft
ATTACH;FMTTYPE=image/png:https://horshamu3a.org.au/wp-content/uploads/2024/02/Pastels-Water-Colours.png
END:VEVENT
BEGIN:VEVENT
DTSTART;TZID=Australia/Melbourne:20270427T100000
DTEND;TZID=Australia/Melbourne:20270427T120000
DTSTAMP:20260423T015445
CREATED:20260119T042808Z
LAST-MODIFIED:20260119T045145Z
UID:10017039-1808820000-1808827200@horshamu3a.org.au
SUMMARY:Art: Pastels & Water Colours
DESCRIPTION:With Robin Ellis. \nThis group meets to learn and practice new skills in Acrylic and Water Colour Painting and Pastel and Pencil Drawing. Come along and join in and learn new skills.
URL:https://horshamu3a.org.au/event/art-pastels-water-colours/2027-04-27/
LOCATION:Railway Station\, 23 Railway Avenue\, Horsham\, VIC\, 3400\, Australia
CATEGORIES:craft
ATTACH;FMTTYPE=image/png:https://horshamu3a.org.au/wp-content/uploads/2024/02/Pastels-Water-Colours.png
END:VEVENT
BEGIN:VEVENT
DTSTART;TZID=Australia/Melbourne:20270504T100000
DTEND;TZID=Australia/Melbourne:20270504T120000
DTSTAMP:20260423T015445
CREATED:20260119T042808Z
LAST-MODIFIED:20260119T045145Z
UID:10017040-1809424800-1809432000@horshamu3a.org.au
SUMMARY:Art: Pastels & Water Colours
DESCRIPTION:With Robin Ellis. \nThis group meets to learn and practice new skills in Acrylic and Water Colour Painting and Pastel and Pencil Drawing. Come along and join in and learn new skills.
URL:https://horshamu3a.org.au/event/art-pastels-water-colours/2027-05-04/
LOCATION:Railway Station\, 23 Railway Avenue\, Horsham\, VIC\, 3400\, Australia
CATEGORIES:craft
ATTACH;FMTTYPE=image/png:https://horshamu3a.org.au/wp-content/uploads/2024/02/Pastels-Water-Colours.png
END:VEVENT
BEGIN:VEVENT
DTSTART;TZID=Australia/Melbourne:20270511T100000
DTEND;TZID=Australia/Melbourne:20270511T120000
DTSTAMP:20260423T015445
CREATED:20260119T042808Z
LAST-MODIFIED:20260119T045145Z
UID:10017041-1810029600-1810036800@horshamu3a.org.au
SUMMARY:Art: Pastels & Water Colours
DESCRIPTION:With Robin Ellis. \nThis group meets to learn and practice new skills in Acrylic and Water Colour Painting and Pastel and Pencil Drawing. Come along and join in and learn new skills.
URL:https://horshamu3a.org.au/event/art-pastels-water-colours/2027-05-11/
LOCATION:Railway Station\, 23 Railway Avenue\, Horsham\, VIC\, 3400\, Australia
CATEGORIES:craft
ATTACH;FMTTYPE=image/png:https://horshamu3a.org.au/wp-content/uploads/2024/02/Pastels-Water-Colours.png
END:VEVENT
BEGIN:VEVENT
DTSTART;TZID=Australia/Melbourne:20270518T100000
DTEND;TZID=Australia/Melbourne:20270518T120000
DTSTAMP:20260423T015445
CREATED:20260119T042808Z
LAST-MODIFIED:20260119T045145Z
UID:10017042-1810634400-1810641600@horshamu3a.org.au
SUMMARY:Art: Pastels & Water Colours
DESCRIPTION:With Robin Ellis. \nThis group meets to learn and practice new skills in Acrylic and Water Colour Painting and Pastel and Pencil Drawing. Come along and join in and learn new skills.
URL:https://horshamu3a.org.au/event/art-pastels-water-colours/2027-05-18/
LOCATION:Railway Station\, 23 Railway Avenue\, Horsham\, VIC\, 3400\, Australia
CATEGORIES:craft
ATTACH;FMTTYPE=image/png:https://horshamu3a.org.au/wp-content/uploads/2024/02/Pastels-Water-Colours.png
END:VEVENT
BEGIN:VEVENT
DTSTART;TZID=Australia/Melbourne:20270525T100000
DTEND;TZID=Australia/Melbourne:20270525T120000
DTSTAMP:20260423T015445
CREATED:20260119T042808Z
LAST-MODIFIED:20260119T045145Z
UID:10017043-1811239200-1811246400@horshamu3a.org.au
SUMMARY:Art: Pastels & Water Colours
DESCRIPTION:With Robin Ellis. \nThis group meets to learn and practice new skills in Acrylic and Water Colour Painting and Pastel and Pencil Drawing. Come along and join in and learn new skills.
URL:https://horshamu3a.org.au/event/art-pastels-water-colours/2027-05-25/
LOCATION:Railway Station\, 23 Railway Avenue\, Horsham\, VIC\, 3400\, Australia
CATEGORIES:craft
ATTACH;FMTTYPE=image/png:https://horshamu3a.org.au/wp-content/uploads/2024/02/Pastels-Water-Colours.png
END:VEVENT
BEGIN:VEVENT
DTSTART;TZID=Australia/Melbourne:20270601T100000
DTEND;TZID=Australia/Melbourne:20270601T120000
DTSTAMP:20260423T015445
CREATED:20260119T042808Z
LAST-MODIFIED:20260119T045145Z
UID:10017044-1811844000-1811851200@horshamu3a.org.au
SUMMARY:Art: Pastels & Water Colours
DESCRIPTION:With Robin Ellis. \nThis group meets to learn and practice new skills in Acrylic and Water Colour Painting and Pastel and Pencil Drawing. Come along and join in and learn new skills.
URL:https://horshamu3a.org.au/event/art-pastels-water-colours/2027-06-01/
LOCATION:Railway Station\, 23 Railway Avenue\, Horsham\, VIC\, 3400\, Australia
CATEGORIES:craft
ATTACH;FMTTYPE=image/png:https://horshamu3a.org.au/wp-content/uploads/2024/02/Pastels-Water-Colours.png
END:VEVENT
BEGIN:VEVENT
DTSTART;TZID=Australia/Melbourne:20270608T100000
DTEND;TZID=Australia/Melbourne:20270608T120000
DTSTAMP:20260423T015445
CREATED:20260119T042808Z
LAST-MODIFIED:20260119T045145Z
UID:10017045-1812448800-1812456000@horshamu3a.org.au
SUMMARY:Art: Pastels & Water Colours
DESCRIPTION:With Robin Ellis. \nThis group meets to learn and practice new skills in Acrylic and Water Colour Painting and Pastel and Pencil Drawing. Come along and join in and learn new skills.
URL:https://horshamu3a.org.au/event/art-pastels-water-colours/2027-06-08/
LOCATION:Railway Station\, 23 Railway Avenue\, Horsham\, VIC\, 3400\, Australia
CATEGORIES:craft
ATTACH;FMTTYPE=image/png:https://horshamu3a.org.au/wp-content/uploads/2024/02/Pastels-Water-Colours.png
END:VEVENT
BEGIN:VEVENT
DTSTART;TZID=Australia/Melbourne:20270615T100000
DTEND;TZID=Australia/Melbourne:20270615T120000
DTSTAMP:20260423T015445
CREATED:20260119T042808Z
LAST-MODIFIED:20260119T045145Z
UID:10017046-1813053600-1813060800@horshamu3a.org.au
SUMMARY:Art: Pastels & Water Colours
DESCRIPTION:With Robin Ellis. \nThis group meets to learn and practice new skills in Acrylic and Water Colour Painting and Pastel and Pencil Drawing. Come along and join in and learn new skills.
URL:https://horshamu3a.org.au/event/art-pastels-water-colours/2027-06-15/
LOCATION:Railway Station\, 23 Railway Avenue\, Horsham\, VIC\, 3400\, Australia
CATEGORIES:craft
ATTACH;FMTTYPE=image/png:https://horshamu3a.org.au/wp-content/uploads/2024/02/Pastels-Water-Colours.png
END:VEVENT
BEGIN:VEVENT
DTSTART;TZID=Australia/Melbourne:20270622T100000
DTEND;TZID=Australia/Melbourne:20270622T120000
DTSTAMP:20260423T015445
CREATED:20260119T042808Z
LAST-MODIFIED:20260119T045145Z
UID:10017047-1813658400-1813665600@horshamu3a.org.au
SUMMARY:Art: Pastels & Water Colours
DESCRIPTION:With Robin Ellis. \nThis group meets to learn and practice new skills in Acrylic and Water Colour Painting and Pastel and Pencil Drawing. Come along and join in and learn new skills.
URL:https://horshamu3a.org.au/event/art-pastels-water-colours/2027-06-22/
LOCATION:Railway Station\, 23 Railway Avenue\, Horsham\, VIC\, 3400\, Australia
CATEGORIES:craft
ATTACH;FMTTYPE=image/png:https://horshamu3a.org.au/wp-content/uploads/2024/02/Pastels-Water-Colours.png
END:VEVENT
BEGIN:VEVENT
DTSTART;TZID=Australia/Melbourne:20270629T100000
DTEND;TZID=Australia/Melbourne:20270629T120000
DTSTAMP:20260423T015445
CREATED:20260119T042808Z
LAST-MODIFIED:20260119T045145Z
UID:10017048-1814263200-1814270400@horshamu3a.org.au
SUMMARY:Art: Pastels & Water Colours
DESCRIPTION:With Robin Ellis. \nThis group meets to learn and practice new skills in Acrylic and Water Colour Painting and Pastel and Pencil Drawing. Come along and join in and learn new skills.
URL:https://horshamu3a.org.au/event/art-pastels-water-colours/2027-06-29/
LOCATION:Railway Station\, 23 Railway Avenue\, Horsham\, VIC\, 3400\, Australia
CATEGORIES:craft
ATTACH;FMTTYPE=image/png:https://horshamu3a.org.au/wp-content/uploads/2024/02/Pastels-Water-Colours.png
END:VEVENT
BEGIN:VEVENT
DTSTART;TZID=Australia/Melbourne:20270706T100000
DTEND;TZID=Australia/Melbourne:20270706T120000
DTSTAMP:20260423T015445
CREATED:20260119T042808Z
LAST-MODIFIED:20260119T045145Z
UID:10017049-1814868000-1814875200@horshamu3a.org.au
SUMMARY:Art: Pastels & Water Colours
DESCRIPTION:With Robin Ellis. \nThis group meets to learn and practice new skills in Acrylic and Water Colour Painting and Pastel and Pencil Drawing. Come along and join in and learn new skills.
URL:https://horshamu3a.org.au/event/art-pastels-water-colours/2027-07-06/
LOCATION:Railway Station\, 23 Railway Avenue\, Horsham\, VIC\, 3400\, Australia
CATEGORIES:craft
ATTACH;FMTTYPE=image/png:https://horshamu3a.org.au/wp-content/uploads/2024/02/Pastels-Water-Colours.png
END:VEVENT
BEGIN:VEVENT
DTSTART;TZID=Australia/Melbourne:20270713T100000
DTEND;TZID=Australia/Melbourne:20270713T120000
DTSTAMP:20260423T015445
CREATED:20260119T042808Z
LAST-MODIFIED:20260119T045145Z
UID:10017050-1815472800-1815480000@horshamu3a.org.au
SUMMARY:Art: Pastels & Water Colours
DESCRIPTION:With Robin Ellis. \nThis group meets to learn and practice new skills in Acrylic and Water Colour Painting and Pastel and Pencil Drawing. Come along and join in and learn new skills.
URL:https://horshamu3a.org.au/event/art-pastels-water-colours/2027-07-13/
LOCATION:Railway Station\, 23 Railway Avenue\, Horsham\, VIC\, 3400\, Australia
CATEGORIES:craft
ATTACH;FMTTYPE=image/png:https://horshamu3a.org.au/wp-content/uploads/2024/02/Pastels-Water-Colours.png
END:VEVENT
BEGIN:VEVENT
DTSTART;TZID=Australia/Melbourne:20270720T100000
DTEND;TZID=Australia/Melbourne:20270720T120000
DTSTAMP:20260423T015445
CREATED:20260119T042808Z
LAST-MODIFIED:20260119T045145Z
UID:10017051-1816077600-1816084800@horshamu3a.org.au
SUMMARY:Art: Pastels & Water Colours
DESCRIPTION:With Robin Ellis. \nThis group meets to learn and practice new skills in Acrylic and Water Colour Painting and Pastel and Pencil Drawing. Come along and join in and learn new skills.
URL:https://horshamu3a.org.au/event/art-pastels-water-colours/2027-07-20/
LOCATION:Railway Station\, 23 Railway Avenue\, Horsham\, VIC\, 3400\, Australia
CATEGORIES:craft
ATTACH;FMTTYPE=image/png:https://horshamu3a.org.au/wp-content/uploads/2024/02/Pastels-Water-Colours.png
END:VEVENT
BEGIN:VEVENT
DTSTART;TZID=Australia/Melbourne:20270727T100000
DTEND;TZID=Australia/Melbourne:20270727T120000
DTSTAMP:20260423T015445
CREATED:20260119T042808Z
LAST-MODIFIED:20260119T045145Z
UID:10017052-1816682400-1816689600@horshamu3a.org.au
SUMMARY:Art: Pastels & Water Colours
DESCRIPTION:With Robin Ellis. \nThis group meets to learn and practice new skills in Acrylic and Water Colour Painting and Pastel and Pencil Drawing. Come along and join in and learn new skills.
URL:https://horshamu3a.org.au/event/art-pastels-water-colours/2027-07-27/
LOCATION:Railway Station\, 23 Railway Avenue\, Horsham\, VIC\, 3400\, Australia
CATEGORIES:craft
ATTACH;FMTTYPE=image/png:https://horshamu3a.org.au/wp-content/uploads/2024/02/Pastels-Water-Colours.png
END:VEVENT
BEGIN:VEVENT
DTSTART;TZID=Australia/Melbourne:20270803T100000
DTEND;TZID=Australia/Melbourne:20270803T120000
DTSTAMP:20260423T015445
CREATED:20260119T042808Z
LAST-MODIFIED:20260119T045145Z
UID:10017053-1817287200-1817294400@horshamu3a.org.au
SUMMARY:Art: Pastels & Water Colours
DESCRIPTION:With Robin Ellis. \nThis group meets to learn and practice new skills in Acrylic and Water Colour Painting and Pastel and Pencil Drawing. Come along and join in and learn new skills.
URL:https://horshamu3a.org.au/event/art-pastels-water-colours/2027-08-03/
LOCATION:Railway Station\, 23 Railway Avenue\, Horsham\, VIC\, 3400\, Australia
CATEGORIES:craft
ATTACH;FMTTYPE=image/png:https://horshamu3a.org.au/wp-content/uploads/2024/02/Pastels-Water-Colours.png
END:VEVENT
BEGIN:VEVENT
DTSTART;TZID=Australia/Melbourne:20270810T100000
DTEND;TZID=Australia/Melbourne:20270810T120000
DTSTAMP:20260423T015445
CREATED:20260119T042808Z
LAST-MODIFIED:20260119T045145Z
UID:10017054-1817892000-1817899200@horshamu3a.org.au
SUMMARY:Art: Pastels & Water Colours
DESCRIPTION:With Robin Ellis. \nThis group meets to learn and practice new skills in Acrylic and Water Colour Painting and Pastel and Pencil Drawing. Come along and join in and learn new skills.
URL:https://horshamu3a.org.au/event/art-pastels-water-colours/2027-08-10/
LOCATION:Railway Station\, 23 Railway Avenue\, Horsham\, VIC\, 3400\, Australia
CATEGORIES:craft
ATTACH;FMTTYPE=image/png:https://horshamu3a.org.au/wp-content/uploads/2024/02/Pastels-Water-Colours.png
END:VEVENT
BEGIN:VEVENT
DTSTART;TZID=Australia/Melbourne:20270817T100000
DTEND;TZID=Australia/Melbourne:20270817T120000
DTSTAMP:20260423T015445
CREATED:20260119T042808Z
LAST-MODIFIED:20260119T045145Z
UID:10017055-1818496800-1818504000@horshamu3a.org.au
SUMMARY:Art: Pastels & Water Colours
DESCRIPTION:With Robin Ellis. \nThis group meets to learn and practice new skills in Acrylic and Water Colour Painting and Pastel and Pencil Drawing. Come along and join in and learn new skills.
URL:https://horshamu3a.org.au/event/art-pastels-water-colours/2027-08-17/
LOCATION:Railway Station\, 23 Railway Avenue\, Horsham\, VIC\, 3400\, Australia
CATEGORIES:craft
ATTACH;FMTTYPE=image/png:https://horshamu3a.org.au/wp-content/uploads/2024/02/Pastels-Water-Colours.png
END:VEVENT
BEGIN:VEVENT
DTSTART;TZID=Australia/Melbourne:20270824T100000
DTEND;TZID=Australia/Melbourne:20270824T120000
DTSTAMP:20260423T015445
CREATED:20260119T042808Z
LAST-MODIFIED:20260119T045145Z
UID:10017056-1819101600-1819108800@horshamu3a.org.au
SUMMARY:Art: Pastels & Water Colours
DESCRIPTION:With Robin Ellis. \nThis group meets to learn and practice new skills in Acrylic and Water Colour Painting and Pastel and Pencil Drawing. Come along and join in and learn new skills.
URL:https://horshamu3a.org.au/event/art-pastels-water-colours/2027-08-24/
LOCATION:Railway Station\, 23 Railway Avenue\, Horsham\, VIC\, 3400\, Australia
CATEGORIES:craft
ATTACH;FMTTYPE=image/png:https://horshamu3a.org.au/wp-content/uploads/2024/02/Pastels-Water-Colours.png
END:VEVENT
BEGIN:VEVENT
DTSTART;TZID=Australia/Melbourne:20270831T100000
DTEND;TZID=Australia/Melbourne:20270831T120000
DTSTAMP:20260423T015445
CREATED:20260119T042808Z
LAST-MODIFIED:20260119T045145Z
UID:10017057-1819706400-1819713600@horshamu3a.org.au
SUMMARY:Art: Pastels & Water Colours
DESCRIPTION:With Robin Ellis. \nThis group meets to learn and practice new skills in Acrylic and Water Colour Painting and Pastel and Pencil Drawing. Come along and join in and learn new skills.
URL:https://horshamu3a.org.au/event/art-pastels-water-colours/2027-08-31/
LOCATION:Railway Station\, 23 Railway Avenue\, Horsham\, VIC\, 3400\, Australia
CATEGORIES:craft
ATTACH;FMTTYPE=image/png:https://horshamu3a.org.au/wp-content/uploads/2024/02/Pastels-Water-Colours.png
END:VEVENT
BEGIN:VEVENT
DTSTART;TZID=Australia/Melbourne:20270907T100000
DTEND;TZID=Australia/Melbourne:20270907T120000
DTSTAMP:20260423T015445
CREATED:20260119T042808Z
LAST-MODIFIED:20260119T045145Z
UID:10017058-1820311200-1820318400@horshamu3a.org.au
SUMMARY:Art: Pastels & Water Colours
DESCRIPTION:With Robin Ellis. \nThis group meets to learn and practice new skills in Acrylic and Water Colour Painting and Pastel and Pencil Drawing. Come along and join in and learn new skills.
URL:https://horshamu3a.org.au/event/art-pastels-water-colours/2027-09-07/
LOCATION:Railway Station\, 23 Railway Avenue\, Horsham\, VIC\, 3400\, Australia
CATEGORIES:craft
ATTACH;FMTTYPE=image/png:https://horshamu3a.org.au/wp-content/uploads/2024/02/Pastels-Water-Colours.png
END:VEVENT
BEGIN:VEVENT
DTSTART;TZID=Australia/Melbourne:20270914T100000
DTEND;TZID=Australia/Melbourne:20270914T120000
DTSTAMP:20260423T015445
CREATED:20260119T042808Z
LAST-MODIFIED:20260119T045145Z
UID:10017059-1820916000-1820923200@horshamu3a.org.au
SUMMARY:Art: Pastels & Water Colours
DESCRIPTION:With Robin Ellis. \nThis group meets to learn and practice new skills in Acrylic and Water Colour Painting and Pastel and Pencil Drawing. Come along and join in and learn new skills.
URL:https://horshamu3a.org.au/event/art-pastels-water-colours/2027-09-14/
LOCATION:Railway Station\, 23 Railway Avenue\, Horsham\, VIC\, 3400\, Australia
CATEGORIES:craft
ATTACH;FMTTYPE=image/png:https://horshamu3a.org.au/wp-content/uploads/2024/02/Pastels-Water-Colours.png
END:VEVENT
BEGIN:VEVENT
DTSTART;TZID=Australia/Melbourne:20270921T100000
DTEND;TZID=Australia/Melbourne:20270921T120000
DTSTAMP:20260423T015445
CREATED:20260119T042808Z
LAST-MODIFIED:20260119T045145Z
UID:10017060-1821520800-1821528000@horshamu3a.org.au
SUMMARY:Art: Pastels & Water Colours
DESCRIPTION:With Robin Ellis. \nThis group meets to learn and practice new skills in Acrylic and Water Colour Painting and Pastel and Pencil Drawing. Come along and join in and learn new skills.
URL:https://horshamu3a.org.au/event/art-pastels-water-colours/2027-09-21/
LOCATION:Railway Station\, 23 Railway Avenue\, Horsham\, VIC\, 3400\, Australia
CATEGORIES:craft
ATTACH;FMTTYPE=image/png:https://horshamu3a.org.au/wp-content/uploads/2024/02/Pastels-Water-Colours.png
END:VEVENT
BEGIN:VEVENT
DTSTART;TZID=Australia/Melbourne:20270928T100000
DTEND;TZID=Australia/Melbourne:20270928T120000
DTSTAMP:20260423T015446
CREATED:20260119T042808Z
LAST-MODIFIED:20260119T045145Z
UID:10017061-1822125600-1822132800@horshamu3a.org.au
SUMMARY:Art: Pastels & Water Colours
DESCRIPTION:With Robin Ellis. \nThis group meets to learn and practice new skills in Acrylic and Water Colour Painting and Pastel and Pencil Drawing. Come along and join in and learn new skills.
URL:https://horshamu3a.org.au/event/art-pastels-water-colours/2027-09-28/
LOCATION:Railway Station\, 23 Railway Avenue\, Horsham\, VIC\, 3400\, Australia
CATEGORIES:craft
ATTACH;FMTTYPE=image/png:https://horshamu3a.org.au/wp-content/uploads/2024/02/Pastels-Water-Colours.png
END:VEVENT
BEGIN:VEVENT
DTSTART;TZID=Australia/Melbourne:20271005T100000
DTEND;TZID=Australia/Melbourne:20271005T120000
DTSTAMP:20260423T015446
CREATED:20260119T042808Z
LAST-MODIFIED:20260119T045145Z
UID:10017062-1822730400-1822737600@horshamu3a.org.au
SUMMARY:Art: Pastels & Water Colours
DESCRIPTION:With Robin Ellis. \nThis group meets to learn and practice new skills in Acrylic and Water Colour Painting and Pastel and Pencil Drawing. Come along and join in and learn new skills.
URL:https://horshamu3a.org.au/event/art-pastels-water-colours/2027-10-05/
LOCATION:Railway Station\, 23 Railway Avenue\, Horsham\, VIC\, 3400\, Australia
CATEGORIES:craft
ATTACH;FMTTYPE=image/png:https://horshamu3a.org.au/wp-content/uploads/2024/02/Pastels-Water-Colours.png
END:VEVENT
BEGIN:VEVENT
DTSTART;TZID=Australia/Melbourne:20271012T100000
DTEND;TZID=Australia/Melbourne:20271012T120000
DTSTAMP:20260423T015446
CREATED:20260119T042808Z
LAST-MODIFIED:20260119T045145Z
UID:10017063-1823335200-1823342400@horshamu3a.org.au
SUMMARY:Art: Pastels & Water Colours
DESCRIPTION:With Robin Ellis. \nThis group meets to learn and practice new skills in Acrylic and Water Colour Painting and Pastel and Pencil Drawing. Come along and join in and learn new skills.
URL:https://horshamu3a.org.au/event/art-pastels-water-colours/2027-10-12/
LOCATION:Railway Station\, 23 Railway Avenue\, Horsham\, VIC\, 3400\, Australia
CATEGORIES:craft
ATTACH;FMTTYPE=image/png:https://horshamu3a.org.au/wp-content/uploads/2024/02/Pastels-Water-Colours.png
END:VEVENT
BEGIN:VEVENT
DTSTART;TZID=Australia/Melbourne:20271019T100000
DTEND;TZID=Australia/Melbourne:20271019T120000
DTSTAMP:20260423T015446
CREATED:20260119T042808Z
LAST-MODIFIED:20260119T045145Z
UID:10017064-1823940000-1823947200@horshamu3a.org.au
SUMMARY:Art: Pastels & Water Colours
DESCRIPTION:With Robin Ellis. \nThis group meets to learn and practice new skills in Acrylic and Water Colour Painting and Pastel and Pencil Drawing. Come along and join in and learn new skills.
URL:https://horshamu3a.org.au/event/art-pastels-water-colours/2027-10-19/
LOCATION:Railway Station\, 23 Railway Avenue\, Horsham\, VIC\, 3400\, Australia
CATEGORIES:craft
ATTACH;FMTTYPE=image/png:https://horshamu3a.org.au/wp-content/uploads/2024/02/Pastels-Water-Colours.png
END:VEVENT
END:VCALENDAR