BEGIN:VCALENDAR
VERSION:2.0
PRODID:-//U3A - ECPv6.15.20//NONSGML v1.0//EN
CALSCALE:GREGORIAN
METHOD:PUBLISH
X-ORIGINAL-URL:https://horshamu3a.org.au
X-WR-CALDESC:Events for U3A
REFRESH-INTERVAL;VALUE=DURATION:PT1H
X-Robots-Tag:noindex
X-PUBLISHED-TTL:PT1H
BEGIN:VTIMEZONE
TZID:Australia/Melbourne
BEGIN:STANDARD
TZOFFSETFROM:+1100
TZOFFSETTO:+1000
TZNAME:AEST
DTSTART:20250405T160000
END:STANDARD
BEGIN:DAYLIGHT
TZOFFSETFROM:+1000
TZOFFSETTO:+1100
TZNAME:AEDT
DTSTART:20251004T160000
END:DAYLIGHT
BEGIN:STANDARD
TZOFFSETFROM:+1100
TZOFFSETTO:+1000
TZNAME:AEST
DTSTART:20260404T160000
END:STANDARD
BEGIN:DAYLIGHT
TZOFFSETFROM:+1000
TZOFFSETTO:+1100
TZNAME:AEDT
DTSTART:20261003T160000
END:DAYLIGHT
BEGIN:STANDARD
TZOFFSETFROM:+1100
TZOFFSETTO:+1000
TZNAME:AEST
DTSTART:20270403T160000
END:STANDARD
BEGIN:DAYLIGHT
TZOFFSETFROM:+1000
TZOFFSETTO:+1100
TZNAME:AEDT
DTSTART:20271002T160000
END:DAYLIGHT
END:VTIMEZONE
BEGIN:VEVENT
DTSTART;TZID=Australia/Melbourne:20260421T100000
DTEND;TZID=Australia/Melbourne:20260421T120000
DTSTAMP:20260420T093843
CREATED:20260119T042808Z
LAST-MODIFIED:20260119T045145Z
UID:10016986-1776765600-1776772800@horshamu3a.org.au
SUMMARY:Art: Pastels & Water Colours
DESCRIPTION:With Robin Ellis. \nThis group meets to learn and practice new skills in Acrylic and Water Colour Painting and Pastel and Pencil Drawing. Come along and join in and learn new skills.
URL:https://horshamu3a.org.au/event/art-pastels-water-colours/2026-04-21/
LOCATION:Railway Station\, 23 Railway Avenue\, Horsham\, VIC\, 3400\, Australia
CATEGORIES:craft
ATTACH;FMTTYPE=image/png:https://horshamu3a.org.au/wp-content/uploads/2024/02/Pastels-Water-Colours.png
END:VEVENT
BEGIN:VEVENT
DTSTART;TZID=Australia/Melbourne:20260428T100000
DTEND;TZID=Australia/Melbourne:20260428T120000
DTSTAMP:20260420T093843
CREATED:20260119T042808Z
LAST-MODIFIED:20260119T045145Z
UID:10016987-1777370400-1777377600@horshamu3a.org.au
SUMMARY:Art: Pastels & Water Colours
DESCRIPTION:With Robin Ellis. \nThis group meets to learn and practice new skills in Acrylic and Water Colour Painting and Pastel and Pencil Drawing. Come along and join in and learn new skills.
URL:https://horshamu3a.org.au/event/art-pastels-water-colours/2026-04-28/
LOCATION:Railway Station\, 23 Railway Avenue\, Horsham\, VIC\, 3400\, Australia
CATEGORIES:craft
ATTACH;FMTTYPE=image/png:https://horshamu3a.org.au/wp-content/uploads/2024/02/Pastels-Water-Colours.png
END:VEVENT
BEGIN:VEVENT
DTSTART;TZID=Australia/Melbourne:20260505T100000
DTEND;TZID=Australia/Melbourne:20260505T120000
DTSTAMP:20260420T093843
CREATED:20260119T042808Z
LAST-MODIFIED:20260119T045145Z
UID:10016988-1777975200-1777982400@horshamu3a.org.au
SUMMARY:Art: Pastels & Water Colours
DESCRIPTION:With Robin Ellis. \nThis group meets to learn and practice new skills in Acrylic and Water Colour Painting and Pastel and Pencil Drawing. Come along and join in and learn new skills.
URL:https://horshamu3a.org.au/event/art-pastels-water-colours/2026-05-05/
LOCATION:Railway Station\, 23 Railway Avenue\, Horsham\, VIC\, 3400\, Australia
CATEGORIES:craft
ATTACH;FMTTYPE=image/png:https://horshamu3a.org.au/wp-content/uploads/2024/02/Pastels-Water-Colours.png
END:VEVENT
BEGIN:VEVENT
DTSTART;TZID=Australia/Melbourne:20260512T100000
DTEND;TZID=Australia/Melbourne:20260512T120000
DTSTAMP:20260420T093843
CREATED:20260119T042808Z
LAST-MODIFIED:20260119T045145Z
UID:10016989-1778580000-1778587200@horshamu3a.org.au
SUMMARY:Art: Pastels & Water Colours
DESCRIPTION:With Robin Ellis. \nThis group meets to learn and practice new skills in Acrylic and Water Colour Painting and Pastel and Pencil Drawing. Come along and join in and learn new skills.
URL:https://horshamu3a.org.au/event/art-pastels-water-colours/2026-05-12/
LOCATION:Railway Station\, 23 Railway Avenue\, Horsham\, VIC\, 3400\, Australia
CATEGORIES:craft
ATTACH;FMTTYPE=image/png:https://horshamu3a.org.au/wp-content/uploads/2024/02/Pastels-Water-Colours.png
END:VEVENT
BEGIN:VEVENT
DTSTART;TZID=Australia/Melbourne:20260519T100000
DTEND;TZID=Australia/Melbourne:20260519T120000
DTSTAMP:20260420T093843
CREATED:20260119T042808Z
LAST-MODIFIED:20260119T045145Z
UID:10016990-1779184800-1779192000@horshamu3a.org.au
SUMMARY:Art: Pastels & Water Colours
DESCRIPTION:With Robin Ellis. \nThis group meets to learn and practice new skills in Acrylic and Water Colour Painting and Pastel and Pencil Drawing. Come along and join in and learn new skills.
URL:https://horshamu3a.org.au/event/art-pastels-water-colours/2026-05-19/
LOCATION:Railway Station\, 23 Railway Avenue\, Horsham\, VIC\, 3400\, Australia
CATEGORIES:craft
ATTACH;FMTTYPE=image/png:https://horshamu3a.org.au/wp-content/uploads/2024/02/Pastels-Water-Colours.png
END:VEVENT
BEGIN:VEVENT
DTSTART;TZID=Australia/Melbourne:20260526T100000
DTEND;TZID=Australia/Melbourne:20260526T120000
DTSTAMP:20260420T093843
CREATED:20260119T042808Z
LAST-MODIFIED:20260119T045145Z
UID:10016991-1779789600-1779796800@horshamu3a.org.au
SUMMARY:Art: Pastels & Water Colours
DESCRIPTION:With Robin Ellis. \nThis group meets to learn and practice new skills in Acrylic and Water Colour Painting and Pastel and Pencil Drawing. Come along and join in and learn new skills.
URL:https://horshamu3a.org.au/event/art-pastels-water-colours/2026-05-26/
LOCATION:Railway Station\, 23 Railway Avenue\, Horsham\, VIC\, 3400\, Australia
CATEGORIES:craft
ATTACH;FMTTYPE=image/png:https://horshamu3a.org.au/wp-content/uploads/2024/02/Pastels-Water-Colours.png
END:VEVENT
BEGIN:VEVENT
DTSTART;TZID=Australia/Melbourne:20260602T100000
DTEND;TZID=Australia/Melbourne:20260602T120000
DTSTAMP:20260420T093843
CREATED:20260119T042808Z
LAST-MODIFIED:20260119T045145Z
UID:10016992-1780394400-1780401600@horshamu3a.org.au
SUMMARY:Art: Pastels & Water Colours
DESCRIPTION:With Robin Ellis. \nThis group meets to learn and practice new skills in Acrylic and Water Colour Painting and Pastel and Pencil Drawing. Come along and join in and learn new skills.
URL:https://horshamu3a.org.au/event/art-pastels-water-colours/2026-06-02/
LOCATION:Railway Station\, 23 Railway Avenue\, Horsham\, VIC\, 3400\, Australia
CATEGORIES:craft
ATTACH;FMTTYPE=image/png:https://horshamu3a.org.au/wp-content/uploads/2024/02/Pastels-Water-Colours.png
END:VEVENT
BEGIN:VEVENT
DTSTART;TZID=Australia/Melbourne:20260609T100000
DTEND;TZID=Australia/Melbourne:20260609T120000
DTSTAMP:20260420T093843
CREATED:20260119T042808Z
LAST-MODIFIED:20260119T045145Z
UID:10016993-1780999200-1781006400@horshamu3a.org.au
SUMMARY:Art: Pastels & Water Colours
DESCRIPTION:With Robin Ellis. \nThis group meets to learn and practice new skills in Acrylic and Water Colour Painting and Pastel and Pencil Drawing. Come along and join in and learn new skills.
URL:https://horshamu3a.org.au/event/art-pastels-water-colours/2026-06-09/
LOCATION:Railway Station\, 23 Railway Avenue\, Horsham\, VIC\, 3400\, Australia
CATEGORIES:craft
ATTACH;FMTTYPE=image/png:https://horshamu3a.org.au/wp-content/uploads/2024/02/Pastels-Water-Colours.png
END:VEVENT
BEGIN:VEVENT
DTSTART;TZID=Australia/Melbourne:20260616T100000
DTEND;TZID=Australia/Melbourne:20260616T120000
DTSTAMP:20260420T093843
CREATED:20260119T042808Z
LAST-MODIFIED:20260119T045145Z
UID:10016994-1781604000-1781611200@horshamu3a.org.au
SUMMARY:Art: Pastels & Water Colours
DESCRIPTION:With Robin Ellis. \nThis group meets to learn and practice new skills in Acrylic and Water Colour Painting and Pastel and Pencil Drawing. Come along and join in and learn new skills.
URL:https://horshamu3a.org.au/event/art-pastels-water-colours/2026-06-16/
LOCATION:Railway Station\, 23 Railway Avenue\, Horsham\, VIC\, 3400\, Australia
CATEGORIES:craft
ATTACH;FMTTYPE=image/png:https://horshamu3a.org.au/wp-content/uploads/2024/02/Pastels-Water-Colours.png
END:VEVENT
BEGIN:VEVENT
DTSTART;TZID=Australia/Melbourne:20260623T100000
DTEND;TZID=Australia/Melbourne:20260623T120000
DTSTAMP:20260420T093843
CREATED:20260119T042808Z
LAST-MODIFIED:20260119T045145Z
UID:10016995-1782208800-1782216000@horshamu3a.org.au
SUMMARY:Art: Pastels & Water Colours
DESCRIPTION:With Robin Ellis. \nThis group meets to learn and practice new skills in Acrylic and Water Colour Painting and Pastel and Pencil Drawing. Come along and join in and learn new skills.
URL:https://horshamu3a.org.au/event/art-pastels-water-colours/2026-06-23/
LOCATION:Railway Station\, 23 Railway Avenue\, Horsham\, VIC\, 3400\, Australia
CATEGORIES:craft
ATTACH;FMTTYPE=image/png:https://horshamu3a.org.au/wp-content/uploads/2024/02/Pastels-Water-Colours.png
END:VEVENT
BEGIN:VEVENT
DTSTART;TZID=Australia/Melbourne:20260630T100000
DTEND;TZID=Australia/Melbourne:20260630T120000
DTSTAMP:20260420T093843
CREATED:20260119T042808Z
LAST-MODIFIED:20260119T045145Z
UID:10016996-1782813600-1782820800@horshamu3a.org.au
SUMMARY:Art: Pastels & Water Colours
DESCRIPTION:With Robin Ellis. \nThis group meets to learn and practice new skills in Acrylic and Water Colour Painting and Pastel and Pencil Drawing. Come along and join in and learn new skills.
URL:https://horshamu3a.org.au/event/art-pastels-water-colours/2026-06-30/
LOCATION:Railway Station\, 23 Railway Avenue\, Horsham\, VIC\, 3400\, Australia
CATEGORIES:craft
ATTACH;FMTTYPE=image/png:https://horshamu3a.org.au/wp-content/uploads/2024/02/Pastels-Water-Colours.png
END:VEVENT
BEGIN:VEVENT
DTSTART;TZID=Australia/Melbourne:20260707T100000
DTEND;TZID=Australia/Melbourne:20260707T120000
DTSTAMP:20260420T093843
CREATED:20260119T042808Z
LAST-MODIFIED:20260119T045145Z
UID:10016997-1783418400-1783425600@horshamu3a.org.au
SUMMARY:Art: Pastels & Water Colours
DESCRIPTION:With Robin Ellis. \nThis group meets to learn and practice new skills in Acrylic and Water Colour Painting and Pastel and Pencil Drawing. Come along and join in and learn new skills.
URL:https://horshamu3a.org.au/event/art-pastels-water-colours/2026-07-07/
LOCATION:Railway Station\, 23 Railway Avenue\, Horsham\, VIC\, 3400\, Australia
CATEGORIES:craft
ATTACH;FMTTYPE=image/png:https://horshamu3a.org.au/wp-content/uploads/2024/02/Pastels-Water-Colours.png
END:VEVENT
BEGIN:VEVENT
DTSTART;TZID=Australia/Melbourne:20260714T100000
DTEND;TZID=Australia/Melbourne:20260714T120000
DTSTAMP:20260420T093843
CREATED:20260119T042808Z
LAST-MODIFIED:20260119T045145Z
UID:10016998-1784023200-1784030400@horshamu3a.org.au
SUMMARY:Art: Pastels & Water Colours
DESCRIPTION:With Robin Ellis. \nThis group meets to learn and practice new skills in Acrylic and Water Colour Painting and Pastel and Pencil Drawing. Come along and join in and learn new skills.
URL:https://horshamu3a.org.au/event/art-pastels-water-colours/2026-07-14/
LOCATION:Railway Station\, 23 Railway Avenue\, Horsham\, VIC\, 3400\, Australia
CATEGORIES:craft
ATTACH;FMTTYPE=image/png:https://horshamu3a.org.au/wp-content/uploads/2024/02/Pastels-Water-Colours.png
END:VEVENT
BEGIN:VEVENT
DTSTART;TZID=Australia/Melbourne:20260721T100000
DTEND;TZID=Australia/Melbourne:20260721T120000
DTSTAMP:20260420T093843
CREATED:20260119T042808Z
LAST-MODIFIED:20260119T045145Z
UID:10016999-1784628000-1784635200@horshamu3a.org.au
SUMMARY:Art: Pastels & Water Colours
DESCRIPTION:With Robin Ellis. \nThis group meets to learn and practice new skills in Acrylic and Water Colour Painting and Pastel and Pencil Drawing. Come along and join in and learn new skills.
URL:https://horshamu3a.org.au/event/art-pastels-water-colours/2026-07-21/
LOCATION:Railway Station\, 23 Railway Avenue\, Horsham\, VIC\, 3400\, Australia
CATEGORIES:craft
ATTACH;FMTTYPE=image/png:https://horshamu3a.org.au/wp-content/uploads/2024/02/Pastels-Water-Colours.png
END:VEVENT
BEGIN:VEVENT
DTSTART;TZID=Australia/Melbourne:20260728T100000
DTEND;TZID=Australia/Melbourne:20260728T120000
DTSTAMP:20260420T093843
CREATED:20260119T042808Z
LAST-MODIFIED:20260119T045145Z
UID:10017000-1785232800-1785240000@horshamu3a.org.au
SUMMARY:Art: Pastels & Water Colours
DESCRIPTION:With Robin Ellis. \nThis group meets to learn and practice new skills in Acrylic and Water Colour Painting and Pastel and Pencil Drawing. Come along and join in and learn new skills.
URL:https://horshamu3a.org.au/event/art-pastels-water-colours/2026-07-28/
LOCATION:Railway Station\, 23 Railway Avenue\, Horsham\, VIC\, 3400\, Australia
CATEGORIES:craft
ATTACH;FMTTYPE=image/png:https://horshamu3a.org.au/wp-content/uploads/2024/02/Pastels-Water-Colours.png
END:VEVENT
BEGIN:VEVENT
DTSTART;TZID=Australia/Melbourne:20260804T100000
DTEND;TZID=Australia/Melbourne:20260804T120000
DTSTAMP:20260420T093843
CREATED:20260119T042808Z
LAST-MODIFIED:20260119T045145Z
UID:10017001-1785837600-1785844800@horshamu3a.org.au
SUMMARY:Art: Pastels & Water Colours
DESCRIPTION:With Robin Ellis. \nThis group meets to learn and practice new skills in Acrylic and Water Colour Painting and Pastel and Pencil Drawing. Come along and join in and learn new skills.
URL:https://horshamu3a.org.au/event/art-pastels-water-colours/2026-08-04/
LOCATION:Railway Station\, 23 Railway Avenue\, Horsham\, VIC\, 3400\, Australia
CATEGORIES:craft
ATTACH;FMTTYPE=image/png:https://horshamu3a.org.au/wp-content/uploads/2024/02/Pastels-Water-Colours.png
END:VEVENT
BEGIN:VEVENT
DTSTART;TZID=Australia/Melbourne:20260811T100000
DTEND;TZID=Australia/Melbourne:20260811T120000
DTSTAMP:20260420T093843
CREATED:20260119T042808Z
LAST-MODIFIED:20260119T045145Z
UID:10017002-1786442400-1786449600@horshamu3a.org.au
SUMMARY:Art: Pastels & Water Colours
DESCRIPTION:With Robin Ellis. \nThis group meets to learn and practice new skills in Acrylic and Water Colour Painting and Pastel and Pencil Drawing. Come along and join in and learn new skills.
URL:https://horshamu3a.org.au/event/art-pastels-water-colours/2026-08-11/
LOCATION:Railway Station\, 23 Railway Avenue\, Horsham\, VIC\, 3400\, Australia
CATEGORIES:craft
ATTACH;FMTTYPE=image/png:https://horshamu3a.org.au/wp-content/uploads/2024/02/Pastels-Water-Colours.png
END:VEVENT
BEGIN:VEVENT
DTSTART;TZID=Australia/Melbourne:20260818T100000
DTEND;TZID=Australia/Melbourne:20260818T120000
DTSTAMP:20260420T093843
CREATED:20260119T042808Z
LAST-MODIFIED:20260119T045145Z
UID:10017003-1787047200-1787054400@horshamu3a.org.au
SUMMARY:Art: Pastels & Water Colours
DESCRIPTION:With Robin Ellis. \nThis group meets to learn and practice new skills in Acrylic and Water Colour Painting and Pastel and Pencil Drawing. Come along and join in and learn new skills.
URL:https://horshamu3a.org.au/event/art-pastels-water-colours/2026-08-18/
LOCATION:Railway Station\, 23 Railway Avenue\, Horsham\, VIC\, 3400\, Australia
CATEGORIES:craft
ATTACH;FMTTYPE=image/png:https://horshamu3a.org.au/wp-content/uploads/2024/02/Pastels-Water-Colours.png
END:VEVENT
BEGIN:VEVENT
DTSTART;TZID=Australia/Melbourne:20260825T100000
DTEND;TZID=Australia/Melbourne:20260825T120000
DTSTAMP:20260420T093843
CREATED:20260119T042808Z
LAST-MODIFIED:20260119T045145Z
UID:10017004-1787652000-1787659200@horshamu3a.org.au
SUMMARY:Art: Pastels & Water Colours
DESCRIPTION:With Robin Ellis. \nThis group meets to learn and practice new skills in Acrylic and Water Colour Painting and Pastel and Pencil Drawing. Come along and join in and learn new skills.
URL:https://horshamu3a.org.au/event/art-pastels-water-colours/2026-08-25/
LOCATION:Railway Station\, 23 Railway Avenue\, Horsham\, VIC\, 3400\, Australia
CATEGORIES:craft
ATTACH;FMTTYPE=image/png:https://horshamu3a.org.au/wp-content/uploads/2024/02/Pastels-Water-Colours.png
END:VEVENT
BEGIN:VEVENT
DTSTART;TZID=Australia/Melbourne:20260901T100000
DTEND;TZID=Australia/Melbourne:20260901T120000
DTSTAMP:20260420T093843
CREATED:20260119T042808Z
LAST-MODIFIED:20260119T045145Z
UID:10017005-1788256800-1788264000@horshamu3a.org.au
SUMMARY:Art: Pastels & Water Colours
DESCRIPTION:With Robin Ellis. \nThis group meets to learn and practice new skills in Acrylic and Water Colour Painting and Pastel and Pencil Drawing. Come along and join in and learn new skills.
URL:https://horshamu3a.org.au/event/art-pastels-water-colours/2026-09-01/
LOCATION:Railway Station\, 23 Railway Avenue\, Horsham\, VIC\, 3400\, Australia
CATEGORIES:craft
ATTACH;FMTTYPE=image/png:https://horshamu3a.org.au/wp-content/uploads/2024/02/Pastels-Water-Colours.png
END:VEVENT
BEGIN:VEVENT
DTSTART;TZID=Australia/Melbourne:20260908T100000
DTEND;TZID=Australia/Melbourne:20260908T120000
DTSTAMP:20260420T093843
CREATED:20260119T042808Z
LAST-MODIFIED:20260119T045145Z
UID:10017006-1788861600-1788868800@horshamu3a.org.au
SUMMARY:Art: Pastels & Water Colours
DESCRIPTION:With Robin Ellis. \nThis group meets to learn and practice new skills in Acrylic and Water Colour Painting and Pastel and Pencil Drawing. Come along and join in and learn new skills.
URL:https://horshamu3a.org.au/event/art-pastels-water-colours/2026-09-08/
LOCATION:Railway Station\, 23 Railway Avenue\, Horsham\, VIC\, 3400\, Australia
CATEGORIES:craft
ATTACH;FMTTYPE=image/png:https://horshamu3a.org.au/wp-content/uploads/2024/02/Pastels-Water-Colours.png
END:VEVENT
BEGIN:VEVENT
DTSTART;TZID=Australia/Melbourne:20260915T100000
DTEND;TZID=Australia/Melbourne:20260915T120000
DTSTAMP:20260420T093843
CREATED:20260119T042808Z
LAST-MODIFIED:20260119T045145Z
UID:10017007-1789466400-1789473600@horshamu3a.org.au
SUMMARY:Art: Pastels & Water Colours
DESCRIPTION:With Robin Ellis. \nThis group meets to learn and practice new skills in Acrylic and Water Colour Painting and Pastel and Pencil Drawing. Come along and join in and learn new skills.
URL:https://horshamu3a.org.au/event/art-pastels-water-colours/2026-09-15/
LOCATION:Railway Station\, 23 Railway Avenue\, Horsham\, VIC\, 3400\, Australia
CATEGORIES:craft
ATTACH;FMTTYPE=image/png:https://horshamu3a.org.au/wp-content/uploads/2024/02/Pastels-Water-Colours.png
END:VEVENT
BEGIN:VEVENT
DTSTART;TZID=Australia/Melbourne:20260922T100000
DTEND;TZID=Australia/Melbourne:20260922T120000
DTSTAMP:20260420T093843
CREATED:20260119T042808Z
LAST-MODIFIED:20260119T045145Z
UID:10017008-1790071200-1790078400@horshamu3a.org.au
SUMMARY:Art: Pastels & Water Colours
DESCRIPTION:With Robin Ellis. \nThis group meets to learn and practice new skills in Acrylic and Water Colour Painting and Pastel and Pencil Drawing. Come along and join in and learn new skills.
URL:https://horshamu3a.org.au/event/art-pastels-water-colours/2026-09-22/
LOCATION:Railway Station\, 23 Railway Avenue\, Horsham\, VIC\, 3400\, Australia
CATEGORIES:craft
ATTACH;FMTTYPE=image/png:https://horshamu3a.org.au/wp-content/uploads/2024/02/Pastels-Water-Colours.png
END:VEVENT
BEGIN:VEVENT
DTSTART;TZID=Australia/Melbourne:20260929T100000
DTEND;TZID=Australia/Melbourne:20260929T120000
DTSTAMP:20260420T093843
CREATED:20260119T042808Z
LAST-MODIFIED:20260119T045145Z
UID:10017009-1790676000-1790683200@horshamu3a.org.au
SUMMARY:Art: Pastels & Water Colours
DESCRIPTION:With Robin Ellis. \nThis group meets to learn and practice new skills in Acrylic and Water Colour Painting and Pastel and Pencil Drawing. Come along and join in and learn new skills.
URL:https://horshamu3a.org.au/event/art-pastels-water-colours/2026-09-29/
LOCATION:Railway Station\, 23 Railway Avenue\, Horsham\, VIC\, 3400\, Australia
CATEGORIES:craft
ATTACH;FMTTYPE=image/png:https://horshamu3a.org.au/wp-content/uploads/2024/02/Pastels-Water-Colours.png
END:VEVENT
BEGIN:VEVENT
DTSTART;TZID=Australia/Melbourne:20261006T100000
DTEND;TZID=Australia/Melbourne:20261006T120000
DTSTAMP:20260420T093843
CREATED:20260119T042808Z
LAST-MODIFIED:20260119T045145Z
UID:10017010-1791280800-1791288000@horshamu3a.org.au
SUMMARY:Art: Pastels & Water Colours
DESCRIPTION:With Robin Ellis. \nThis group meets to learn and practice new skills in Acrylic and Water Colour Painting and Pastel and Pencil Drawing. Come along and join in and learn new skills.
URL:https://horshamu3a.org.au/event/art-pastels-water-colours/2026-10-06/
LOCATION:Railway Station\, 23 Railway Avenue\, Horsham\, VIC\, 3400\, Australia
CATEGORIES:craft
ATTACH;FMTTYPE=image/png:https://horshamu3a.org.au/wp-content/uploads/2024/02/Pastels-Water-Colours.png
END:VEVENT
BEGIN:VEVENT
DTSTART;TZID=Australia/Melbourne:20261013T100000
DTEND;TZID=Australia/Melbourne:20261013T120000
DTSTAMP:20260420T093843
CREATED:20260119T042808Z
LAST-MODIFIED:20260119T045145Z
UID:10017011-1791885600-1791892800@horshamu3a.org.au
SUMMARY:Art: Pastels & Water Colours
DESCRIPTION:With Robin Ellis. \nThis group meets to learn and practice new skills in Acrylic and Water Colour Painting and Pastel and Pencil Drawing. Come along and join in and learn new skills.
URL:https://horshamu3a.org.au/event/art-pastels-water-colours/2026-10-13/
LOCATION:Railway Station\, 23 Railway Avenue\, Horsham\, VIC\, 3400\, Australia
CATEGORIES:craft
ATTACH;FMTTYPE=image/png:https://horshamu3a.org.au/wp-content/uploads/2024/02/Pastels-Water-Colours.png
END:VEVENT
BEGIN:VEVENT
DTSTART;TZID=Australia/Melbourne:20261020T100000
DTEND;TZID=Australia/Melbourne:20261020T120000
DTSTAMP:20260420T093843
CREATED:20260119T042808Z
LAST-MODIFIED:20260119T045145Z
UID:10017012-1792490400-1792497600@horshamu3a.org.au
SUMMARY:Art: Pastels & Water Colours
DESCRIPTION:With Robin Ellis. \nThis group meets to learn and practice new skills in Acrylic and Water Colour Painting and Pastel and Pencil Drawing. Come along and join in and learn new skills.
URL:https://horshamu3a.org.au/event/art-pastels-water-colours/2026-10-20/
LOCATION:Railway Station\, 23 Railway Avenue\, Horsham\, VIC\, 3400\, Australia
CATEGORIES:craft
ATTACH;FMTTYPE=image/png:https://horshamu3a.org.au/wp-content/uploads/2024/02/Pastels-Water-Colours.png
END:VEVENT
BEGIN:VEVENT
DTSTART;TZID=Australia/Melbourne:20261027T100000
DTEND;TZID=Australia/Melbourne:20261027T120000
DTSTAMP:20260420T093843
CREATED:20260119T042808Z
LAST-MODIFIED:20260119T045145Z
UID:10017013-1793095200-1793102400@horshamu3a.org.au
SUMMARY:Art: Pastels & Water Colours
DESCRIPTION:With Robin Ellis. \nThis group meets to learn and practice new skills in Acrylic and Water Colour Painting and Pastel and Pencil Drawing. Come along and join in and learn new skills.
URL:https://horshamu3a.org.au/event/art-pastels-water-colours/2026-10-27/
LOCATION:Railway Station\, 23 Railway Avenue\, Horsham\, VIC\, 3400\, Australia
CATEGORIES:craft
ATTACH;FMTTYPE=image/png:https://horshamu3a.org.au/wp-content/uploads/2024/02/Pastels-Water-Colours.png
END:VEVENT
BEGIN:VEVENT
DTSTART;TZID=Australia/Melbourne:20261103T100000
DTEND;TZID=Australia/Melbourne:20261103T120000
DTSTAMP:20260420T093843
CREATED:20260119T042808Z
LAST-MODIFIED:20260119T045145Z
UID:10017014-1793700000-1793707200@horshamu3a.org.au
SUMMARY:Art: Pastels & Water Colours
DESCRIPTION:With Robin Ellis. \nThis group meets to learn and practice new skills in Acrylic and Water Colour Painting and Pastel and Pencil Drawing. Come along and join in and learn new skills.
URL:https://horshamu3a.org.au/event/art-pastels-water-colours/2026-11-03/
LOCATION:Railway Station\, 23 Railway Avenue\, Horsham\, VIC\, 3400\, Australia
CATEGORIES:craft
ATTACH;FMTTYPE=image/png:https://horshamu3a.org.au/wp-content/uploads/2024/02/Pastels-Water-Colours.png
END:VEVENT
BEGIN:VEVENT
DTSTART;TZID=Australia/Melbourne:20261110T100000
DTEND;TZID=Australia/Melbourne:20261110T120000
DTSTAMP:20260420T093843
CREATED:20260119T042808Z
LAST-MODIFIED:20260119T045145Z
UID:10017015-1794304800-1794312000@horshamu3a.org.au
SUMMARY:Art: Pastels & Water Colours
DESCRIPTION:With Robin Ellis. \nThis group meets to learn and practice new skills in Acrylic and Water Colour Painting and Pastel and Pencil Drawing. Come along and join in and learn new skills.
URL:https://horshamu3a.org.au/event/art-pastels-water-colours/2026-11-10/
LOCATION:Railway Station\, 23 Railway Avenue\, Horsham\, VIC\, 3400\, Australia
CATEGORIES:craft
ATTACH;FMTTYPE=image/png:https://horshamu3a.org.au/wp-content/uploads/2024/02/Pastels-Water-Colours.png
END:VEVENT
END:VCALENDAR