BEGIN:VCALENDAR
VERSION:2.0
PRODID:-//U3A - ECPv6.15.20//NONSGML v1.0//EN
CALSCALE:GREGORIAN
METHOD:PUBLISH
X-WR-CALNAME:U3A
X-ORIGINAL-URL:https://horshamu3a.org.au
X-WR-CALDESC:Events for U3A
REFRESH-INTERVAL;VALUE=DURATION:PT1H
X-Robots-Tag:noindex
X-PUBLISHED-TTL:PT1H
BEGIN:VTIMEZONE
TZID:Australia/Melbourne
BEGIN:STANDARD
TZOFFSETFROM:+1100
TZOFFSETTO:+1000
TZNAME:AEST
DTSTART:20250405T160000
END:STANDARD
BEGIN:DAYLIGHT
TZOFFSETFROM:+1000
TZOFFSETTO:+1100
TZNAME:AEDT
DTSTART:20251004T160000
END:DAYLIGHT
BEGIN:STANDARD
TZOFFSETFROM:+1100
TZOFFSETTO:+1000
TZNAME:AEST
DTSTART:20260404T160000
END:STANDARD
BEGIN:DAYLIGHT
TZOFFSETFROM:+1000
TZOFFSETTO:+1100
TZNAME:AEDT
DTSTART:20261003T160000
END:DAYLIGHT
BEGIN:STANDARD
TZOFFSETFROM:+1100
TZOFFSETTO:+1000
TZNAME:AEST
DTSTART:20270403T160000
END:STANDARD
BEGIN:DAYLIGHT
TZOFFSETFROM:+1000
TZOFFSETTO:+1100
TZNAME:AEDT
DTSTART:20271002T160000
END:DAYLIGHT
END:VTIMEZONE
BEGIN:VEVENT
DTSTART;TZID=Australia/Melbourne:20260415T133000
DTEND;TZID=Australia/Melbourne:20260415T160000
DTSTAMP:20260419T233831
CREATED:20260119T051417Z
LAST-MODIFIED:20260119T051417Z
UID:10018342-1776259800-1776268800@horshamu3a.org.au
SUMMARY:Canasta
DESCRIPTION:With Elizabeth Kaucner \nWe play Bolivia Canasta. Three packs of cards are used\, including all the jokers. The aim is to build sets and sequences. Ideally played by 4 people\, but we sometimes have to improvise with less. \nEach Wednesday at 1.30 pm in the Main Room
URL:https://horshamu3a.org.au/event/canasta/2026-04-15/
LOCATION:Railway Station\, 23 Railway Avenue\, Horsham\, VIC\, 3400\, Australia
CATEGORIES:games
ATTACH;FMTTYPE=image/png:https://horshamu3a.org.au/wp-content/uploads/2024/02/Canasta-1.30pm-1.png
END:VEVENT
BEGIN:VEVENT
DTSTART;TZID=Australia/Melbourne:20260415T100000
DTEND;TZID=Australia/Melbourne:20260415T120000
DTSTAMP:20260419T233831
CREATED:20260317T033510Z
LAST-MODIFIED:20260317T033510Z
UID:10021974-1776247200-1776254400@horshamu3a.org.au
SUMMARY:Nature Watch: 15th April
DESCRIPTION:Homemaking – narrated by David Attenborough \nTo create their hugely varied homes\, animals become potters\, plasterers\, weavers\, needleworkers\, miners\, masons\, scaffolders\, thatchers and sculptors. \nAustralia’s Deadliest Destinations – narrated by Greg Grainger \nThe series reveals landscapes – from deserts to coral reefs\, from snow-fields to wetlands\, filled with dangerous creatures and elements\, such as crocodiles\, cyclones\, emus and kangaroos.
URL:https://horshamu3a.org.au/event/nature-watch-15th-april/
LOCATION:Railway Station\, 23 Railway Avenue\, Horsham\, VIC\, 3400\, Australia
CATEGORIES:films
ATTACH;FMTTYPE=image/png:https://horshamu3a.org.au/wp-content/uploads/2026/03/1773715608936.png
END:VEVENT
BEGIN:VEVENT
DTSTART;TZID=Australia/Melbourne:20260409T100000
DTEND;TZID=Australia/Melbourne:20260409T120000
DTSTAMP:20260419T233831
CREATED:20260318T034528Z
LAST-MODIFIED:20260318T034528Z
UID:10021980-1775728800-1775736000@horshamu3a.org.au
SUMMARY:"Love Me Tonight" - Musical Movie for April
DESCRIPTION:th April at 10am Love Me Tonight” 1h 44m. \nA Parisian tailor finds himself posing as a baron in order to collect a sizeable bill from an aristocrat\, only to fall in love with an aloof young princess. \nStars: Maurice Chevalier\, Jeanette MacDonald\, Charles Ruggles
URL:https://horshamu3a.org.au/event/love-me-tonight-musical-movie-for-april/
LOCATION:Railway Station\, 23 Railway Avenue\, Horsham\, VIC\, 3400\, Australia
CATEGORIES:films
ATTACH;FMTTYPE=image/png:https://horshamu3a.org.au/wp-content/uploads/2026/03/1773803251750.png
END:VEVENT
BEGIN:VEVENT
DTSTART;TZID=Australia/Melbourne:20260408T133000
DTEND;TZID=Australia/Melbourne:20260408T160000
DTSTAMP:20260419T233831
CREATED:20260119T051417Z
LAST-MODIFIED:20260119T051417Z
UID:10018341-1775655000-1775664000@horshamu3a.org.au
SUMMARY:Canasta
DESCRIPTION:With Elizabeth Kaucner \nWe play Bolivia Canasta. Three packs of cards are used\, including all the jokers. The aim is to build sets and sequences. Ideally played by 4 people\, but we sometimes have to improvise with less. \nEach Wednesday at 1.30 pm in the Main Room
URL:https://horshamu3a.org.au/event/canasta/2026-04-08/
LOCATION:Railway Station\, 23 Railway Avenue\, Horsham\, VIC\, 3400\, Australia
CATEGORIES:games
ATTACH;FMTTYPE=image/png:https://horshamu3a.org.au/wp-content/uploads/2024/02/Canasta-1.30pm-1.png
END:VEVENT
BEGIN:VEVENT
DTSTART;TZID=Australia/Melbourne:20260401T133000
DTEND;TZID=Australia/Melbourne:20260401T160000
DTSTAMP:20260419T233831
CREATED:20260119T051417Z
LAST-MODIFIED:20260119T051417Z
UID:10018340-1775050200-1775059200@horshamu3a.org.au
SUMMARY:Canasta
DESCRIPTION:With Elizabeth Kaucner \nWe play Bolivia Canasta. Three packs of cards are used\, including all the jokers. The aim is to build sets and sequences. Ideally played by 4 people\, but we sometimes have to improvise with less. \nEach Wednesday at 1.30 pm in the Main Room
URL:https://horshamu3a.org.au/event/canasta/2026-04-01/
LOCATION:Railway Station\, 23 Railway Avenue\, Horsham\, VIC\, 3400\, Australia
CATEGORIES:games
ATTACH;FMTTYPE=image/png:https://horshamu3a.org.au/wp-content/uploads/2024/02/Canasta-1.30pm-1.png
END:VEVENT
BEGIN:VEVENT
DTSTART;TZID=Australia/Melbourne:20260325T133000
DTEND;TZID=Australia/Melbourne:20260325T160000
DTSTAMP:20260419T233831
CREATED:20260119T051417Z
LAST-MODIFIED:20260119T051417Z
UID:10018339-1774445400-1774454400@horshamu3a.org.au
SUMMARY:Canasta
DESCRIPTION:With Elizabeth Kaucner \nWe play Bolivia Canasta. Three packs of cards are used\, including all the jokers. The aim is to build sets and sequences. Ideally played by 4 people\, but we sometimes have to improvise with less. \nEach Wednesday at 1.30 pm in the Main Room
URL:https://horshamu3a.org.au/event/canasta/2026-03-25/
LOCATION:Railway Station\, 23 Railway Avenue\, Horsham\, VIC\, 3400\, Australia
CATEGORIES:games
ATTACH;FMTTYPE=image/png:https://horshamu3a.org.au/wp-content/uploads/2024/02/Canasta-1.30pm-1.png
END:VEVENT
BEGIN:VEVENT
DTSTART;TZID=Australia/Melbourne:20260318T133000
DTEND;TZID=Australia/Melbourne:20260318T160000
DTSTAMP:20260419T233831
CREATED:20260119T051417Z
LAST-MODIFIED:20260119T051417Z
UID:10018338-1773840600-1773849600@horshamu3a.org.au
SUMMARY:Canasta
DESCRIPTION:With Elizabeth Kaucner \nWe play Bolivia Canasta. Three packs of cards are used\, including all the jokers. The aim is to build sets and sequences. Ideally played by 4 people\, but we sometimes have to improvise with less. \nEach Wednesday at 1.30 pm in the Main Room
URL:https://horshamu3a.org.au/event/canasta/2026-03-18/
LOCATION:Railway Station\, 23 Railway Avenue\, Horsham\, VIC\, 3400\, Australia
CATEGORIES:games
ATTACH;FMTTYPE=image/png:https://horshamu3a.org.au/wp-content/uploads/2024/02/Canasta-1.30pm-1.png
END:VEVENT
BEGIN:VEVENT
DTSTART;TZID=Australia/Melbourne:20260318T100000
DTEND;TZID=Australia/Melbourne:20260318T120000
DTSTAMP:20260419T233831
CREATED:20260302T030309Z
LAST-MODIFIED:20260316T001519Z
UID:10021909-1773828000-1773835200@horshamu3a.org.au
SUMMARY:Nature Watch: Finding the Way & Deadliest Destinations
DESCRIPTION: Finding the Way – Narrated by David Attenborough \nSome animals have an extraordinary ability to find their way. The dung beetle\, an insect revered by ancient Egyptians\, uses the sun\, the moon and even the Milky Way to move its prized ball of dung in the right direction. Pigeons are often considered feeble birdbrains\, but they have incredible memories that can recall several complex travel routes with amazing accuracy and they even use man-made roads and hedgerows to find the quickest way home. \nPlus \nAustralia’s Deadliest Destinations – Narrated by Greg Grainger \nThe series reveals landscapes – from deserts to coral reefs\, from snow-fields to wetlands\, filled with venomous creatures\, such as the platypus.
URL:https://horshamu3a.org.au/event/nature-watch-finding-the-way-deadliest-destinations/
LOCATION:Railway Station\, 23 Railway Avenue\, Horsham\, VIC\, 3400\, Australia
CATEGORIES:documentaries
ATTACH;FMTTYPE=image/png:https://horshamu3a.org.au/wp-content/uploads/2026/03/Australias-Deadliest-Destinations.png
END:VEVENT
BEGIN:VEVENT
DTSTART;TZID=Australia/Melbourne:20260312T093000
DTEND;TZID=Australia/Melbourne:20260312T120000
DTSTAMP:20260419T233831
CREATED:20260221T052257Z
LAST-MODIFIED:20260221T052257Z
UID:10021905-1773307800-1773316800@horshamu3a.org.au
SUMMARY:THE KING AND I: Thursday 12th March | 9:30am Early Screening
DESCRIPTION:Get ready for a morning of pure magic! Horsham U3A invites you to join us for an early screening of the beloved classic musical The King and I. \nOne of the most iconic musicals of all time\, The King and I tells the captivating story of Anna Leonowens\, a strong-willed British schoolteacher who travels to Siam in the 1860s to educate the children of the formidable — and fascinating — King Mongkut. Their spirited clash of cultures\, wills and worldviews makes for a story filled with drama\, humour\, romance and some of the most unforgettable songs ever written for the stage. \nWhether you’re a longtime fan or discovering it for the first time\, this is the perfect way to start your Thursday morning — settle in\, relax\, and let the music transport you! \n📅 Thursday 12th March\n🕤 9:30am – Early Screening\n📍 Horsham U3A\, Old Railway Station \nAll members are warmly welcome. Come along and share the experience with fellow music and film lovers. \nWe look forward to seeing you there!
URL:https://horshamu3a.org.au/event/the-king-and-i-thursday-12th-march-930am-early-screening/
LOCATION:Railway Station\, 23 Railway Avenue\, Horsham\, VIC\, 3400\, Australia
CATEGORIES:films
ATTACH;FMTTYPE=image/png:https://horshamu3a.org.au/wp-content/uploads/2026/02/12th-March.png
END:VEVENT
BEGIN:VEVENT
DTSTART;TZID=Australia/Melbourne:20260311T133000
DTEND;TZID=Australia/Melbourne:20260311T160000
DTSTAMP:20260419T233831
CREATED:20260119T051417Z
LAST-MODIFIED:20260119T051417Z
UID:10018337-1773235800-1773244800@horshamu3a.org.au
SUMMARY:Canasta
DESCRIPTION:With Elizabeth Kaucner \nWe play Bolivia Canasta. Three packs of cards are used\, including all the jokers. The aim is to build sets and sequences. Ideally played by 4 people\, but we sometimes have to improvise with less. \nEach Wednesday at 1.30 pm in the Main Room
URL:https://horshamu3a.org.au/event/canasta/2026-03-11/
LOCATION:Railway Station\, 23 Railway Avenue\, Horsham\, VIC\, 3400\, Australia
CATEGORIES:games
ATTACH;FMTTYPE=image/png:https://horshamu3a.org.au/wp-content/uploads/2024/02/Canasta-1.30pm-1.png
END:VEVENT
BEGIN:VEVENT
DTSTART;TZID=Australia/Melbourne:20260304T133000
DTEND;TZID=Australia/Melbourne:20260304T160000
DTSTAMP:20260419T233831
CREATED:20260119T051417Z
LAST-MODIFIED:20260119T051417Z
UID:10018336-1772631000-1772640000@horshamu3a.org.au
SUMMARY:Canasta
DESCRIPTION:With Elizabeth Kaucner \nWe play Bolivia Canasta. Three packs of cards are used\, including all the jokers. The aim is to build sets and sequences. Ideally played by 4 people\, but we sometimes have to improvise with less. \nEach Wednesday at 1.30 pm in the Main Room
URL:https://horshamu3a.org.au/event/canasta/2026-03-04/
LOCATION:Railway Station\, 23 Railway Avenue\, Horsham\, VIC\, 3400\, Australia
CATEGORIES:games
ATTACH;FMTTYPE=image/png:https://horshamu3a.org.au/wp-content/uploads/2024/02/Canasta-1.30pm-1.png
END:VEVENT
BEGIN:VEVENT
DTSTART;TZID=Australia/Melbourne:20260303T133000
DTEND;TZID=Australia/Melbourne:20260303T160000
DTSTAMP:20260419T233831
CREATED:20260302T021918Z
LAST-MODIFIED:20260302T022623Z
UID:10021906-1772544600-1772553600@horshamu3a.org.au
SUMMARY:Classic Movie Group Presents: "Sleepless in Seattle"
DESCRIPTION:Classic Movie Group Presents: “Sleepless in Seattle”\nJoin our Classic Movie Group on Tuesday 3rd March at 1.30pm for a screening of the much‑loved romantic comedy “Sleepless in Seattle”\, starring Tom Hanks and Meg Ryan. Settle in for an afternoon of nostalgia\, charm and gentle humour as we follow a widowed architect\, his determined young son and a journalist drawn to their story through a late‑night radio show. \n			March 3\n	  @\n1:30 pm\n	  –\n4:00 pm \n\n	Tags:\n		\n	FilmClassics\,\n\n	MegRyan\,\n\n	TomHanks
URL:https://horshamu3a.org.au/event/classic-movie-group-presents-sleepless-in-seattle/
LOCATION:Railway Station\, 23 Railway Avenue\, Horsham\, VIC\, 3400\, Australia
CATEGORIES:films
ATTACH;FMTTYPE=image/png:https://horshamu3a.org.au/wp-content/uploads/2026/03/sleeepless-in-seattle.png
END:VEVENT
BEGIN:VEVENT
DTSTART;TZID=Australia/Melbourne:20260225T133000
DTEND;TZID=Australia/Melbourne:20260225T160000
DTSTAMP:20260419T233831
CREATED:20260119T051417Z
LAST-MODIFIED:20260119T051417Z
UID:10018335-1772026200-1772035200@horshamu3a.org.au
SUMMARY:Canasta
DESCRIPTION:With Elizabeth Kaucner \nWe play Bolivia Canasta. Three packs of cards are used\, including all the jokers. The aim is to build sets and sequences. Ideally played by 4 people\, but we sometimes have to improvise with less. \nEach Wednesday at 1.30 pm in the Main Room
URL:https://horshamu3a.org.au/event/canasta/2026-02-25/
LOCATION:Railway Station\, 23 Railway Avenue\, Horsham\, VIC\, 3400\, Australia
CATEGORIES:games
ATTACH;FMTTYPE=image/png:https://horshamu3a.org.au/wp-content/uploads/2024/02/Canasta-1.30pm-1.png
END:VEVENT
BEGIN:VEVENT
DTSTART;TZID=Australia/Melbourne:20260218T133000
DTEND;TZID=Australia/Melbourne:20260218T160000
DTSTAMP:20260419T233831
CREATED:20260119T051417Z
LAST-MODIFIED:20260119T051417Z
UID:10018334-1771421400-1771430400@horshamu3a.org.au
SUMMARY:Canasta
DESCRIPTION:With Elizabeth Kaucner \nWe play Bolivia Canasta. Three packs of cards are used\, including all the jokers. The aim is to build sets and sequences. Ideally played by 4 people\, but we sometimes have to improvise with less. \nEach Wednesday at 1.30 pm in the Main Room
URL:https://horshamu3a.org.au/event/canasta/2026-02-18/
LOCATION:Railway Station\, 23 Railway Avenue\, Horsham\, VIC\, 3400\, Australia
CATEGORIES:games
ATTACH;FMTTYPE=image/png:https://horshamu3a.org.au/wp-content/uploads/2024/02/Canasta-1.30pm-1.png
END:VEVENT
BEGIN:VEVENT
DTSTART;TZID=Australia/Melbourne:20260212T100000
DTEND;TZID=Australia/Melbourne:20260212T120000
DTSTAMP:20260419T233831
CREATED:20260207T003418Z
LAST-MODIFIED:20260207T003418Z
UID:10020937-1770890400-1770897600@horshamu3a.org.au
SUMMARY:Sounds of Music Present: "The Fabulous Dorseys"
DESCRIPTION:“The Fabulous Dorseys”  is a 1947 musical biopic about the big‑band brothers Tommy and Jimmy Dorsey. \nBasic details\n\n\nTitle: The Fabulous Dorseys \n\n\nYear: 1947 \n\n\nType: Musical biographical film \n\n\nDirector: Alfred E. Green \n\n\nStars: Tommy Dorsey\, Jimmy Dorsey\, Janet Blair\, Paul Whiteman and others. \n\n\nStory in plain language\nThe film follows Tommy and Jimmy Dorsey from their childhood in a Pennsylvania coal‑mining town through their rise as famous bandleaders. Their father insists they learn instruments\, they form early bands\, achieve radio and touring success\, then fall out and go their separate ways before finally reconciling.​ \nMusic and feel\nIt is packed with big‑band swing and jazz numbers\, including some of the Dorsey hits such as “I’m Getting Sentimental Over You\,” “Tangerine” and “I’ll Never Smile Again.” Cameos from bandleader Paul Whiteman and pianist Art Tatum give it extra appeal for music lovers\, and there is a famous jam‑session sequence showcasing their playing.​​ \nFor your Sounds of Music session you can describe it to members as a classic 1940s musical portrait of two real‑life bandleader brothers\, filled with swing‑era tunes and a nostalgic “rise\, fall and reunion” story.
URL:https://horshamu3a.org.au/event/sounds-of-music-present-the-fabulous-dorseys/
LOCATION:Railway Station\, 23 Railway Avenue\, Horsham\, VIC\, 3400\, Australia
CATEGORIES:films
ATTACH;FMTTYPE=image/png:https://horshamu3a.org.au/wp-content/uploads/2026/02/The-fabulous-dorsey-brothers.png
END:VEVENT
BEGIN:VEVENT
DTSTART;TZID=Australia/Melbourne:20260211T133000
DTEND;TZID=Australia/Melbourne:20260211T160000
DTSTAMP:20260419T233831
CREATED:20260119T051417Z
LAST-MODIFIED:20260119T051417Z
UID:10018333-1770816600-1770825600@horshamu3a.org.au
SUMMARY:Canasta
DESCRIPTION:With Elizabeth Kaucner \nWe play Bolivia Canasta. Three packs of cards are used\, including all the jokers. The aim is to build sets and sequences. Ideally played by 4 people\, but we sometimes have to improvise with less. \nEach Wednesday at 1.30 pm in the Main Room
URL:https://horshamu3a.org.au/event/canasta/2026-02-11/
LOCATION:Railway Station\, 23 Railway Avenue\, Horsham\, VIC\, 3400\, Australia
CATEGORIES:games
ATTACH;FMTTYPE=image/png:https://horshamu3a.org.au/wp-content/uploads/2024/02/Canasta-1.30pm-1.png
END:VEVENT
BEGIN:VEVENT
DTSTART;TZID=Australia/Melbourne:20260204T133000
DTEND;TZID=Australia/Melbourne:20260204T160000
DTSTAMP:20260419T233831
CREATED:20260119T051417Z
LAST-MODIFIED:20260119T051417Z
UID:10018332-1770211800-1770220800@horshamu3a.org.au
SUMMARY:Canasta
DESCRIPTION:With Elizabeth Kaucner \nWe play Bolivia Canasta. Three packs of cards are used\, including all the jokers. The aim is to build sets and sequences. Ideally played by 4 people\, but we sometimes have to improvise with less. \nEach Wednesday at 1.30 pm in the Main Room
URL:https://horshamu3a.org.au/event/canasta/2026-02-04/
LOCATION:Railway Station\, 23 Railway Avenue\, Horsham\, VIC\, 3400\, Australia
CATEGORIES:games
ATTACH;FMTTYPE=image/png:https://horshamu3a.org.au/wp-content/uploads/2024/02/Canasta-1.30pm-1.png
END:VEVENT
END:VCALENDAR