BEGIN:VCALENDAR
VERSION:2.0
PRODID:-//U3A - ECPv6.15.20//NONSGML v1.0//EN
CALSCALE:GREGORIAN
METHOD:PUBLISH
X-WR-CALNAME:U3A
X-ORIGINAL-URL:https://horshamu3a.org.au
X-WR-CALDESC:Events for U3A
REFRESH-INTERVAL;VALUE=DURATION:PT1H
X-Robots-Tag:noindex
X-PUBLISHED-TTL:PT1H
BEGIN:VTIMEZONE
TZID:Australia/Melbourne
BEGIN:STANDARD
TZOFFSETFROM:+1100
TZOFFSETTO:+1000
TZNAME:AEST
DTSTART:20250405T160000
END:STANDARD
BEGIN:DAYLIGHT
TZOFFSETFROM:+1000
TZOFFSETTO:+1100
TZNAME:AEDT
DTSTART:20251004T160000
END:DAYLIGHT
BEGIN:STANDARD
TZOFFSETFROM:+1100
TZOFFSETTO:+1000
TZNAME:AEST
DTSTART:20260404T160000
END:STANDARD
BEGIN:DAYLIGHT
TZOFFSETFROM:+1000
TZOFFSETTO:+1100
TZNAME:AEDT
DTSTART:20261003T160000
END:DAYLIGHT
BEGIN:STANDARD
TZOFFSETFROM:+1100
TZOFFSETTO:+1000
TZNAME:AEST
DTSTART:20270403T160000
END:STANDARD
BEGIN:DAYLIGHT
TZOFFSETFROM:+1000
TZOFFSETTO:+1100
TZNAME:AEDT
DTSTART:20271002T160000
END:DAYLIGHT
END:VTIMEZONE
BEGIN:VEVENT
DTSTART;TZID=Australia/Melbourne:20260601T090000
DTEND;TZID=Australia/Melbourne:20260601T100000
DTSTAMP:20260420T104307
CREATED:20260119T040018Z
LAST-MODIFIED:20260119T040018Z
UID:10014999-1780304400-1780308000@horshamu3a.org.au
SUMMARY:Seated Gentle Exercises (Monday)
DESCRIPTION:Now on Monday’s from 9.15 am is an extra class on Seated Gentle Exercises. \n  \n 
URL:https://horshamu3a.org.au/event/seated-gentle-exercises-monday-2/2026-06-01/
LOCATION:Railway Station\, 23 Railway Avenue\, Horsham\, VIC\, 3400\, Australia
CATEGORIES:active
ATTACH;FMTTYPE=image/jpeg:https://horshamu3a.org.au/wp-content/uploads/2024/03/Seated-Gentle-exercise-group-2023-rotated.jpg
END:VEVENT
BEGIN:VEVENT
DTSTART;TZID=Australia/Melbourne:20260601T090000
DTEND;TZID=Australia/Melbourne:20260601T170000
DTSTAMP:20260420T104307
CREATED:20260118T024328Z
LAST-MODIFIED:20260118T024328Z
UID:10016051-1780304400-1780333200@horshamu3a.org.au
SUMMARY:Table Tennis (Monday)
DESCRIPTION:With Graeme Kuhne \nTable tennis is held at the Table Tennis Association building 3 mornings per week.  Come along for a social game\, exercise and a lot of fun. Small cost per session.  $3.00 \nEvery Monday\, Wednesday and Friday at 9.00 am at the Table Tennis Association 
URL:https://horshamu3a.org.au/event/table-tennis-monday/2026-06-01/
LOCATION:Table Tennis Association\, 11 Harriett Street\, Horsham\, VIC\, 3400\, Australia
CATEGORIES:lifestyle
ATTACH;FMTTYPE=image/png:https://horshamu3a.org.au/wp-content/uploads/2025/01/table-tennis-monday-1.png
END:VEVENT
BEGIN:VEVENT
DTSTART;TZID=Australia/Melbourne:20260601T100000
DTEND;TZID=Australia/Melbourne:20260601T120000
DTSTAMP:20260420T104307
CREATED:20260123T221640Z
LAST-MODIFIED:20260123T221640Z
UID:10018870-1780308000-1780315200@horshamu3a.org.au
SUMMARY:China Painting
DESCRIPTION:With Joyce Lane. \nSubjects chosen by the individual are painted on china. The china is then fired in a kiln to attain permanence. \nAssistance is available for new members.  \nHeld every Monday from 10am in the Studio
URL:https://horshamu3a.org.au/event/china-painting/2026-06-01/
LOCATION:Railway Station\, 23 Railway Avenue\, Horsham\, VIC\, 3400\, Australia
CATEGORIES:craft
ATTACH;FMTTYPE=image/png:https://horshamu3a.org.au/wp-content/uploads/2024/02/china-painting-1.png
ORGANIZER;CN="June Liddy":MAILTO:office@horshamu3a.org.au
END:VEVENT
BEGIN:VEVENT
DTSTART;TZID=Australia/Melbourne:20260601T133000
DTEND;TZID=Australia/Melbourne:20260601T160000
DTSTAMP:20260420T104307
CREATED:20260119T042452Z
LAST-MODIFIED:20260119T042452Z
UID:10016733-1780320600-1780329600@horshamu3a.org.au
SUMMARY:Bridge
DESCRIPTION:With Davifd Cariss. \nThis group plays contract bridge which is one of the whist games. Suited to anyone who has played 500 or Euchre. \nEvery Monday at 1.30 pm in the Main Room
URL:https://horshamu3a.org.au/event/bridge/2026-06-01/
LOCATION:Railway Station\, 23 Railway Avenue\, Horsham\, VIC\, 3400\, Australia
CATEGORIES:games
ATTACH;FMTTYPE=image/png:https://horshamu3a.org.au/wp-content/uploads/2024/02/Bridge.png
ORGANIZER;CN="June Liddy":MAILTO:office@horshamu3a.org.au
END:VEVENT
BEGIN:VEVENT
DTSTART;TZID=Australia/Melbourne:20260602T100000
DTEND;TZID=Australia/Melbourne:20260602T120000
DTSTAMP:20260420T104307
CREATED:20260119T042808Z
LAST-MODIFIED:20260119T045145Z
UID:10016992-1780394400-1780401600@horshamu3a.org.au
SUMMARY:Art: Pastels & Water Colours
DESCRIPTION:With Robin Ellis. \nThis group meets to learn and practice new skills in Acrylic and Water Colour Painting and Pastel and Pencil Drawing. Come along and join in and learn new skills.
URL:https://horshamu3a.org.au/event/art-pastels-water-colours/2026-06-02/
LOCATION:Railway Station\, 23 Railway Avenue\, Horsham\, VIC\, 3400\, Australia
CATEGORIES:craft
ATTACH;FMTTYPE=image/png:https://horshamu3a.org.au/wp-content/uploads/2024/02/Pastels-Water-Colours.png
END:VEVENT
BEGIN:VEVENT
DTSTART;TZID=Australia/Melbourne:20260602T100000
DTEND;TZID=Australia/Melbourne:20260602T120000
DTSTAMP:20260420T104307
CREATED:20260328T010018Z
LAST-MODIFIED:20260328T010019Z
UID:10022174-1780394400-1780401600@horshamu3a.org.au
SUMMARY:Singing For Fun
DESCRIPTION:bout Course\n\nWith June Liddy   \nThis class offers members the chance to sing together. Come along and be involved with other enthusiastic singers. \n1st and 3rd Tuesday each month at 10.00 am in the Main Room     
URL:https://horshamu3a.org.au/event/singing-for-fun-2-2/2026-06-02/
LOCATION:Railway Station\, 23 Railway Avenue\, Horsham\, VIC\, 3400\, Australia
CATEGORIES:musical & video
ATTACH;FMTTYPE=image/png:https://horshamu3a.org.au/wp-content/uploads/2026/01/singing-for-fun.png
ORGANIZER;CN="June Liddy":MAILTO:office@horshamu3a.org.au
END:VEVENT
BEGIN:VEVENT
DTSTART;TZID=Australia/Melbourne:20260602T130000
DTEND;TZID=Australia/Melbourne:20260602T160000
DTSTAMP:20260420T104307
CREATED:20260119T044250Z
LAST-MODIFIED:20260119T044250Z
UID:10017252-1780405200-1780416000@horshamu3a.org.au
SUMMARY:Solo
DESCRIPTION:With Maxine Ferguson \nA small enthusiastic group play Solo (another card game). The participants say it is not a difficult game\, but it does make you think. \nEvery Tuesday at 1.00 pm in the Waiting Room       
URL:https://horshamu3a.org.au/event/solo/2026-06-02/
LOCATION:Railway Station\, 23 Railway Avenue\, Horsham\, VIC\, 3400\, Australia
CATEGORIES:games
ATTACH;FMTTYPE=image/png:https://horshamu3a.org.au/wp-content/uploads/2024/02/Solo.png
ORGANIZER;CN="June Liddy":MAILTO:office@horshamu3a.org.au
END:VEVENT
BEGIN:VEVENT
DTSTART;TZID=Australia/Melbourne:20260603T090000
DTEND;TZID=Australia/Melbourne:20260603T100000
DTSTAMP:20260420T104307
CREATED:20260119T045949Z
LAST-MODIFIED:20260119T045949Z
UID:10017771-1780477200-1780480800@horshamu3a.org.au
SUMMARY:Tai Chi
DESCRIPTION:Contact Person: Rhonda Coffey \nSlow gentle movement with deep breathing. Great for balance and coordination. You can do the exercises standing or in a chair.   Cost $20.00 per term                  \nEvery Wednesday and Friday at 9.15 am at Hamilton Lamb Hall
URL:https://horshamu3a.org.au/event/tai-chi/2026-06-03/
LOCATION:Hamilton Lamb Hall\, 13 Kalkee Road\, Horsham\, Vic\, 3400\, Australia
CATEGORIES:active
ATTACH;FMTTYPE=image/png:https://horshamu3a.org.au/wp-content/uploads/2024/09/Tai-Chi-2.png
END:VEVENT
BEGIN:VEVENT
DTSTART;TZID=Australia/Melbourne:20260603T090000
DTEND;TZID=Australia/Melbourne:20260603T170000
DTSTAMP:20260420T104307
CREATED:20260119T045627Z
LAST-MODIFIED:20260119T045627Z
UID:10017512-1780477200-1780506000@horshamu3a.org.au
SUMMARY:Table Tennis (Wednesday)
DESCRIPTION:With Graeme Kuhne \nTable tennis is held at the Table Tennis Association building 3 mornings per week.  Come along for a social game\, exercise and a lot of fun. Small cost per session.  $3.00 \nEvery Monday\, Wednesday and Friday at 9.00 am at the Table Tennis Association 
URL:https://horshamu3a.org.au/event/table-tennis-wednesday/2026-06-03/
LOCATION:Table Tennis Association\, 11 Harriett Street\, Horsham\, VIC\, 3400\, Australia
CATEGORIES:active
ATTACH;FMTTYPE=image/png:https://horshamu3a.org.au/wp-content/uploads/2024/02/table-tennis-wednesday.png
ORGANIZER;CN="June Liddy":MAILTO:office@horshamu3a.org.au
END:VEVENT
BEGIN:VEVENT
DTSTART;TZID=Australia/Melbourne:20260603T100000
DTEND;TZID=Australia/Melbourne:20260603T120000
DTSTAMP:20260420T104307
CREATED:20260119T050901Z
LAST-MODIFIED:20260119T050901Z
UID:10018017-1780480800-1780488000@horshamu3a.org.au
SUMMARY:Card Making
DESCRIPTION:With Anita Masero . \nCome along and join this small group and learn skills and make greeting cards. Additional cost of $20 per session to cover costs of materials. \nAll materials required for making the set of 3 cards presented in the workshop is supplied. Including card bases\, embellishments\, ribbons\, sparkles\, colouring markers and more. \nHeld on the 1st Wednesday of each month from 10am in the Studio.
URL:https://horshamu3a.org.au/event/card-making/2026-06-03/
LOCATION:Railway Station\, 23 Railway Avenue\, Horsham\, VIC\, 3400\, Australia
CATEGORIES:craft
ATTACH;FMTTYPE=image/png:https://horshamu3a.org.au/wp-content/uploads/2024/02/card-making.png
END:VEVENT
BEGIN:VEVENT
DTSTART;TZID=Australia/Melbourne:20260603T133000
DTEND;TZID=Australia/Melbourne:20260603T160000
DTSTAMP:20260420T104307
CREATED:20260119T051135Z
LAST-MODIFIED:20260119T051206Z
UID:10018090-1780493400-1780502400@horshamu3a.org.au
SUMMARY:500
DESCRIPTION:With June Liddy \nFun for all on 500 cards afternoons. June is tutor\, John is scorer & Maxi\, Bob\, Peter and Bill would love to show you the ropes. We stop about 3pm for a cuppa. No experience is necessary. We take errors in our stride and remind you what is trumps\, whenever necessary. \nEvery Wednesday from 1.00 pm to 3.30 ish in the Main Room   
URL:https://horshamu3a.org.au/event/500/2026-06-03/
LOCATION:Railway Station\, 23 Railway Avenue\, Horsham\, VIC\, 3400\, Australia
CATEGORIES:games
ATTACH;FMTTYPE=image/png:https://horshamu3a.org.au/wp-content/uploads/2024/02/500-K-1.png
ORGANIZER;CN="June Liddy":MAILTO:office@horshamu3a.org.au
END:VEVENT
BEGIN:VEVENT
DTSTART;TZID=Australia/Melbourne:20260603T133000
DTEND;TZID=Australia/Melbourne:20260603T160000
DTSTAMP:20260420T104307
CREATED:20260119T051417Z
LAST-MODIFIED:20260119T051417Z
UID:10018349-1780493400-1780502400@horshamu3a.org.au
SUMMARY:Canasta
DESCRIPTION:With Elizabeth Kaucner \nWe play Bolivia Canasta. Three packs of cards are used\, including all the jokers. The aim is to build sets and sequences. Ideally played by 4 people\, but we sometimes have to improvise with less. \nEach Wednesday at 1.30 pm in the Main Room
URL:https://horshamu3a.org.au/event/canasta/2026-06-03/
LOCATION:Railway Station\, 23 Railway Avenue\, Horsham\, VIC\, 3400\, Australia
CATEGORIES:games
ATTACH;FMTTYPE=image/png:https://horshamu3a.org.au/wp-content/uploads/2024/02/Canasta-1.30pm-1.png
END:VEVENT
BEGIN:VEVENT
DTSTART;TZID=Australia/Melbourne:20260603T133000
DTEND;TZID=Australia/Melbourne:20260603T160000
DTSTAMP:20260420T104307
CREATED:20260214T080351Z
LAST-MODIFIED:20260214T080351Z
UID:10021144-1780493400-1780502400@horshamu3a.org.au
SUMMARY:Mah Jong
DESCRIPTION:With Heather Crosthwaite \nThis is the oriental based game with 4 players\, not the game you may have played on the computer. Challenge yourself with something new. \nEvery Wednesday at 1.30 pm in the Waiting Room  
URL:https://horshamu3a.org.au/event/mah-jong/2026-06-03/
LOCATION:Railway Station\, 23 Railway Avenue\, Horsham\, VIC\, 3400\, Australia
CATEGORIES:games
ATTACH;FMTTYPE=image/png:https://horshamu3a.org.au/wp-content/uploads/2024/02/Mah-Jong-2.png
ORGANIZER;CN="June Liddy":MAILTO:office@horshamu3a.org.au
END:VEVENT
BEGIN:VEVENT
DTSTART;TZID=Australia/Melbourne:20260604T090000
DTEND;TZID=Australia/Melbourne:20260604T100000
DTSTAMP:20260420T104307
CREATED:20260120T061914Z
LAST-MODIFIED:20260120T062712Z
UID:10018611-1780563600-1780567200@horshamu3a.org.au
SUMMARY:Seated Gentle Exercises (Thursday)
DESCRIPTION:With Breanne Mills \nThis class is a 45 minutes session\, comprising a mixture of seated and standing movements. The emphasis is on low impact exercises with the opportunity to work harder\, depending on your fitness and skill level. The aim is to move all parts of the body\, thus maintaining a wide range of movement to enable us to continue to enjoy life and daily activities. It includes balls\, bean bags\, weights and fun routines. Cost $8.00  per session. \nEvery Monday & Thursday at 9.15 am at the Hamilton Lamb Halllth
URL:https://horshamu3a.org.au/event/seated-gentle-exercises-thursday/2026-06-04/
LOCATION:Hamilton Lamb Hall\, 13 Kalkee Road\, Horsham\, Vic\, 3400\, Australia
CATEGORIES:active
ATTACH;FMTTYPE=image/jpeg:https://horshamu3a.org.au/wp-content/uploads/2024/03/Seated-Gentle-exercise-group-2023-rotated.jpg
ORGANIZER;CN="June Liddy":MAILTO:office@horshamu3a.org.au
END:VEVENT
BEGIN:VEVENT
DTSTART;TZID=Australia/Melbourne:20260604T100000
DTEND;TZID=Australia/Melbourne:20260604T120000
DTSTAMP:20260420T104307
CREATED:20260214T081145Z
LAST-MODIFIED:20260214T081145Z
UID:10021466-1780567200-1780574400@horshamu3a.org.au
SUMMARY:Sounds of Music
DESCRIPTION:With Elizabeth Kaucner \nThere is a topic for the 1st Thursday of the month and members are invited to bring music to share.  On the 2nd Thursday you are invited to share a musical. The rest of the month you can enjoy a selection of enjoyable and entertaining music. \nEvery Thursday at 10.00 am in the Main Room       
URL:https://horshamu3a.org.au/event/sounds-of-music-2/2026-06-04/
LOCATION:Railway Station\, 23 Railway Avenue\, Horsham\, VIC\, 3400\, Australia
CATEGORIES:musical & video
ATTACH;FMTTYPE=image/png:https://horshamu3a.org.au/wp-content/uploads/2024/01/sounds-of-music-1.png
ORGANIZER;CN="June Liddy":MAILTO:office@horshamu3a.org.au
END:VEVENT
BEGIN:VEVENT
DTSTART;TZID=Australia/Melbourne:20260604T103000
DTEND;TZID=Australia/Melbourne:20260604T123000
DTSTAMP:20260420T104307
CREATED:20260123T222914Z
LAST-MODIFIED:20260123T222914Z
UID:10019131-1780569000-1780576200@horshamu3a.org.au
SUMMARY:Patchwork & Stitch
DESCRIPTION:With Leande Elliott \nAn opportunity to meet with a group that does stitching and patchwork. It will give you the opportunity to enhance your existing skills and learn new ones. \nHeld every Thursday from 10.30am in the Waiting Room.
URL:https://horshamu3a.org.au/event/patchwork-stitch/2026-06-04/
LOCATION:Railway Station\, 23 Railway Avenue\, Horsham\, VIC\, 3400\, Australia
CATEGORIES:craft
ATTACH;FMTTYPE=image/png:https://horshamu3a.org.au/wp-content/uploads/2024/01/patchwork-stitch-1.png
END:VEVENT
BEGIN:VEVENT
DTSTART;TZID=Australia/Melbourne:20260604T133000
DTEND;TZID=Australia/Melbourne:20260604T160000
DTSTAMP:20260420T104307
CREATED:20260123T223150Z
LAST-MODIFIED:20260123T223150Z
UID:10019391-1780579800-1780588800@horshamu3a.org.au
SUMMARY:Scrabble
DESCRIPTION:With Rhonda Pilgrim \nCome and join us if you want to improve your vocabulary whilst having fun. \nEvery Thursday at 1.30 pm in the Main Room               
URL:https://horshamu3a.org.au/event/scrabble/2026-06-04/
LOCATION:Railway Station\, 23 Railway Avenue\, Horsham\, VIC\, 3400\, Australia
CATEGORIES:games
ATTACH;FMTTYPE=image/png:https://horshamu3a.org.au/wp-content/uploads/2024/01/scrabble.png
END:VEVENT
BEGIN:VEVENT
DTSTART;TZID=Australia/Melbourne:20260605T083000
DTEND;TZID=Australia/Melbourne:20260605T120000
DTSTAMP:20260420T104307
CREATED:20260123T223524Z
LAST-MODIFIED:20260123T223524Z
UID:10019651-1780648200-1780660800@horshamu3a.org.au
SUMMARY:Table Tennis (Friday)
DESCRIPTION:With Graeme Kuhne \nTable tennis is held at the Table Tennis Association building 3 mornings per week.  Come along for a social game\, exercise and a lot of fun. Small cost per session.  $3.00 \nEvery Monday\, Wednesday and Friday at 9.00 am at the Table Tennis Association 
URL:https://horshamu3a.org.au/event/table-tennis-friday/2026-06-05/
LOCATION:Table Tennis Association\, 11 Harriett Street\, Horsham\, VIC\, 3400\, Australia
CATEGORIES:active
ATTACH;FMTTYPE=image/png:https://horshamu3a.org.au/wp-content/uploads/2024/01/table-tennis-2.png
END:VEVENT
BEGIN:VEVENT
DTSTART;TZID=Australia/Melbourne:20260605T090000
DTEND;TZID=Australia/Melbourne:20260605T100000
DTSTAMP:20260420T104307
CREATED:20260123T223844Z
LAST-MODIFIED:20260123T223844Z
UID:10019911-1780650000-1780653600@horshamu3a.org.au
SUMMARY:Tai Chi (Friday)
DESCRIPTION:Contact Person: Rhonda Coffey \nSlow gentle movement with deep breathing. Great for balance and coordination. You can do the exercises standing or in a chair.   Cost $20.00 per term                  \nEvery Wednesday and Friday at 9.15 am at Hamilton Lamb Hall
URL:https://horshamu3a.org.au/event/tai-chi-friday/2026-06-05/
LOCATION:Hamilton Lamb Hall\, 13 Kalkee Road\, Horsham\, Vic\, 3400\, Australia
CATEGORIES:active
ATTACH;FMTTYPE=image/png:https://horshamu3a.org.au/wp-content/uploads/2024/09/Tai-Chi-1.png
END:VEVENT
BEGIN:VEVENT
DTSTART;TZID=Australia/Melbourne:20260605T093000
DTEND;TZID=Australia/Melbourne:20260605T120000
DTSTAMP:20260420T104307
CREATED:20260123T224100Z
LAST-MODIFIED:20260123T224100Z
UID:10020171-1780651800-1780660800@horshamu3a.org.au
SUMMARY:Oil Painting
DESCRIPTION:Find out how to use oils to create a pleasing picture. Most pictures are done from photographs rather than real life objects. You will need to provide your own materials.
URL:https://horshamu3a.org.au/event/oil-painting/2026-06-05/
LOCATION:Railway Station\, 23 Railway Avenue\, Horsham\, VIC\, 3400\, Australia
CATEGORIES:craft
ATTACH;FMTTYPE=image/png:https://horshamu3a.org.au/wp-content/uploads/2025/11/Screenshot-2025-11-25-152152.png
END:VEVENT
BEGIN:VEVENT
DTSTART;TZID=Australia/Melbourne:20260605T133000
DTEND;TZID=Australia/Melbourne:20260605T150000
DTSTAMP:20260420T104307
CREATED:20260123T224518Z
LAST-MODIFIED:20260123T224518Z
UID:10020691-1780666200-1780671600@horshamu3a.org.au
SUMMARY:Technology Group
DESCRIPTION:With Trish Maybery \nHorsham U3A’s new Tech Skills group will introduce basic computer use\, internet and email\, staying safe online\, and simple social media. Members will then explore graphic design with Canva\, beginner photo editing\, and practical ways to use AI tools for everyday tasks\, creativity and learning. \nEvery Friday at 1.30 pm in the Main Room            
URL:https://horshamu3a.org.au/event/technology-group/2026-06-05/
LOCATION:Railway Station\, 23 Railway Avenue\, Horsham\, VIC\, 3400\, Australia
CATEGORIES:technology
ATTACH;FMTTYPE=image/png:https://horshamu3a.org.au/wp-content/uploads/2024/02/Technology-group.png
ORGANIZER;CN="Trish Maybery":MAILTO:twisties34@gmail.com
END:VEVENT
BEGIN:VEVENT
DTSTART;TZID=Australia/Melbourne:20260605T133000
DTEND;TZID=Australia/Melbourne:20260605T160000
DTSTAMP:20260420T104307
CREATED:20260123T224302Z
LAST-MODIFIED:20260123T224302Z
UID:10020431-1780666200-1780675200@horshamu3a.org.au
SUMMARY:Knitting & Crochet
DESCRIPTION:With Maxine Ferguson. \nMembers meet weekly to chat and share ideas as they work on their individual projects. Bring your own yarn\, needles or a crochet hook. Help is available if needed. \nHeld every Friday afternoon from 1.30pm in the Waiting Room.
URL:https://horshamu3a.org.au/event/knitting-crochet/2026-06-05/
LOCATION:Railway Station\, 23 Railway Avenue\, Horsham\, VIC\, 3400\, Australia
CATEGORIES:craft
ATTACH;FMTTYPE=image/png:https://horshamu3a.org.au/wp-content/uploads/2024/02/Knitting-Crochet.png
END:VEVENT
END:VCALENDAR