BEGIN:VCALENDAR
VERSION:2.0
PRODID:-//U3A - ECPv6.15.20//NONSGML v1.0//EN
CALSCALE:GREGORIAN
METHOD:PUBLISH
X-WR-CALNAME:U3A
X-ORIGINAL-URL:https://horshamu3a.org.au
X-WR-CALDESC:Events for U3A
REFRESH-INTERVAL;VALUE=DURATION:PT1H
X-Robots-Tag:noindex
X-PUBLISHED-TTL:PT1H
BEGIN:VTIMEZONE
TZID:Australia/Melbourne
BEGIN:STANDARD
TZOFFSETFROM:+1100
TZOFFSETTO:+1000
TZNAME:AEST
DTSTART:20250405T160000
END:STANDARD
BEGIN:DAYLIGHT
TZOFFSETFROM:+1000
TZOFFSETTO:+1100
TZNAME:AEDT
DTSTART:20251004T160000
END:DAYLIGHT
BEGIN:STANDARD
TZOFFSETFROM:+1100
TZOFFSETTO:+1000
TZNAME:AEST
DTSTART:20260404T160000
END:STANDARD
BEGIN:DAYLIGHT
TZOFFSETFROM:+1000
TZOFFSETTO:+1100
TZNAME:AEDT
DTSTART:20261003T160000
END:DAYLIGHT
BEGIN:STANDARD
TZOFFSETFROM:+1100
TZOFFSETTO:+1000
TZNAME:AEST
DTSTART:20270403T160000
END:STANDARD
BEGIN:DAYLIGHT
TZOFFSETFROM:+1000
TZOFFSETTO:+1100
TZNAME:AEDT
DTSTART:20271002T160000
END:DAYLIGHT
END:VTIMEZONE
BEGIN:VEVENT
DTSTART;TZID=Australia/Melbourne:20260410T100000
DTEND;TZID=Australia/Melbourne:20260410T120000
DTSTAMP:20260419T225204
CREATED:20260409T051427Z
LAST-MODIFIED:20260409T051427Z
UID:10022403-1775815200-1775822400@horshamu3a.org.au
SUMMARY:Committee Meeting: 10th April 2026
DESCRIPTION:June Committee Meeting				\n				\n				\n				\n									Our next Committee Meeting is scheduled for Friday\, 13th June 2025 from 10am to be held in the main room. 								\n				\n				\n				\n									Committee members are asked to please have their reports ready to present for any discussion. 								\n				\n				\n				\n					Friday\, June 13th | 10am
URL:https://horshamu3a.org.au/event/committee-meeting-10th-april-2026/
LOCATION:Railway Station\, 23 Railway Avenue\, Horsham\, VIC\, 3400\, Australia
CATEGORIES:administration
ATTACH;FMTTYPE=image/png:https://horshamu3a.org.au/wp-content/uploads/2026/04/Committee-Meeting-April-2026.png
ORGANIZER;CN="June Liddy":MAILTO:office@horshamu3a.org.au
END:VEVENT
END:VCALENDAR