BEGIN:VCALENDAR
VERSION:2.0
PRODID:-//U3A - ECPv6.15.20//NONSGML v1.0//EN
CALSCALE:GREGORIAN
METHOD:PUBLISH
X-WR-CALNAME:U3A
X-ORIGINAL-URL:https://horshamu3a.org.au
X-WR-CALDESC:Events for U3A
REFRESH-INTERVAL;VALUE=DURATION:PT1H
X-Robots-Tag:noindex
X-PUBLISHED-TTL:PT1H
BEGIN:VTIMEZONE
TZID:Australia/Melbourne
BEGIN:STANDARD
TZOFFSETFROM:+1100
TZOFFSETTO:+1000
TZNAME:AEST
DTSTART:20250405T160000
END:STANDARD
BEGIN:DAYLIGHT
TZOFFSETFROM:+1000
TZOFFSETTO:+1100
TZNAME:AEDT
DTSTART:20251004T160000
END:DAYLIGHT
BEGIN:STANDARD
TZOFFSETFROM:+1100
TZOFFSETTO:+1000
TZNAME:AEST
DTSTART:20260404T160000
END:STANDARD
BEGIN:DAYLIGHT
TZOFFSETFROM:+1000
TZOFFSETTO:+1100
TZNAME:AEDT
DTSTART:20261003T160000
END:DAYLIGHT
BEGIN:STANDARD
TZOFFSETFROM:+1100
TZOFFSETTO:+1000
TZNAME:AEST
DTSTART:20270403T160000
END:STANDARD
BEGIN:DAYLIGHT
TZOFFSETFROM:+1000
TZOFFSETTO:+1100
TZNAME:AEDT
DTSTART:20271002T160000
END:DAYLIGHT
END:VTIMEZONE
BEGIN:VEVENT
DTSTART;TZID=Australia/Melbourne:20260519T100000
DTEND;TZID=Australia/Melbourne:20260519T120000
DTSTAMP:20260420T092440
CREATED:20260119T042808Z
LAST-MODIFIED:20260119T045145Z
UID:10016990-1779184800-1779192000@horshamu3a.org.au
SUMMARY:Art: Pastels & Water Colours
DESCRIPTION:With Robin Ellis. \nThis group meets to learn and practice new skills in Acrylic and Water Colour Painting and Pastel and Pencil Drawing. Come along and join in and learn new skills.
URL:https://horshamu3a.org.au/event/art-pastels-water-colours/2026-05-19/
LOCATION:Railway Station\, 23 Railway Avenue\, Horsham\, VIC\, 3400\, Australia
CATEGORIES:craft
ATTACH;FMTTYPE=image/png:https://horshamu3a.org.au/wp-content/uploads/2024/02/Pastels-Water-Colours.png
END:VEVENT
BEGIN:VEVENT
DTSTART;TZID=Australia/Melbourne:20260519T100000
DTEND;TZID=Australia/Melbourne:20260519T120000
DTSTAMP:20260420T092440
CREATED:20260328T010018Z
LAST-MODIFIED:20260328T010019Z
UID:10022173-1779184800-1779192000@horshamu3a.org.au
SUMMARY:Singing For Fun
DESCRIPTION:bout Course\n\nWith June Liddy   \nThis class offers members the chance to sing together. Come along and be involved with other enthusiastic singers. \n1st and 3rd Tuesday each month at 10.00 am in the Main Room     
URL:https://horshamu3a.org.au/event/singing-for-fun-2-2/2026-05-19/
LOCATION:Railway Station\, 23 Railway Avenue\, Horsham\, VIC\, 3400\, Australia
CATEGORIES:musical & video
ATTACH;FMTTYPE=image/png:https://horshamu3a.org.au/wp-content/uploads/2026/01/singing-for-fun.png
ORGANIZER;CN="June Liddy":MAILTO:office@horshamu3a.org.au
END:VEVENT
BEGIN:VEVENT
DTSTART;TZID=Australia/Melbourne:20260519T130000
DTEND;TZID=Australia/Melbourne:20260519T160000
DTSTAMP:20260420T092440
CREATED:20260119T044250Z
LAST-MODIFIED:20260119T044250Z
UID:10017250-1779195600-1779206400@horshamu3a.org.au
SUMMARY:Solo
DESCRIPTION:With Maxine Ferguson \nA small enthusiastic group play Solo (another card game). The participants say it is not a difficult game\, but it does make you think. \nEvery Tuesday at 1.00 pm in the Waiting Room       
URL:https://horshamu3a.org.au/event/solo/2026-05-19/
LOCATION:Railway Station\, 23 Railway Avenue\, Horsham\, VIC\, 3400\, Australia
CATEGORIES:games
ATTACH;FMTTYPE=image/png:https://horshamu3a.org.au/wp-content/uploads/2024/02/Solo.png
ORGANIZER;CN="June Liddy":MAILTO:office@horshamu3a.org.au
END:VEVENT
BEGIN:VEVENT
DTSTART;TZID=Australia/Melbourne:20260519T133000
DTEND;TZID=Australia/Melbourne:20260519T160000
DTSTAMP:20260420T092440
CREATED:20260214T080046Z
LAST-MODIFIED:20260214T080046Z
UID:10021072-1779197400-1779206400@horshamu3a.org.au
SUMMARY:Reading for Pleasure
DESCRIPTION:With Rhonda Coffey    \nMembers discuss the books they have been reading and make recommendations. A Library staff member presents a short information piece regarding the Library.  Tea and coffee is provided. This is an excellent sharing opportunity. \n3rd Tuesday at 1.30 pm at the Horsham Library   
URL:https://horshamu3a.org.au/event/reading-for-pleasure/2026-05-19/
LOCATION:Wimmera Library\, Mc Laclan Street\, Horsham\, vic\, 3400\, Australia
CATEGORIES:lifestyle
ATTACH;FMTTYPE=image/png:https://horshamu3a.org.au/wp-content/uploads/2025/07/reading-for-pleasure-1.png
END:VEVENT
BEGIN:VEVENT
DTSTART;TZID=Australia/Melbourne:20260520T090000
DTEND;TZID=Australia/Melbourne:20260520T100000
DTSTAMP:20260420T092440
CREATED:20260119T045949Z
LAST-MODIFIED:20260119T045949Z
UID:10017769-1779267600-1779271200@horshamu3a.org.au
SUMMARY:Tai Chi
DESCRIPTION:Contact Person: Rhonda Coffey \nSlow gentle movement with deep breathing. Great for balance and coordination. You can do the exercises standing or in a chair.   Cost $20.00 per term                  \nEvery Wednesday and Friday at 9.15 am at Hamilton Lamb Hall
URL:https://horshamu3a.org.au/event/tai-chi/2026-05-20/
LOCATION:Hamilton Lamb Hall\, 13 Kalkee Road\, Horsham\, Vic\, 3400\, Australia
CATEGORIES:active
ATTACH;FMTTYPE=image/png:https://horshamu3a.org.au/wp-content/uploads/2024/09/Tai-Chi-2.png
END:VEVENT
BEGIN:VEVENT
DTSTART;TZID=Australia/Melbourne:20260520T090000
DTEND;TZID=Australia/Melbourne:20260520T170000
DTSTAMP:20260420T092440
CREATED:20260119T045627Z
LAST-MODIFIED:20260119T045627Z
UID:10017510-1779267600-1779296400@horshamu3a.org.au
SUMMARY:Table Tennis (Wednesday)
DESCRIPTION:With Graeme Kuhne \nTable tennis is held at the Table Tennis Association building 3 mornings per week.  Come along for a social game\, exercise and a lot of fun. Small cost per session.  $3.00 \nEvery Monday\, Wednesday and Friday at 9.00 am at the Table Tennis Association 
URL:https://horshamu3a.org.au/event/table-tennis-wednesday/2026-05-20/
LOCATION:Table Tennis Association\, 11 Harriett Street\, Horsham\, VIC\, 3400\, Australia
CATEGORIES:active
ATTACH;FMTTYPE=image/png:https://horshamu3a.org.au/wp-content/uploads/2024/02/table-tennis-wednesday.png
ORGANIZER;CN="June Liddy":MAILTO:office@horshamu3a.org.au
END:VEVENT
BEGIN:VEVENT
DTSTART;TZID=Australia/Melbourne:20260520T100000
DTEND;TZID=Australia/Melbourne:20260520T120000
DTSTAMP:20260420T092440
CREATED:20260317T035017Z
LAST-MODIFIED:20260317T035018Z
UID:10021975-1779271200-1779278400@horshamu3a.org.au
SUMMARY:Nature Watch: 20th May
DESCRIPTION:Living Together– narrated by David Attenborough \nWhole communities of different kinds of animals have been committed by evolution to live together\, and we show that the delicate balance of benefit and exploitation is ever changing. \nAustralia’s Deadliest Destinations – narrated by Greg Grainger \nThis program features Dingoes\, Blue ringed octopus\, fresh water crocodiles and great white sharks.
URL:https://horshamu3a.org.au/event/nature-watch-20th-may/
LOCATION:Railway Station\, 23 Railway Avenue\, Horsham\, VIC\, 3400\, Australia
CATEGORIES:documentaries
ATTACH;FMTTYPE=image/png:https://horshamu3a.org.au/wp-content/uploads/2026/03/1773719086178.png
ORGANIZER;CN="June Liddy":MAILTO:office@horshamu3a.org.au
END:VEVENT
BEGIN:VEVENT
DTSTART;TZID=Australia/Melbourne:20260520T133000
DTEND;TZID=Australia/Melbourne:20260520T160000
DTSTAMP:20260420T092440
CREATED:20260119T051135Z
LAST-MODIFIED:20260119T051206Z
UID:10018088-1779283800-1779292800@horshamu3a.org.au
SUMMARY:500
DESCRIPTION:With June Liddy \nFun for all on 500 cards afternoons. June is tutor\, John is scorer & Maxi\, Bob\, Peter and Bill would love to show you the ropes. We stop about 3pm for a cuppa. No experience is necessary. We take errors in our stride and remind you what is trumps\, whenever necessary. \nEvery Wednesday from 1.00 pm to 3.30 ish in the Main Room   
URL:https://horshamu3a.org.au/event/500/2026-05-20/
LOCATION:Railway Station\, 23 Railway Avenue\, Horsham\, VIC\, 3400\, Australia
CATEGORIES:games
ATTACH;FMTTYPE=image/png:https://horshamu3a.org.au/wp-content/uploads/2024/02/500-K-1.png
ORGANIZER;CN="June Liddy":MAILTO:office@horshamu3a.org.au
END:VEVENT
BEGIN:VEVENT
DTSTART;TZID=Australia/Melbourne:20260520T133000
DTEND;TZID=Australia/Melbourne:20260520T160000
DTSTAMP:20260420T092440
CREATED:20260119T051417Z
LAST-MODIFIED:20260119T051417Z
UID:10018347-1779283800-1779292800@horshamu3a.org.au
SUMMARY:Canasta
DESCRIPTION:With Elizabeth Kaucner \nWe play Bolivia Canasta. Three packs of cards are used\, including all the jokers. The aim is to build sets and sequences. Ideally played by 4 people\, but we sometimes have to improvise with less. \nEach Wednesday at 1.30 pm in the Main Room
URL:https://horshamu3a.org.au/event/canasta/2026-05-20/
LOCATION:Railway Station\, 23 Railway Avenue\, Horsham\, VIC\, 3400\, Australia
CATEGORIES:games
ATTACH;FMTTYPE=image/png:https://horshamu3a.org.au/wp-content/uploads/2024/02/Canasta-1.30pm-1.png
END:VEVENT
BEGIN:VEVENT
DTSTART;TZID=Australia/Melbourne:20260520T133000
DTEND;TZID=Australia/Melbourne:20260520T160000
DTSTAMP:20260420T092440
CREATED:20260214T080351Z
LAST-MODIFIED:20260214T080351Z
UID:10021142-1779283800-1779292800@horshamu3a.org.au
SUMMARY:Mah Jong
DESCRIPTION:With Heather Crosthwaite \nThis is the oriental based game with 4 players\, not the game you may have played on the computer. Challenge yourself with something new. \nEvery Wednesday at 1.30 pm in the Waiting Room  
URL:https://horshamu3a.org.au/event/mah-jong/2026-05-20/
LOCATION:Railway Station\, 23 Railway Avenue\, Horsham\, VIC\, 3400\, Australia
CATEGORIES:games
ATTACH;FMTTYPE=image/png:https://horshamu3a.org.au/wp-content/uploads/2024/02/Mah-Jong-2.png
ORGANIZER;CN="June Liddy":MAILTO:office@horshamu3a.org.au
END:VEVENT
BEGIN:VEVENT
DTSTART;TZID=Australia/Melbourne:20260521T090000
DTEND;TZID=Australia/Melbourne:20260521T100000
DTSTAMP:20260420T092440
CREATED:20260120T061914Z
LAST-MODIFIED:20260120T062712Z
UID:10018609-1779354000-1779357600@horshamu3a.org.au
SUMMARY:Seated Gentle Exercises (Thursday)
DESCRIPTION:With Breanne Mills \nThis class is a 45 minutes session\, comprising a mixture of seated and standing movements. The emphasis is on low impact exercises with the opportunity to work harder\, depending on your fitness and skill level. The aim is to move all parts of the body\, thus maintaining a wide range of movement to enable us to continue to enjoy life and daily activities. It includes balls\, bean bags\, weights and fun routines. Cost $8.00  per session. \nEvery Monday & Thursday at 9.15 am at the Hamilton Lamb Halllth
URL:https://horshamu3a.org.au/event/seated-gentle-exercises-thursday/2026-05-21/
LOCATION:Hamilton Lamb Hall\, 13 Kalkee Road\, Horsham\, Vic\, 3400\, Australia
CATEGORIES:active
ATTACH;FMTTYPE=image/jpeg:https://horshamu3a.org.au/wp-content/uploads/2024/03/Seated-Gentle-exercise-group-2023-rotated.jpg
ORGANIZER;CN="June Liddy":MAILTO:office@horshamu3a.org.au
END:VEVENT
BEGIN:VEVENT
DTSTART;TZID=Australia/Melbourne:20260521T100000
DTEND;TZID=Australia/Melbourne:20260521T120000
DTSTAMP:20260420T092440
CREATED:20260214T081145Z
LAST-MODIFIED:20260214T081145Z
UID:10021464-1779357600-1779364800@horshamu3a.org.au
SUMMARY:Sounds of Music
DESCRIPTION:With Elizabeth Kaucner \nThere is a topic for the 1st Thursday of the month and members are invited to bring music to share.  On the 2nd Thursday you are invited to share a musical. The rest of the month you can enjoy a selection of enjoyable and entertaining music. \nEvery Thursday at 10.00 am in the Main Room       
URL:https://horshamu3a.org.au/event/sounds-of-music-2/2026-05-21/
LOCATION:Railway Station\, 23 Railway Avenue\, Horsham\, VIC\, 3400\, Australia
CATEGORIES:musical & video
ATTACH;FMTTYPE=image/png:https://horshamu3a.org.au/wp-content/uploads/2024/01/sounds-of-music-1.png
ORGANIZER;CN="June Liddy":MAILTO:office@horshamu3a.org.au
END:VEVENT
BEGIN:VEVENT
DTSTART;TZID=Australia/Melbourne:20260521T103000
DTEND;TZID=Australia/Melbourne:20260521T123000
DTSTAMP:20260420T092440
CREATED:20260123T222914Z
LAST-MODIFIED:20260123T222914Z
UID:10019129-1779359400-1779366600@horshamu3a.org.au
SUMMARY:Patchwork & Stitch
DESCRIPTION:With Leande Elliott \nAn opportunity to meet with a group that does stitching and patchwork. It will give you the opportunity to enhance your existing skills and learn new ones. \nHeld every Thursday from 10.30am in the Waiting Room.
URL:https://horshamu3a.org.au/event/patchwork-stitch/2026-05-21/
LOCATION:Railway Station\, 23 Railway Avenue\, Horsham\, VIC\, 3400\, Australia
CATEGORIES:craft
ATTACH;FMTTYPE=image/png:https://horshamu3a.org.au/wp-content/uploads/2024/01/patchwork-stitch-1.png
END:VEVENT
BEGIN:VEVENT
DTSTART;TZID=Australia/Melbourne:20260521T133000
DTEND;TZID=Australia/Melbourne:20260521T160000
DTSTAMP:20260420T092440
CREATED:20260123T223150Z
LAST-MODIFIED:20260123T223150Z
UID:10019389-1779370200-1779379200@horshamu3a.org.au
SUMMARY:Scrabble
DESCRIPTION:With Rhonda Pilgrim \nCome and join us if you want to improve your vocabulary whilst having fun. \nEvery Thursday at 1.30 pm in the Main Room               
URL:https://horshamu3a.org.au/event/scrabble/2026-05-21/
LOCATION:Railway Station\, 23 Railway Avenue\, Horsham\, VIC\, 3400\, Australia
CATEGORIES:games
ATTACH;FMTTYPE=image/png:https://horshamu3a.org.au/wp-content/uploads/2024/01/scrabble.png
END:VEVENT
BEGIN:VEVENT
DTSTART;TZID=Australia/Melbourne:20260522T083000
DTEND;TZID=Australia/Melbourne:20260522T120000
DTSTAMP:20260420T092440
CREATED:20260123T223524Z
LAST-MODIFIED:20260123T223524Z
UID:10019649-1779438600-1779451200@horshamu3a.org.au
SUMMARY:Table Tennis (Friday)
DESCRIPTION:With Graeme Kuhne \nTable tennis is held at the Table Tennis Association building 3 mornings per week.  Come along for a social game\, exercise and a lot of fun. Small cost per session.  $3.00 \nEvery Monday\, Wednesday and Friday at 9.00 am at the Table Tennis Association 
URL:https://horshamu3a.org.au/event/table-tennis-friday/2026-05-22/
LOCATION:Table Tennis Association\, 11 Harriett Street\, Horsham\, VIC\, 3400\, Australia
CATEGORIES:active
ATTACH;FMTTYPE=image/png:https://horshamu3a.org.au/wp-content/uploads/2024/01/table-tennis-2.png
END:VEVENT
BEGIN:VEVENT
DTSTART;TZID=Australia/Melbourne:20260522T090000
DTEND;TZID=Australia/Melbourne:20260522T100000
DTSTAMP:20260420T092440
CREATED:20260123T223844Z
LAST-MODIFIED:20260123T223844Z
UID:10019909-1779440400-1779444000@horshamu3a.org.au
SUMMARY:Tai Chi (Friday)
DESCRIPTION:Contact Person: Rhonda Coffey \nSlow gentle movement with deep breathing. Great for balance and coordination. You can do the exercises standing or in a chair.   Cost $20.00 per term                  \nEvery Wednesday and Friday at 9.15 am at Hamilton Lamb Hall
URL:https://horshamu3a.org.au/event/tai-chi-friday/2026-05-22/
LOCATION:Hamilton Lamb Hall\, 13 Kalkee Road\, Horsham\, Vic\, 3400\, Australia
CATEGORIES:active
ATTACH;FMTTYPE=image/png:https://horshamu3a.org.au/wp-content/uploads/2024/09/Tai-Chi-1.png
END:VEVENT
BEGIN:VEVENT
DTSTART;TZID=Australia/Melbourne:20260522T093000
DTEND;TZID=Australia/Melbourne:20260522T120000
DTSTAMP:20260420T092440
CREATED:20260123T224100Z
LAST-MODIFIED:20260123T224100Z
UID:10020169-1779442200-1779451200@horshamu3a.org.au
SUMMARY:Oil Painting
DESCRIPTION:Find out how to use oils to create a pleasing picture. Most pictures are done from photographs rather than real life objects. You will need to provide your own materials.
URL:https://horshamu3a.org.au/event/oil-painting/2026-05-22/
LOCATION:Railway Station\, 23 Railway Avenue\, Horsham\, VIC\, 3400\, Australia
CATEGORIES:craft
ATTACH;FMTTYPE=image/png:https://horshamu3a.org.au/wp-content/uploads/2025/11/Screenshot-2025-11-25-152152.png
END:VEVENT
BEGIN:VEVENT
DTSTART;TZID=Australia/Melbourne:20260522T100000
DTEND;TZID=Australia/Melbourne:20260522T120000
DTSTAMP:20260420T092440
CREATED:20260318T041029Z
LAST-MODIFIED:20260318T041029Z
UID:10022038-1779444000-1779451200@horshamu3a.org.au
SUMMARY:Tech Cafe
DESCRIPTION:Horsham U3A is opening the doors for a special Tech Café on Friday 22nd May from 10.00 am to 12.00 noon. This relaxed\, two‑hour session is open to the wider community as well as U3A members\, and is ideal for anyone who needs a little extra help with their technology. \nBring along your phone\, tablet or laptop if you are having problems\, or if there is a particular program or app you would like to learn how to use. Our volunteers will be on hand to answer questions\, help you work through simple issues step‑by‑step and point you towards useful settings and tools that can make life easier. \nYou might want to learn how to manage emails\, organise photos\, install and update apps\, use video calling\, adjust accessibility settings or simply feel more confident and safe online. Whatever your question\, the Tech Café is a friendly\, no‑pressure space to sit down with a cuppa and get personalised guidance. No bookings are required – just drop in during the session and we’ll do our best to help.
URL:https://horshamu3a.org.au/event/tech-cafe/
LOCATION:Railway Station\, 23 Railway Avenue\, Horsham\, VIC\, 3400\, Australia
CATEGORIES:events
ATTACH;FMTTYPE=image/png:https://horshamu3a.org.au/wp-content/uploads/2026/03/1773806907455.png
ORGANIZER;CN="Trish Maybery":MAILTO:twisties34@gmail.com
END:VEVENT
BEGIN:VEVENT
DTSTART;TZID=Australia/Melbourne:20260522T133000
DTEND;TZID=Australia/Melbourne:20260522T150000
DTSTAMP:20260420T092440
CREATED:20260123T224518Z
LAST-MODIFIED:20260123T224518Z
UID:10020689-1779456600-1779462000@horshamu3a.org.au
SUMMARY:Technology Group
DESCRIPTION:With Trish Maybery \nHorsham U3A’s new Tech Skills group will introduce basic computer use\, internet and email\, staying safe online\, and simple social media. Members will then explore graphic design with Canva\, beginner photo editing\, and practical ways to use AI tools for everyday tasks\, creativity and learning. \nEvery Friday at 1.30 pm in the Main Room            
URL:https://horshamu3a.org.au/event/technology-group/2026-05-22/
LOCATION:Railway Station\, 23 Railway Avenue\, Horsham\, VIC\, 3400\, Australia
CATEGORIES:technology
ATTACH;FMTTYPE=image/png:https://horshamu3a.org.au/wp-content/uploads/2024/02/Technology-group.png
ORGANIZER;CN="Trish Maybery":MAILTO:twisties34@gmail.com
END:VEVENT
BEGIN:VEVENT
DTSTART;TZID=Australia/Melbourne:20260522T133000
DTEND;TZID=Australia/Melbourne:20260522T160000
DTSTAMP:20260420T092440
CREATED:20260123T224302Z
LAST-MODIFIED:20260123T224302Z
UID:10020429-1779456600-1779465600@horshamu3a.org.au
SUMMARY:Knitting & Crochet
DESCRIPTION:With Maxine Ferguson. \nMembers meet weekly to chat and share ideas as they work on their individual projects. Bring your own yarn\, needles or a crochet hook. Help is available if needed. \nHeld every Friday afternoon from 1.30pm in the Waiting Room.
URL:https://horshamu3a.org.au/event/knitting-crochet/2026-05-22/
LOCATION:Railway Station\, 23 Railway Avenue\, Horsham\, VIC\, 3400\, Australia
CATEGORIES:craft
ATTACH;FMTTYPE=image/png:https://horshamu3a.org.au/wp-content/uploads/2024/02/Knitting-Crochet.png
END:VEVENT
BEGIN:VEVENT
DTSTART;TZID=Australia/Melbourne:20260525T090000
DTEND;TZID=Australia/Melbourne:20260525T100000
DTSTAMP:20260420T092440
CREATED:20260119T040018Z
LAST-MODIFIED:20260119T040018Z
UID:10014998-1779699600-1779703200@horshamu3a.org.au
SUMMARY:Seated Gentle Exercises (Monday)
DESCRIPTION:Now on Monday’s from 9.15 am is an extra class on Seated Gentle Exercises. \n  \n 
URL:https://horshamu3a.org.au/event/seated-gentle-exercises-monday-2/2026-05-25/
LOCATION:Railway Station\, 23 Railway Avenue\, Horsham\, VIC\, 3400\, Australia
CATEGORIES:active
ATTACH;FMTTYPE=image/jpeg:https://horshamu3a.org.au/wp-content/uploads/2024/03/Seated-Gentle-exercise-group-2023-rotated.jpg
END:VEVENT
BEGIN:VEVENT
DTSTART;TZID=Australia/Melbourne:20260525T090000
DTEND;TZID=Australia/Melbourne:20260525T170000
DTSTAMP:20260420T092440
CREATED:20260118T024328Z
LAST-MODIFIED:20260118T024328Z
UID:10016050-1779699600-1779728400@horshamu3a.org.au
SUMMARY:Table Tennis (Monday)
DESCRIPTION:With Graeme Kuhne \nTable tennis is held at the Table Tennis Association building 3 mornings per week.  Come along for a social game\, exercise and a lot of fun. Small cost per session.  $3.00 \nEvery Monday\, Wednesday and Friday at 9.00 am at the Table Tennis Association 
URL:https://horshamu3a.org.au/event/table-tennis-monday/2026-05-25/
LOCATION:Table Tennis Association\, 11 Harriett Street\, Horsham\, VIC\, 3400\, Australia
CATEGORIES:lifestyle
ATTACH;FMTTYPE=image/png:https://horshamu3a.org.au/wp-content/uploads/2025/01/table-tennis-monday-1.png
END:VEVENT
BEGIN:VEVENT
DTSTART;TZID=Australia/Melbourne:20260525T100000
DTEND;TZID=Australia/Melbourne:20260525T120000
DTSTAMP:20260420T092440
CREATED:20260123T221640Z
LAST-MODIFIED:20260123T221640Z
UID:10018869-1779703200-1779710400@horshamu3a.org.au
SUMMARY:China Painting
DESCRIPTION:With Joyce Lane. \nSubjects chosen by the individual are painted on china. The china is then fired in a kiln to attain permanence. \nAssistance is available for new members.  \nHeld every Monday from 10am in the Studio
URL:https://horshamu3a.org.au/event/china-painting/2026-05-25/
LOCATION:Railway Station\, 23 Railway Avenue\, Horsham\, VIC\, 3400\, Australia
CATEGORIES:craft
ATTACH;FMTTYPE=image/png:https://horshamu3a.org.au/wp-content/uploads/2024/02/china-painting-1.png
ORGANIZER;CN="June Liddy":MAILTO:office@horshamu3a.org.au
END:VEVENT
BEGIN:VEVENT
DTSTART;TZID=Australia/Melbourne:20260525T100000
DTEND;TZID=Australia/Melbourne:20260525T120000
DTSTAMP:20260420T092440
CREATED:20260317T041939Z
LAST-MODIFIED:20260317T041941Z
UID:10021976-1779703200-1779710400@horshamu3a.org.au
SUMMARY:Local History: 1946 Decentralisation with June Liddy
DESCRIPTION:Our next Horsham U3A Local History Group gathering will take a closer look at one of the most important turning points in our town’s story – the 1946 decentralisation of Horsham. \nOn Monday 25th May at 10.00 am\, guest speaker June Liddy will share how post‑war planning\, new industries and population growth reshaped Horsham in the mid‑1940s. June will draw on newspaper articles\, photographs and personal memories to show how decentralisation changed everyday life in the Wimmera – from jobs and housing through to shopping\, schooling and community services. \nThis session is a great opportunity for anyone interested in local or family history to revisit a period of rapid change\, add their own recollections and help build our shared picture of Horsham in 1946. Everyone is welcome to come along\, enjoy a relaxed morning of stories\, discussion and cuppas\, and perhaps recognise a few familiar faces in the images on screen.
URL:https://horshamu3a.org.au/event/local-history-1946-decentralisation-with-june-liddy/
LOCATION:Railway Station\, 23 Railway Avenue\, Horsham\, VIC\, 3400\, Australia
CATEGORIES:events
ATTACH;FMTTYPE=image/png:https://horshamu3a.org.au/wp-content/uploads/2026/03/1773720832539.png
ORGANIZER;CN="Trish Maybery":MAILTO:twisties34@gmail.com
END:VEVENT
BEGIN:VEVENT
DTSTART;TZID=Australia/Melbourne:20260525T100000
DTEND;TZID=Australia/Melbourne:20260525T120000
DTSTAMP:20260420T092440
CREATED:20260418T023417Z
LAST-MODIFIED:20260418T023418Z
UID:10022537-1779703200-1779710400@horshamu3a.org.au
SUMMARY:Writing for Fun
DESCRIPTION:Held the 2nd & 4th Mondays from 10am with Rhonda Coffeey in the Waiting Room. \nThe title of our group says it all! This is a caring group that is committed to the resurrection of our earlier learning of the English language and its expression. Participants learn new skills and are encouraged to try different writing activities and share ideas or approaches with others.
URL:https://horshamu3a.org.au/event/writing-for-fun-2-2-2-2-2-2-2-2-2/2026-05-25/
LOCATION:Waiting Room\, Australia
CATEGORIES:craft
ATTACH;FMTTYPE=image/png:https://horshamu3a.org.au/wp-content/uploads/2024/02/Writing-for-Fun.png
END:VEVENT
BEGIN:VEVENT
DTSTART;TZID=Australia/Melbourne:20260525T133000
DTEND;TZID=Australia/Melbourne:20260525T160000
DTSTAMP:20260420T092441
CREATED:20260119T042452Z
LAST-MODIFIED:20260119T042452Z
UID:10016732-1779715800-1779724800@horshamu3a.org.au
SUMMARY:Bridge
DESCRIPTION:With Davifd Cariss. \nThis group plays contract bridge which is one of the whist games. Suited to anyone who has played 500 or Euchre. \nEvery Monday at 1.30 pm in the Main Room
URL:https://horshamu3a.org.au/event/bridge/2026-05-25/
LOCATION:Railway Station\, 23 Railway Avenue\, Horsham\, VIC\, 3400\, Australia
CATEGORIES:games
ATTACH;FMTTYPE=image/png:https://horshamu3a.org.au/wp-content/uploads/2024/02/Bridge.png
ORGANIZER;CN="June Liddy":MAILTO:office@horshamu3a.org.au
END:VEVENT
BEGIN:VEVENT
DTSTART;TZID=Australia/Melbourne:20260526T100000
DTEND;TZID=Australia/Melbourne:20260526T120000
DTSTAMP:20260420T092441
CREATED:20260119T042808Z
LAST-MODIFIED:20260119T045145Z
UID:10016991-1779789600-1779796800@horshamu3a.org.au
SUMMARY:Art: Pastels & Water Colours
DESCRIPTION:With Robin Ellis. \nThis group meets to learn and practice new skills in Acrylic and Water Colour Painting and Pastel and Pencil Drawing. Come along and join in and learn new skills.
URL:https://horshamu3a.org.au/event/art-pastels-water-colours/2026-05-26/
LOCATION:Railway Station\, 23 Railway Avenue\, Horsham\, VIC\, 3400\, Australia
CATEGORIES:craft
ATTACH;FMTTYPE=image/png:https://horshamu3a.org.au/wp-content/uploads/2024/02/Pastels-Water-Colours.png
END:VEVENT
BEGIN:VEVENT
DTSTART;TZID=Australia/Melbourne:20260526T100000
DTEND;TZID=Australia/Melbourne:20260526T120000
DTSTAMP:20260420T092441
CREATED:20260412T014620Z
LAST-MODIFIED:20260412T014621Z
UID:10022407-1779789600-1779796800@horshamu3a.org.au
SUMMARY:German Conversation
DESCRIPTION:With Ann Jensz \nThe aim is to develop speaking and listening skills and reading comprehension in a range of interesting cultural and every day contexts.  Participants should have sufficient knowledge of German to be able to construct simple sentences and understand basic spoken and written German\, have an interest in German culture and history\, a good sense of humour and enjoy the company of other Germanophiles. \n2nd and 4th Tuesday at 10.00 am in the Main Room             
URL:https://horshamu3a.org.au/event/german-conversation-2-2/2026-05-26/
LOCATION:Railway Station\, 23 Railway Avenue\, Horsham\, VIC\, 3400\, Australia
CATEGORIES:lifestyle
ATTACH;FMTTYPE=image/png:https://horshamu3a.org.au/wp-content/uploads/2025/12/Screenshot-2025-12-01-162105.png
ORGANIZER;CN="June Liddy":MAILTO:office@horshamu3a.org.au
END:VEVENT
BEGIN:VEVENT
DTSTART;TZID=Australia/Melbourne:20260526T130000
DTEND;TZID=Australia/Melbourne:20260526T160000
DTSTAMP:20260420T092441
CREATED:20260119T044250Z
LAST-MODIFIED:20260119T044250Z
UID:10017251-1779800400-1779811200@horshamu3a.org.au
SUMMARY:Solo
DESCRIPTION:With Maxine Ferguson \nA small enthusiastic group play Solo (another card game). The participants say it is not a difficult game\, but it does make you think. \nEvery Tuesday at 1.00 pm in the Waiting Room       
URL:https://horshamu3a.org.au/event/solo/2026-05-26/
LOCATION:Railway Station\, 23 Railway Avenue\, Horsham\, VIC\, 3400\, Australia
CATEGORIES:games
ATTACH;FMTTYPE=image/png:https://horshamu3a.org.au/wp-content/uploads/2024/02/Solo.png
ORGANIZER;CN="June Liddy":MAILTO:office@horshamu3a.org.au
END:VEVENT
BEGIN:VEVENT
DTSTART;TZID=Australia/Melbourne:20260527T090000
DTEND;TZID=Australia/Melbourne:20260527T100000
DTSTAMP:20260420T092441
CREATED:20260119T045949Z
LAST-MODIFIED:20260119T045949Z
UID:10017770-1779872400-1779876000@horshamu3a.org.au
SUMMARY:Tai Chi
DESCRIPTION:Contact Person: Rhonda Coffey \nSlow gentle movement with deep breathing. Great for balance and coordination. You can do the exercises standing or in a chair.   Cost $20.00 per term                  \nEvery Wednesday and Friday at 9.15 am at Hamilton Lamb Hall
URL:https://horshamu3a.org.au/event/tai-chi/2026-05-27/
LOCATION:Hamilton Lamb Hall\, 13 Kalkee Road\, Horsham\, Vic\, 3400\, Australia
CATEGORIES:active
ATTACH;FMTTYPE=image/png:https://horshamu3a.org.au/wp-content/uploads/2024/09/Tai-Chi-2.png
END:VEVENT
END:VCALENDAR