BEGIN:VCALENDAR
VERSION:2.0
PRODID:-//U3A - ECPv6.15.20//NONSGML v1.0//EN
CALSCALE:GREGORIAN
METHOD:PUBLISH
X-WR-CALNAME:U3A
X-ORIGINAL-URL:https://horshamu3a.org.au
X-WR-CALDESC:Events for U3A
REFRESH-INTERVAL;VALUE=DURATION:PT1H
X-Robots-Tag:noindex
X-PUBLISHED-TTL:PT1H
BEGIN:VTIMEZONE
TZID:Australia/Melbourne
BEGIN:STANDARD
TZOFFSETFROM:+1100
TZOFFSETTO:+1000
TZNAME:AEST
DTSTART:20250405T160000
END:STANDARD
BEGIN:DAYLIGHT
TZOFFSETFROM:+1000
TZOFFSETTO:+1100
TZNAME:AEDT
DTSTART:20251004T160000
END:DAYLIGHT
BEGIN:STANDARD
TZOFFSETFROM:+1100
TZOFFSETTO:+1000
TZNAME:AEST
DTSTART:20260404T160000
END:STANDARD
BEGIN:DAYLIGHT
TZOFFSETFROM:+1000
TZOFFSETTO:+1100
TZNAME:AEDT
DTSTART:20261003T160000
END:DAYLIGHT
BEGIN:STANDARD
TZOFFSETFROM:+1100
TZOFFSETTO:+1000
TZNAME:AEST
DTSTART:20270403T160000
END:STANDARD
BEGIN:DAYLIGHT
TZOFFSETFROM:+1000
TZOFFSETTO:+1100
TZNAME:AEDT
DTSTART:20271002T160000
END:DAYLIGHT
END:VTIMEZONE
BEGIN:VEVENT
DTSTART;TZID=Australia/Melbourne:20260204T080000
DTEND;TZID=Australia/Melbourne:20260204T170000
DTSTAMP:20260423T122502
CREATED:20260119T051905Z
LAST-MODIFIED:20260119T051905Z
UID:10018592-1770192000-1770224400@horshamu3a.org.au
SUMMARY:Life Style Program
DESCRIPTION:With Trish Deleeuw \nMembers weigh themselves at the Studio\, then head out for a coffee and a chat! \n1st & 3rd week at 2.00 pm in the Studio       
URL:https://horshamu3a.org.au/event/life-style-program/2026-02-04/1/
LOCATION:Railway Station\, 23 Railway Avenue\, Horsham\, VIC\, 3400\, Australia
CATEGORIES:active
ATTACH;FMTTYPE=image/png:https://horshamu3a.org.au/wp-content/uploads/2024/06/Lifestyle-Program-2.png
ORGANIZER;CN="June Liddy":MAILTO:office@horshamu3a.org.au
END:VEVENT
BEGIN:VEVENT
DTSTART;TZID=Australia/Melbourne:20260203T133000
DTEND;TZID=Australia/Melbourne:20260203T160000
DTSTAMP:20260423T122502
CREATED:20260119T044715Z
LAST-MODIFIED:20260119T044715Z
UID:10017494-1770125400-1770134400@horshamu3a.org.au
SUMMARY:Classic Movies: Philomena
DESCRIPTION:Tuesday 2nd February at 1.30pm: “Philomena” 2013 1hr38min \nA world-weary political journalist picks up the story of a woman’s search for her son\, who was taken away from her decades ago after she became pregnant and was forced to live in a convent. \nStars: Judy Dench\, Steve Coogan and Sophie Kennedy Clark.
URL:https://horshamu3a.org.au/event/classic-movies-philomena/
LOCATION:Railway Station\, 23 Railway Avenue\, Horsham\, VIC\, 3400\, Australia
CATEGORIES:films
ATTACH;FMTTYPE=image/jpeg:https://horshamu3a.org.au/wp-content/uploads/2026/01/philomena.jpeg
ORGANIZER;CN="June Liddy":MAILTO:office@horshamu3a.org.au
END:VEVENT
BEGIN:VEVENT
DTSTART;TZID=Australia/Melbourne:20260203T130000
DTEND;TZID=Australia/Melbourne:20260203T160000
DTSTAMP:20260423T122502
CREATED:20260119T044250Z
LAST-MODIFIED:20260119T044250Z
UID:10017235-1770123600-1770134400@horshamu3a.org.au
SUMMARY:Solo
DESCRIPTION:With Maxine Ferguson \nA small enthusiastic group play Solo (another card game). The participants say it is not a difficult game\, but it does make you think. \nEvery Tuesday at 1.00 pm in the Waiting Room       
URL:https://horshamu3a.org.au/event/solo/2026-02-03/
LOCATION:Railway Station\, 23 Railway Avenue\, Horsham\, VIC\, 3400\, Australia
CATEGORIES:games
ATTACH;FMTTYPE=image/png:https://horshamu3a.org.au/wp-content/uploads/2024/02/Solo.png
ORGANIZER;CN="June Liddy":MAILTO:office@horshamu3a.org.au
END:VEVENT
BEGIN:VEVENT
DTSTART;TZID=Australia/Melbourne:20260203T100000
DTEND;TZID=Australia/Melbourne:20260203T120000
DTSTAMP:20260423T122502
CREATED:20260119T043457Z
LAST-MODIFIED:20260124T011021Z
UID:10017234-1770112800-1770120000@horshamu3a.org.au
SUMMARY:Singing for Fun
DESCRIPTION:With June Liddy   \nThis class offers members the chance to sing together. Come along and be involved with other enthusiastic singers. \n1st and 3rd Tuesday each month at 10.00 am in the Main Room     
URL:https://horshamu3a.org.au/event/singing-for-fun/
LOCATION:Railway Station\, 23 Railway Avenue\, Horsham\, VIC\, 3400\, Australia
CATEGORIES:lifestyle
ATTACH;FMTTYPE=image/png:https://horshamu3a.org.au/wp-content/uploads/2026/01/singing-for-fun.png
ORGANIZER;CN="June Liddy":MAILTO:office@horshamu3a.org.au
END:VEVENT
BEGIN:VEVENT
DTSTART;TZID=Australia/Melbourne:20260203T100000
DTEND;TZID=Australia/Melbourne:20260203T120000
DTSTAMP:20260423T122502
CREATED:20260119T042808Z
LAST-MODIFIED:20260119T045145Z
UID:10016975-1770112800-1770120000@horshamu3a.org.au
SUMMARY:Art: Pastels & Water Colours
DESCRIPTION:With Robin Ellis. \nThis group meets to learn and practice new skills in Acrylic and Water Colour Painting and Pastel and Pencil Drawing. Come along and join in and learn new skills.
URL:https://horshamu3a.org.au/event/art-pastels-water-colours/2026-02-03/
LOCATION:Railway Station\, 23 Railway Avenue\, Horsham\, VIC\, 3400\, Australia
CATEGORIES:craft
ATTACH;FMTTYPE=image/png:https://horshamu3a.org.au/wp-content/uploads/2024/02/Pastels-Water-Colours.png
END:VEVENT
BEGIN:VEVENT
DTSTART;TZID=Australia/Melbourne:20260202T133000
DTEND;TZID=Australia/Melbourne:20260202T160000
DTSTAMP:20260423T122502
CREATED:20260119T042452Z
LAST-MODIFIED:20260119T042452Z
UID:10016716-1770039000-1770048000@horshamu3a.org.au
SUMMARY:Bridge
DESCRIPTION:With Davifd Cariss. \nThis group plays contract bridge which is one of the whist games. Suited to anyone who has played 500 or Euchre. \nEvery Monday at 1.30 pm in the Main Room
URL:https://horshamu3a.org.au/event/bridge/2026-02-02/
LOCATION:Railway Station\, 23 Railway Avenue\, Horsham\, VIC\, 3400\, Australia
CATEGORIES:games
ATTACH;FMTTYPE=image/png:https://horshamu3a.org.au/wp-content/uploads/2024/02/Bridge.png
ORGANIZER;CN="June Liddy":MAILTO:office@horshamu3a.org.au
END:VEVENT
BEGIN:VEVENT
DTSTART;TZID=Australia/Melbourne:20260202T100000
DTEND;TZID=Australia/Melbourne:20260202T120000
DTSTAMP:20260423T122502
CREATED:20260123T221640Z
LAST-MODIFIED:20260123T221640Z
UID:10018853-1770026400-1770033600@horshamu3a.org.au
SUMMARY:China Painting
DESCRIPTION:With Joyce Lane. \nSubjects chosen by the individual are painted on china. The china is then fired in a kiln to attain permanence. \nAssistance is available for new members.  \nHeld every Monday from 10am in the Studio
URL:https://horshamu3a.org.au/event/china-painting/2026-02-02/
LOCATION:Railway Station\, 23 Railway Avenue\, Horsham\, VIC\, 3400\, Australia
CATEGORIES:craft
ATTACH;FMTTYPE=image/png:https://horshamu3a.org.au/wp-content/uploads/2024/02/china-painting-1.png
ORGANIZER;CN="June Liddy":MAILTO:office@horshamu3a.org.au
END:VEVENT
BEGIN:VEVENT
DTSTART;TZID=Australia/Melbourne:20260202T090000
DTEND;TZID=Australia/Melbourne:20260202T170000
DTSTAMP:20260423T122502
CREATED:20260118T024328Z
LAST-MODIFIED:20260118T024328Z
UID:10016034-1770022800-1770051600@horshamu3a.org.au
SUMMARY:Table Tennis (Monday)
DESCRIPTION:With Graeme Kuhne \nTable tennis is held at the Table Tennis Association building 3 mornings per week.  Come along for a social game\, exercise and a lot of fun. Small cost per session.  $3.00 \nEvery Monday\, Wednesday and Friday at 9.00 am at the Table Tennis Association 
URL:https://horshamu3a.org.au/event/table-tennis-monday/2026-02-02/
LOCATION:Table Tennis Association\, 11 Harriett Street\, Horsham\, VIC\, 3400\, Australia
CATEGORIES:lifestyle
ATTACH;FMTTYPE=image/png:https://horshamu3a.org.au/wp-content/uploads/2025/01/table-tennis-monday-1.png
END:VEVENT
BEGIN:VEVENT
DTSTART;TZID=Australia/Melbourne:20260202T090000
DTEND;TZID=Australia/Melbourne:20260202T100000
DTSTAMP:20260423T122502
CREATED:20260119T040018Z
LAST-MODIFIED:20260119T040018Z
UID:10014981-1770022800-1770026400@horshamu3a.org.au
SUMMARY:Seated Gentle Exercises (Monday)
DESCRIPTION:Now on Monday’s from 9.15 am is an extra class on Seated Gentle Exercises. \n  \n 
URL:https://horshamu3a.org.au/event/seated-gentle-exercises-monday-2/2026-02-02/
LOCATION:Railway Station\, 23 Railway Avenue\, Horsham\, VIC\, 3400\, Australia
CATEGORIES:active
ATTACH;FMTTYPE=image/jpeg:https://horshamu3a.org.au/wp-content/uploads/2024/03/Seated-Gentle-exercise-group-2023-rotated.jpg
END:VEVENT
BEGIN:VEVENT
DTSTART;TZID=Australia/Melbourne:20260116T140000
DTEND;TZID=Australia/Melbourne:20260116T160000
DTSTAMP:20260423T122502
CREATED:20260113T014450Z
LAST-MODIFIED:20260113T014451Z
UID:10016033-1768572000-1768579200@horshamu3a.org.au
SUMMARY:Tutors’ Planning Meeting – Friday 16 January
DESCRIPTION:All new and continuing Horsham U3A tutors are invited to a planning meeting on Friday 16 January at 2.00 pm in the Main Room.​ \nThis is a chance to: \n\n\nConfirm what you need for your classes in 2026 (room setup\, equipment\, printing\, materials). \n\n\nTalk through any ideas\, questions or support you may need for the year ahead.​ \n\n\nIf you require additional supplies or equipment for your class\, please let Rhonda know so these can be purchased or organised before classes begin.​ \nWe value the time and energy our tutors give\, and this meeting helps ensure everyone is well prepared for a smooth start to 2026.
URL:https://horshamu3a.org.au/event/tutors-planning-meeting-friday-16-january/
LOCATION:Railway Station\, 23 Railway Avenue\, Horsham\, VIC\, 3400\, Australia
CATEGORIES:administration
ATTACH;FMTTYPE=image/png:https://horshamu3a.org.au/wp-content/uploads/2026/01/Tutors-Meeting.png
END:VEVENT
BEGIN:VEVENT
DTSTART;TZID=Australia/Melbourne:20260115T100000
DTEND;TZID=Australia/Melbourne:20260115T150000
DTSTAMP:20260423T122502
CREATED:20251223T071717Z
LAST-MODIFIED:20260102T071606Z
UID:10016032-1768471200-1768489200@horshamu3a.org.au
SUMMARY:Registration Day: January 15th
DESCRIPTION:Registration Day for 2025 will held January 16th from `10am in the Main Room. Once you have completed your Registration Form you can then pay the membership fee and collect your name badge. Badges for next year will be blue. You can then complete your course selection forms i the Studio. Remember you will need to record which classes you have selected\, as we are unable to do this for you. Pen & paper will be available for you. It is suggested that you use the tea and coffee facilities in the West Wing to free up the limited space in the walkway. \nRegistration Forms are available below \n\n\n    \n        \n            \n            \n                2026 Registration Form\n                 1 file(s)  63.74 KB\n            \n            \n                Download\n            \n        \n    \n\n\n \nOne lucky member will win $100 voucher from Coles!
URL:https://horshamu3a.org.au/event/registration-day-january-16th/
LOCATION:Railway Station\, 23 Railway Avenue\, Horsham\, VIC\, 3400\, Australia
CATEGORIES:administration
ATTACH;FMTTYPE=image/png:https://horshamu3a.org.au/wp-content/uploads/2025/11/registration-day-2026-1.png
ORGANIZER;CN="June Liddy":MAILTO:office@horshamu3a.org.au
END:VEVENT
END:VCALENDAR