BEGIN:VCALENDAR
VERSION:2.0
PRODID:-//U3A - ECPv6.15.20//NONSGML v1.0//EN
CALSCALE:GREGORIAN
METHOD:PUBLISH
X-WR-CALNAME:U3A
X-ORIGINAL-URL:https://horshamu3a.org.au
X-WR-CALDESC:Events for U3A
REFRESH-INTERVAL;VALUE=DURATION:PT1H
X-Robots-Tag:noindex
X-PUBLISHED-TTL:PT1H
BEGIN:VTIMEZONE
TZID:Australia/Melbourne
BEGIN:STANDARD
TZOFFSETFROM:+1100
TZOFFSETTO:+1000
TZNAME:AEST
DTSTART:20250405T160000
END:STANDARD
BEGIN:DAYLIGHT
TZOFFSETFROM:+1000
TZOFFSETTO:+1100
TZNAME:AEDT
DTSTART:20251004T160000
END:DAYLIGHT
BEGIN:STANDARD
TZOFFSETFROM:+1100
TZOFFSETTO:+1000
TZNAME:AEST
DTSTART:20260404T160000
END:STANDARD
BEGIN:DAYLIGHT
TZOFFSETFROM:+1000
TZOFFSETTO:+1100
TZNAME:AEDT
DTSTART:20261003T160000
END:DAYLIGHT
BEGIN:STANDARD
TZOFFSETFROM:+1100
TZOFFSETTO:+1000
TZNAME:AEST
DTSTART:20270403T160000
END:STANDARD
BEGIN:DAYLIGHT
TZOFFSETFROM:+1000
TZOFFSETTO:+1100
TZNAME:AEDT
DTSTART:20271002T160000
END:DAYLIGHT
END:VTIMEZONE
BEGIN:VEVENT
DTSTART;TZID=Australia/Melbourne:20260518T090000
DTEND;TZID=Australia/Melbourne:20260518T170000
DTSTAMP:20260420T013744
CREATED:20260118T024328Z
LAST-MODIFIED:20260118T024328Z
UID:10016049-1779094800-1779123600@horshamu3a.org.au
SUMMARY:Table Tennis (Monday)
DESCRIPTION:With Graeme Kuhne \nTable tennis is held at the Table Tennis Association building 3 mornings per week.  Come along for a social game\, exercise and a lot of fun. Small cost per session.  $3.00 \nEvery Monday\, Wednesday and Friday at 9.00 am at the Table Tennis Association 
URL:https://horshamu3a.org.au/event/table-tennis-monday/2026-05-18/
LOCATION:Table Tennis Association\, 11 Harriett Street\, Horsham\, VIC\, 3400\, Australia
CATEGORIES:lifestyle
ATTACH;FMTTYPE=image/png:https://horshamu3a.org.au/wp-content/uploads/2025/01/table-tennis-monday-1.png
END:VEVENT
BEGIN:VEVENT
DTSTART;TZID=Australia/Melbourne:20260518T113000
DTEND;TZID=Australia/Melbourne:20260518T133000
DTSTAMP:20260420T013744
CREATED:20260214T081608Z
LAST-MODIFIED:20260214T081608Z
UID:10021715-1779103800-1779111000@horshamu3a.org.au
SUMMARY:Luncheon Group
DESCRIPTION:With Joyce Lane \nThis is a social group with members meeting every month to have lunch and have a chat. If you like meeting new people or catching up with friends\, please come along. Let Joyce know if you’re attending. Everyone is to cover the cost of their lunch. \n3rd Monday of each month at 11.50 am at a venue to be advised.    
URL:https://horshamu3a.org.au/event/luncheon-group/2026-05-18/
LOCATION:Railway Station\, 23 Railway Avenue\, Horsham\, VIC\, 3400\, Australia
CATEGORIES:lifestyle
ATTACH;FMTTYPE=image/png:https://horshamu3a.org.au/wp-content/uploads/2024/02/Luncheon-Group.png
ORGANIZER;CN="June Liddy":MAILTO:office@horshamu3a.org.au
END:VEVENT
BEGIN:VEVENT
DTSTART;TZID=Australia/Melbourne:20260519T133000
DTEND;TZID=Australia/Melbourne:20260519T160000
DTSTAMP:20260420T013744
CREATED:20260214T080046Z
LAST-MODIFIED:20260214T080046Z
UID:10021072-1779197400-1779206400@horshamu3a.org.au
SUMMARY:Reading for Pleasure
DESCRIPTION:With Rhonda Coffey    \nMembers discuss the books they have been reading and make recommendations. A Library staff member presents a short information piece regarding the Library.  Tea and coffee is provided. This is an excellent sharing opportunity. \n3rd Tuesday at 1.30 pm at the Horsham Library   
URL:https://horshamu3a.org.au/event/reading-for-pleasure/2026-05-19/
LOCATION:Wimmera Library\, Mc Laclan Street\, Horsham\, vic\, 3400\, Australia
CATEGORIES:lifestyle
ATTACH;FMTTYPE=image/png:https://horshamu3a.org.au/wp-content/uploads/2025/07/reading-for-pleasure-1.png
END:VEVENT
BEGIN:VEVENT
DTSTART;TZID=Australia/Melbourne:20260525T090000
DTEND;TZID=Australia/Melbourne:20260525T170000
DTSTAMP:20260420T013744
CREATED:20260118T024328Z
LAST-MODIFIED:20260118T024328Z
UID:10016050-1779699600-1779728400@horshamu3a.org.au
SUMMARY:Table Tennis (Monday)
DESCRIPTION:With Graeme Kuhne \nTable tennis is held at the Table Tennis Association building 3 mornings per week.  Come along for a social game\, exercise and a lot of fun. Small cost per session.  $3.00 \nEvery Monday\, Wednesday and Friday at 9.00 am at the Table Tennis Association 
URL:https://horshamu3a.org.au/event/table-tennis-monday/2026-05-25/
LOCATION:Table Tennis Association\, 11 Harriett Street\, Horsham\, VIC\, 3400\, Australia
CATEGORIES:lifestyle
ATTACH;FMTTYPE=image/png:https://horshamu3a.org.au/wp-content/uploads/2025/01/table-tennis-monday-1.png
END:VEVENT
BEGIN:VEVENT
DTSTART;TZID=Australia/Melbourne:20260526T100000
DTEND;TZID=Australia/Melbourne:20260526T120000
DTSTAMP:20260420T013744
CREATED:20260412T014620Z
LAST-MODIFIED:20260412T014621Z
UID:10022407-1779789600-1779796800@horshamu3a.org.au
SUMMARY:German Conversation
DESCRIPTION:With Ann Jensz \nThe aim is to develop speaking and listening skills and reading comprehension in a range of interesting cultural and every day contexts.  Participants should have sufficient knowledge of German to be able to construct simple sentences and understand basic spoken and written German\, have an interest in German culture and history\, a good sense of humour and enjoy the company of other Germanophiles. \n2nd and 4th Tuesday at 10.00 am in the Main Room             
URL:https://horshamu3a.org.au/event/german-conversation-2-2/2026-05-26/
LOCATION:Railway Station\, 23 Railway Avenue\, Horsham\, VIC\, 3400\, Australia
CATEGORIES:lifestyle
ATTACH;FMTTYPE=image/png:https://horshamu3a.org.au/wp-content/uploads/2025/12/Screenshot-2025-12-01-162105.png
ORGANIZER;CN="June Liddy":MAILTO:office@horshamu3a.org.au
END:VEVENT
BEGIN:VEVENT
DTSTART;TZID=Australia/Melbourne:20260527T140000
DTEND;TZID=Australia/Melbourne:20260527T160000
DTSTAMP:20260420T013744
CREATED:20260328T012525Z
LAST-MODIFIED:20260328T012525Z
UID:10022303-1779890400-1779897600@horshamu3a.org.au
SUMMARY:Lifestyle Program
DESCRIPTION:With Trish Deleeuw \nMembers weigh themselves at the Studio\, then head out for a coffee and a chat! \n1st & 3rd week at 2.00 pm in the Studio        
URL:https://horshamu3a.org.au/event/lifestyle-program-2/2026-05-27/
LOCATION:Railway Station\, 23 Railway Avenue\, Horsham\, VIC\, 3400\, Australia
CATEGORIES:lifestyle
ATTACH;FMTTYPE=image/png:https://horshamu3a.org.au/wp-content/uploads/2024/06/Lifestyle-Program-2.png
ORGANIZER;CN="June Liddy":MAILTO:office@horshamu3a.org.au
END:VEVENT
BEGIN:VEVENT
DTSTART;TZID=Australia/Melbourne:20260601T090000
DTEND;TZID=Australia/Melbourne:20260601T170000
DTSTAMP:20260420T013744
CREATED:20260118T024328Z
LAST-MODIFIED:20260118T024328Z
UID:10016051-1780304400-1780333200@horshamu3a.org.au
SUMMARY:Table Tennis (Monday)
DESCRIPTION:With Graeme Kuhne \nTable tennis is held at the Table Tennis Association building 3 mornings per week.  Come along for a social game\, exercise and a lot of fun. Small cost per session.  $3.00 \nEvery Monday\, Wednesday and Friday at 9.00 am at the Table Tennis Association 
URL:https://horshamu3a.org.au/event/table-tennis-monday/2026-06-01/
LOCATION:Table Tennis Association\, 11 Harriett Street\, Horsham\, VIC\, 3400\, Australia
CATEGORIES:lifestyle
ATTACH;FMTTYPE=image/png:https://horshamu3a.org.au/wp-content/uploads/2025/01/table-tennis-monday-1.png
END:VEVENT
BEGIN:VEVENT
DTSTART;TZID=Australia/Melbourne:20260608T090000
DTEND;TZID=Australia/Melbourne:20260608T170000
DTSTAMP:20260420T013744
CREATED:20260118T024328Z
LAST-MODIFIED:20260118T024328Z
UID:10016052-1780909200-1780938000@horshamu3a.org.au
SUMMARY:Table Tennis (Monday)
DESCRIPTION:With Graeme Kuhne \nTable tennis is held at the Table Tennis Association building 3 mornings per week.  Come along for a social game\, exercise and a lot of fun. Small cost per session.  $3.00 \nEvery Monday\, Wednesday and Friday at 9.00 am at the Table Tennis Association 
URL:https://horshamu3a.org.au/event/table-tennis-monday/2026-06-08/
LOCATION:Table Tennis Association\, 11 Harriett Street\, Horsham\, VIC\, 3400\, Australia
CATEGORIES:lifestyle
ATTACH;FMTTYPE=image/png:https://horshamu3a.org.au/wp-content/uploads/2025/01/table-tennis-monday-1.png
END:VEVENT
BEGIN:VEVENT
DTSTART;TZID=Australia/Melbourne:20260609T100000
DTEND;TZID=Australia/Melbourne:20260609T120000
DTSTAMP:20260420T013744
CREATED:20260412T014620Z
LAST-MODIFIED:20260412T014621Z
UID:10022408-1780999200-1781006400@horshamu3a.org.au
SUMMARY:German Conversation
DESCRIPTION:With Ann Jensz \nThe aim is to develop speaking and listening skills and reading comprehension in a range of interesting cultural and every day contexts.  Participants should have sufficient knowledge of German to be able to construct simple sentences and understand basic spoken and written German\, have an interest in German culture and history\, a good sense of humour and enjoy the company of other Germanophiles. \n2nd and 4th Tuesday at 10.00 am in the Main Room             
URL:https://horshamu3a.org.au/event/german-conversation-2-2/2026-06-09/
LOCATION:Railway Station\, 23 Railway Avenue\, Horsham\, VIC\, 3400\, Australia
CATEGORIES:lifestyle
ATTACH;FMTTYPE=image/png:https://horshamu3a.org.au/wp-content/uploads/2025/12/Screenshot-2025-12-01-162105.png
ORGANIZER;CN="June Liddy":MAILTO:office@horshamu3a.org.au
END:VEVENT
BEGIN:VEVENT
DTSTART;TZID=Australia/Melbourne:20260609T133000
DTEND;TZID=Australia/Melbourne:20260609T153000
DTSTAMP:20260420T013744
CREATED:20260307T081242Z
LAST-MODIFIED:20260307T081242Z
UID:10021915-1781011800-1781019000@horshamu3a.org.au
SUMMARY:Bookworms
DESCRIPTION:With Mary-Lou & John Spehr. \nThe members of this group read an assigned book each month for discussion. Books chosen annually from the Wimmera Regional Library. Great discussions occur\, not always related to the set book! \n2nd Tuesday of each month at 1.30 pm      
URL:https://horshamu3a.org.au/event/bookworms/2026-06-09/
LOCATION:Wimmera Library\, Mc Laclan Street\, Horsham\, vic\, 3400\, Australia
CATEGORIES:lifestyle
ATTACH;FMTTYPE=image/png:https://horshamu3a.org.au/wp-content/uploads/2024/02/Bookworms.png
ORGANIZER;CN="June Liddy":MAILTO:office@horshamu3a.org.au
END:VEVENT
BEGIN:VEVENT
DTSTART;TZID=Australia/Melbourne:20260610T140000
DTEND;TZID=Australia/Melbourne:20260610T160000
DTSTAMP:20260420T013744
CREATED:20260328T012525Z
LAST-MODIFIED:20260328T012525Z
UID:10022304-1781100000-1781107200@horshamu3a.org.au
SUMMARY:Lifestyle Program
DESCRIPTION:With Trish Deleeuw \nMembers weigh themselves at the Studio\, then head out for a coffee and a chat! \n1st & 3rd week at 2.00 pm in the Studio        
URL:https://horshamu3a.org.au/event/lifestyle-program-2/2026-06-10/
LOCATION:Railway Station\, 23 Railway Avenue\, Horsham\, VIC\, 3400\, Australia
CATEGORIES:lifestyle
ATTACH;FMTTYPE=image/png:https://horshamu3a.org.au/wp-content/uploads/2024/06/Lifestyle-Program-2.png
ORGANIZER;CN="June Liddy":MAILTO:office@horshamu3a.org.au
END:VEVENT
BEGIN:VEVENT
DTSTART;TZID=Australia/Melbourne:20260615T090000
DTEND;TZID=Australia/Melbourne:20260615T170000
DTSTAMP:20260420T013744
CREATED:20260118T024328Z
LAST-MODIFIED:20260118T024328Z
UID:10016053-1781514000-1781542800@horshamu3a.org.au
SUMMARY:Table Tennis (Monday)
DESCRIPTION:With Graeme Kuhne \nTable tennis is held at the Table Tennis Association building 3 mornings per week.  Come along for a social game\, exercise and a lot of fun. Small cost per session.  $3.00 \nEvery Monday\, Wednesday and Friday at 9.00 am at the Table Tennis Association 
URL:https://horshamu3a.org.au/event/table-tennis-monday/2026-06-15/
LOCATION:Table Tennis Association\, 11 Harriett Street\, Horsham\, VIC\, 3400\, Australia
CATEGORIES:lifestyle
ATTACH;FMTTYPE=image/png:https://horshamu3a.org.au/wp-content/uploads/2025/01/table-tennis-monday-1.png
END:VEVENT
BEGIN:VEVENT
DTSTART;TZID=Australia/Melbourne:20260615T113000
DTEND;TZID=Australia/Melbourne:20260615T133000
DTSTAMP:20260420T013744
CREATED:20260214T081608Z
LAST-MODIFIED:20260214T081608Z
UID:10021716-1781523000-1781530200@horshamu3a.org.au
SUMMARY:Luncheon Group
DESCRIPTION:With Joyce Lane \nThis is a social group with members meeting every month to have lunch and have a chat. If you like meeting new people or catching up with friends\, please come along. Let Joyce know if you’re attending. Everyone is to cover the cost of their lunch. \n3rd Monday of each month at 11.50 am at a venue to be advised.    
URL:https://horshamu3a.org.au/event/luncheon-group/2026-06-15/
LOCATION:Railway Station\, 23 Railway Avenue\, Horsham\, VIC\, 3400\, Australia
CATEGORIES:lifestyle
ATTACH;FMTTYPE=image/png:https://horshamu3a.org.au/wp-content/uploads/2024/02/Luncheon-Group.png
ORGANIZER;CN="June Liddy":MAILTO:office@horshamu3a.org.au
END:VEVENT
BEGIN:VEVENT
DTSTART;TZID=Australia/Melbourne:20260616T133000
DTEND;TZID=Australia/Melbourne:20260616T160000
DTSTAMP:20260420T013744
CREATED:20260214T080046Z
LAST-MODIFIED:20260214T080046Z
UID:10021073-1781616600-1781625600@horshamu3a.org.au
SUMMARY:Reading for Pleasure
DESCRIPTION:With Rhonda Coffey    \nMembers discuss the books they have been reading and make recommendations. A Library staff member presents a short information piece regarding the Library.  Tea and coffee is provided. This is an excellent sharing opportunity. \n3rd Tuesday at 1.30 pm at the Horsham Library   
URL:https://horshamu3a.org.au/event/reading-for-pleasure/2026-06-16/
LOCATION:Wimmera Library\, Mc Laclan Street\, Horsham\, vic\, 3400\, Australia
CATEGORIES:lifestyle
ATTACH;FMTTYPE=image/png:https://horshamu3a.org.au/wp-content/uploads/2025/07/reading-for-pleasure-1.png
END:VEVENT
BEGIN:VEVENT
DTSTART;TZID=Australia/Melbourne:20260622T090000
DTEND;TZID=Australia/Melbourne:20260622T170000
DTSTAMP:20260420T013744
CREATED:20260118T024328Z
LAST-MODIFIED:20260118T024328Z
UID:10016054-1782118800-1782147600@horshamu3a.org.au
SUMMARY:Table Tennis (Monday)
DESCRIPTION:With Graeme Kuhne \nTable tennis is held at the Table Tennis Association building 3 mornings per week.  Come along for a social game\, exercise and a lot of fun. Small cost per session.  $3.00 \nEvery Monday\, Wednesday and Friday at 9.00 am at the Table Tennis Association 
URL:https://horshamu3a.org.au/event/table-tennis-monday/2026-06-22/
LOCATION:Table Tennis Association\, 11 Harriett Street\, Horsham\, VIC\, 3400\, Australia
CATEGORIES:lifestyle
ATTACH;FMTTYPE=image/png:https://horshamu3a.org.au/wp-content/uploads/2025/01/table-tennis-monday-1.png
END:VEVENT
BEGIN:VEVENT
DTSTART;TZID=Australia/Melbourne:20260623T100000
DTEND;TZID=Australia/Melbourne:20260623T120000
DTSTAMP:20260420T013744
CREATED:20260412T014620Z
LAST-MODIFIED:20260412T014621Z
UID:10022409-1782208800-1782216000@horshamu3a.org.au
SUMMARY:German Conversation
DESCRIPTION:With Ann Jensz \nThe aim is to develop speaking and listening skills and reading comprehension in a range of interesting cultural and every day contexts.  Participants should have sufficient knowledge of German to be able to construct simple sentences and understand basic spoken and written German\, have an interest in German culture and history\, a good sense of humour and enjoy the company of other Germanophiles. \n2nd and 4th Tuesday at 10.00 am in the Main Room             
URL:https://horshamu3a.org.au/event/german-conversation-2-2/2026-06-23/
LOCATION:Railway Station\, 23 Railway Avenue\, Horsham\, VIC\, 3400\, Australia
CATEGORIES:lifestyle
ATTACH;FMTTYPE=image/png:https://horshamu3a.org.au/wp-content/uploads/2025/12/Screenshot-2025-12-01-162105.png
ORGANIZER;CN="June Liddy":MAILTO:office@horshamu3a.org.au
END:VEVENT
BEGIN:VEVENT
DTSTART;TZID=Australia/Melbourne:20260624T140000
DTEND;TZID=Australia/Melbourne:20260624T160000
DTSTAMP:20260420T013744
CREATED:20260328T012525Z
LAST-MODIFIED:20260328T012525Z
UID:10022305-1782309600-1782316800@horshamu3a.org.au
SUMMARY:Lifestyle Program
DESCRIPTION:With Trish Deleeuw \nMembers weigh themselves at the Studio\, then head out for a coffee and a chat! \n1st & 3rd week at 2.00 pm in the Studio        
URL:https://horshamu3a.org.au/event/lifestyle-program-2/2026-06-24/
LOCATION:Railway Station\, 23 Railway Avenue\, Horsham\, VIC\, 3400\, Australia
CATEGORIES:lifestyle
ATTACH;FMTTYPE=image/png:https://horshamu3a.org.au/wp-content/uploads/2024/06/Lifestyle-Program-2.png
ORGANIZER;CN="June Liddy":MAILTO:office@horshamu3a.org.au
END:VEVENT
BEGIN:VEVENT
DTSTART;TZID=Australia/Melbourne:20260629T090000
DTEND;TZID=Australia/Melbourne:20260629T170000
DTSTAMP:20260420T013744
CREATED:20260118T024328Z
LAST-MODIFIED:20260118T024328Z
UID:10016055-1782723600-1782752400@horshamu3a.org.au
SUMMARY:Table Tennis (Monday)
DESCRIPTION:With Graeme Kuhne \nTable tennis is held at the Table Tennis Association building 3 mornings per week.  Come along for a social game\, exercise and a lot of fun. Small cost per session.  $3.00 \nEvery Monday\, Wednesday and Friday at 9.00 am at the Table Tennis Association 
URL:https://horshamu3a.org.au/event/table-tennis-monday/2026-06-29/
LOCATION:Table Tennis Association\, 11 Harriett Street\, Horsham\, VIC\, 3400\, Australia
CATEGORIES:lifestyle
ATTACH;FMTTYPE=image/png:https://horshamu3a.org.au/wp-content/uploads/2025/01/table-tennis-monday-1.png
END:VEVENT
BEGIN:VEVENT
DTSTART;TZID=Australia/Melbourne:20260706T090000
DTEND;TZID=Australia/Melbourne:20260706T170000
DTSTAMP:20260420T013744
CREATED:20260118T024328Z
LAST-MODIFIED:20260118T024328Z
UID:10016056-1783328400-1783357200@horshamu3a.org.au
SUMMARY:Table Tennis (Monday)
DESCRIPTION:With Graeme Kuhne \nTable tennis is held at the Table Tennis Association building 3 mornings per week.  Come along for a social game\, exercise and a lot of fun. Small cost per session.  $3.00 \nEvery Monday\, Wednesday and Friday at 9.00 am at the Table Tennis Association 
URL:https://horshamu3a.org.au/event/table-tennis-monday/2026-07-06/
LOCATION:Table Tennis Association\, 11 Harriett Street\, Horsham\, VIC\, 3400\, Australia
CATEGORIES:lifestyle
ATTACH;FMTTYPE=image/png:https://horshamu3a.org.au/wp-content/uploads/2025/01/table-tennis-monday-1.png
END:VEVENT
BEGIN:VEVENT
DTSTART;TZID=Australia/Melbourne:20260707T100000
DTEND;TZID=Australia/Melbourne:20260707T120000
DTSTAMP:20260420T013744
CREATED:20260412T014620Z
LAST-MODIFIED:20260412T014621Z
UID:10022410-1783418400-1783425600@horshamu3a.org.au
SUMMARY:German Conversation
DESCRIPTION:With Ann Jensz \nThe aim is to develop speaking and listening skills and reading comprehension in a range of interesting cultural and every day contexts.  Participants should have sufficient knowledge of German to be able to construct simple sentences and understand basic spoken and written German\, have an interest in German culture and history\, a good sense of humour and enjoy the company of other Germanophiles. \n2nd and 4th Tuesday at 10.00 am in the Main Room             
URL:https://horshamu3a.org.au/event/german-conversation-2-2/2026-07-07/
LOCATION:Railway Station\, 23 Railway Avenue\, Horsham\, VIC\, 3400\, Australia
CATEGORIES:lifestyle
ATTACH;FMTTYPE=image/png:https://horshamu3a.org.au/wp-content/uploads/2025/12/Screenshot-2025-12-01-162105.png
ORGANIZER;CN="June Liddy":MAILTO:office@horshamu3a.org.au
END:VEVENT
BEGIN:VEVENT
DTSTART;TZID=Australia/Melbourne:20260708T140000
DTEND;TZID=Australia/Melbourne:20260708T160000
DTSTAMP:20260420T013744
CREATED:20260328T012525Z
LAST-MODIFIED:20260328T012525Z
UID:10022306-1783519200-1783526400@horshamu3a.org.au
SUMMARY:Lifestyle Program
DESCRIPTION:With Trish Deleeuw \nMembers weigh themselves at the Studio\, then head out for a coffee and a chat! \n1st & 3rd week at 2.00 pm in the Studio        
URL:https://horshamu3a.org.au/event/lifestyle-program-2/2026-07-08/
LOCATION:Railway Station\, 23 Railway Avenue\, Horsham\, VIC\, 3400\, Australia
CATEGORIES:lifestyle
ATTACH;FMTTYPE=image/png:https://horshamu3a.org.au/wp-content/uploads/2024/06/Lifestyle-Program-2.png
ORGANIZER;CN="June Liddy":MAILTO:office@horshamu3a.org.au
END:VEVENT
BEGIN:VEVENT
DTSTART;TZID=Australia/Melbourne:20260713T090000
DTEND;TZID=Australia/Melbourne:20260713T170000
DTSTAMP:20260420T013744
CREATED:20260118T024328Z
LAST-MODIFIED:20260118T024328Z
UID:10016057-1783933200-1783962000@horshamu3a.org.au
SUMMARY:Table Tennis (Monday)
DESCRIPTION:With Graeme Kuhne \nTable tennis is held at the Table Tennis Association building 3 mornings per week.  Come along for a social game\, exercise and a lot of fun. Small cost per session.  $3.00 \nEvery Monday\, Wednesday and Friday at 9.00 am at the Table Tennis Association 
URL:https://horshamu3a.org.au/event/table-tennis-monday/2026-07-13/
LOCATION:Table Tennis Association\, 11 Harriett Street\, Horsham\, VIC\, 3400\, Australia
CATEGORIES:lifestyle
ATTACH;FMTTYPE=image/png:https://horshamu3a.org.au/wp-content/uploads/2025/01/table-tennis-monday-1.png
END:VEVENT
BEGIN:VEVENT
DTSTART;TZID=Australia/Melbourne:20260714T133000
DTEND;TZID=Australia/Melbourne:20260714T153000
DTSTAMP:20260420T013744
CREATED:20260307T081242Z
LAST-MODIFIED:20260307T081242Z
UID:10021916-1784035800-1784043000@horshamu3a.org.au
SUMMARY:Bookworms
DESCRIPTION:With Mary-Lou & John Spehr. \nThe members of this group read an assigned book each month for discussion. Books chosen annually from the Wimmera Regional Library. Great discussions occur\, not always related to the set book! \n2nd Tuesday of each month at 1.30 pm      
URL:https://horshamu3a.org.au/event/bookworms/2026-07-14/
LOCATION:Wimmera Library\, Mc Laclan Street\, Horsham\, vic\, 3400\, Australia
CATEGORIES:lifestyle
ATTACH;FMTTYPE=image/png:https://horshamu3a.org.au/wp-content/uploads/2024/02/Bookworms.png
ORGANIZER;CN="June Liddy":MAILTO:office@horshamu3a.org.au
END:VEVENT
BEGIN:VEVENT
DTSTART;TZID=Australia/Melbourne:20260720T090000
DTEND;TZID=Australia/Melbourne:20260720T170000
DTSTAMP:20260420T013744
CREATED:20260118T024328Z
LAST-MODIFIED:20260118T024328Z
UID:10016058-1784538000-1784566800@horshamu3a.org.au
SUMMARY:Table Tennis (Monday)
DESCRIPTION:With Graeme Kuhne \nTable tennis is held at the Table Tennis Association building 3 mornings per week.  Come along for a social game\, exercise and a lot of fun. Small cost per session.  $3.00 \nEvery Monday\, Wednesday and Friday at 9.00 am at the Table Tennis Association 
URL:https://horshamu3a.org.au/event/table-tennis-monday/2026-07-20/
LOCATION:Table Tennis Association\, 11 Harriett Street\, Horsham\, VIC\, 3400\, Australia
CATEGORIES:lifestyle
ATTACH;FMTTYPE=image/png:https://horshamu3a.org.au/wp-content/uploads/2025/01/table-tennis-monday-1.png
END:VEVENT
BEGIN:VEVENT
DTSTART;TZID=Australia/Melbourne:20260720T113000
DTEND;TZID=Australia/Melbourne:20260720T133000
DTSTAMP:20260420T013744
CREATED:20260214T081608Z
LAST-MODIFIED:20260214T081608Z
UID:10021717-1784547000-1784554200@horshamu3a.org.au
SUMMARY:Luncheon Group
DESCRIPTION:With Joyce Lane \nThis is a social group with members meeting every month to have lunch and have a chat. If you like meeting new people or catching up with friends\, please come along. Let Joyce know if you’re attending. Everyone is to cover the cost of their lunch. \n3rd Monday of each month at 11.50 am at a venue to be advised.    
URL:https://horshamu3a.org.au/event/luncheon-group/2026-07-20/
LOCATION:Railway Station\, 23 Railway Avenue\, Horsham\, VIC\, 3400\, Australia
CATEGORIES:lifestyle
ATTACH;FMTTYPE=image/png:https://horshamu3a.org.au/wp-content/uploads/2024/02/Luncheon-Group.png
ORGANIZER;CN="June Liddy":MAILTO:office@horshamu3a.org.au
END:VEVENT
BEGIN:VEVENT
DTSTART;TZID=Australia/Melbourne:20260721T100000
DTEND;TZID=Australia/Melbourne:20260721T120000
DTSTAMP:20260420T013744
CREATED:20260412T014620Z
LAST-MODIFIED:20260412T014621Z
UID:10022411-1784628000-1784635200@horshamu3a.org.au
SUMMARY:German Conversation
DESCRIPTION:With Ann Jensz \nThe aim is to develop speaking and listening skills and reading comprehension in a range of interesting cultural and every day contexts.  Participants should have sufficient knowledge of German to be able to construct simple sentences and understand basic spoken and written German\, have an interest in German culture and history\, a good sense of humour and enjoy the company of other Germanophiles. \n2nd and 4th Tuesday at 10.00 am in the Main Room             
URL:https://horshamu3a.org.au/event/german-conversation-2-2/2026-07-21/
LOCATION:Railway Station\, 23 Railway Avenue\, Horsham\, VIC\, 3400\, Australia
CATEGORIES:lifestyle
ATTACH;FMTTYPE=image/png:https://horshamu3a.org.au/wp-content/uploads/2025/12/Screenshot-2025-12-01-162105.png
ORGANIZER;CN="June Liddy":MAILTO:office@horshamu3a.org.au
END:VEVENT
BEGIN:VEVENT
DTSTART;TZID=Australia/Melbourne:20260721T133000
DTEND;TZID=Australia/Melbourne:20260721T160000
DTSTAMP:20260420T013744
CREATED:20260214T080046Z
LAST-MODIFIED:20260214T080046Z
UID:10021074-1784640600-1784649600@horshamu3a.org.au
SUMMARY:Reading for Pleasure
DESCRIPTION:With Rhonda Coffey    \nMembers discuss the books they have been reading and make recommendations. A Library staff member presents a short information piece regarding the Library.  Tea and coffee is provided. This is an excellent sharing opportunity. \n3rd Tuesday at 1.30 pm at the Horsham Library   
URL:https://horshamu3a.org.au/event/reading-for-pleasure/2026-07-21/
LOCATION:Wimmera Library\, Mc Laclan Street\, Horsham\, vic\, 3400\, Australia
CATEGORIES:lifestyle
ATTACH;FMTTYPE=image/png:https://horshamu3a.org.au/wp-content/uploads/2025/07/reading-for-pleasure-1.png
END:VEVENT
BEGIN:VEVENT
DTSTART;TZID=Australia/Melbourne:20260722T140000
DTEND;TZID=Australia/Melbourne:20260722T160000
DTSTAMP:20260420T013744
CREATED:20260328T012525Z
LAST-MODIFIED:20260328T012525Z
UID:10022307-1784728800-1784736000@horshamu3a.org.au
SUMMARY:Lifestyle Program
DESCRIPTION:With Trish Deleeuw \nMembers weigh themselves at the Studio\, then head out for a coffee and a chat! \n1st & 3rd week at 2.00 pm in the Studio        
URL:https://horshamu3a.org.au/event/lifestyle-program-2/2026-07-22/
LOCATION:Railway Station\, 23 Railway Avenue\, Horsham\, VIC\, 3400\, Australia
CATEGORIES:lifestyle
ATTACH;FMTTYPE=image/png:https://horshamu3a.org.au/wp-content/uploads/2024/06/Lifestyle-Program-2.png
ORGANIZER;CN="June Liddy":MAILTO:office@horshamu3a.org.au
END:VEVENT
BEGIN:VEVENT
DTSTART;TZID=Australia/Melbourne:20260727T090000
DTEND;TZID=Australia/Melbourne:20260727T170000
DTSTAMP:20260420T013744
CREATED:20260118T024328Z
LAST-MODIFIED:20260118T024328Z
UID:10016059-1785142800-1785171600@horshamu3a.org.au
SUMMARY:Table Tennis (Monday)
DESCRIPTION:With Graeme Kuhne \nTable tennis is held at the Table Tennis Association building 3 mornings per week.  Come along for a social game\, exercise and a lot of fun. Small cost per session.  $3.00 \nEvery Monday\, Wednesday and Friday at 9.00 am at the Table Tennis Association 
URL:https://horshamu3a.org.au/event/table-tennis-monday/2026-07-27/
LOCATION:Table Tennis Association\, 11 Harriett Street\, Horsham\, VIC\, 3400\, Australia
CATEGORIES:lifestyle
ATTACH;FMTTYPE=image/png:https://horshamu3a.org.au/wp-content/uploads/2025/01/table-tennis-monday-1.png
END:VEVENT
BEGIN:VEVENT
DTSTART;TZID=Australia/Melbourne:20260803T090000
DTEND;TZID=Australia/Melbourne:20260803T170000
DTSTAMP:20260420T013744
CREATED:20260118T024328Z
LAST-MODIFIED:20260118T024328Z
UID:10016060-1785747600-1785776400@horshamu3a.org.au
SUMMARY:Table Tennis (Monday)
DESCRIPTION:With Graeme Kuhne \nTable tennis is held at the Table Tennis Association building 3 mornings per week.  Come along for a social game\, exercise and a lot of fun. Small cost per session.  $3.00 \nEvery Monday\, Wednesday and Friday at 9.00 am at the Table Tennis Association 
URL:https://horshamu3a.org.au/event/table-tennis-monday/2026-08-03/
LOCATION:Table Tennis Association\, 11 Harriett Street\, Horsham\, VIC\, 3400\, Australia
CATEGORIES:lifestyle
ATTACH;FMTTYPE=image/png:https://horshamu3a.org.au/wp-content/uploads/2025/01/table-tennis-monday-1.png
END:VEVENT
END:VCALENDAR