BEGIN:VCALENDAR
VERSION:2.0
PRODID:-//U3A - ECPv6.15.20//NONSGML v1.0//EN
CALSCALE:GREGORIAN
METHOD:PUBLISH
X-WR-CALNAME:U3A
X-ORIGINAL-URL:https://horshamu3a.org.au
X-WR-CALDESC:Events for U3A
REFRESH-INTERVAL;VALUE=DURATION:PT1H
X-Robots-Tag:noindex
X-PUBLISHED-TTL:PT1H
BEGIN:VTIMEZONE
TZID:Australia/Melbourne
BEGIN:STANDARD
TZOFFSETFROM:+1100
TZOFFSETTO:+1000
TZNAME:AEST
DTSTART:20250405T160000
END:STANDARD
BEGIN:DAYLIGHT
TZOFFSETFROM:+1000
TZOFFSETTO:+1100
TZNAME:AEDT
DTSTART:20251004T160000
END:DAYLIGHT
BEGIN:STANDARD
TZOFFSETFROM:+1100
TZOFFSETTO:+1000
TZNAME:AEST
DTSTART:20260404T160000
END:STANDARD
BEGIN:DAYLIGHT
TZOFFSETFROM:+1000
TZOFFSETTO:+1100
TZNAME:AEDT
DTSTART:20261003T160000
END:DAYLIGHT
BEGIN:STANDARD
TZOFFSETFROM:+1100
TZOFFSETTO:+1000
TZNAME:AEST
DTSTART:20270403T160000
END:STANDARD
BEGIN:DAYLIGHT
TZOFFSETFROM:+1000
TZOFFSETTO:+1100
TZNAME:AEDT
DTSTART:20271002T160000
END:DAYLIGHT
END:VTIMEZONE
BEGIN:VEVENT
DTSTART;TZID=Australia/Melbourne:20260302T090000
DTEND;TZID=Australia/Melbourne:20260302T170000
DTSTAMP:20260419T220100
CREATED:20260118T024328Z
LAST-MODIFIED:20260118T024328Z
UID:10016038-1772442000-1772470800@horshamu3a.org.au
SUMMARY:Table Tennis (Monday)
DESCRIPTION:With Graeme Kuhne \nTable tennis is held at the Table Tennis Association building 3 mornings per week.  Come along for a social game\, exercise and a lot of fun. Small cost per session.  $3.00 \nEvery Monday\, Wednesday and Friday at 9.00 am at the Table Tennis Association 
URL:https://horshamu3a.org.au/event/table-tennis-monday/2026-03-02/
LOCATION:Table Tennis Association\, 11 Harriett Street\, Horsham\, VIC\, 3400\, Australia
CATEGORIES:lifestyle
ATTACH;FMTTYPE=image/png:https://horshamu3a.org.au/wp-content/uploads/2025/01/table-tennis-monday-1.png
END:VEVENT
BEGIN:VEVENT
DTSTART;TZID=Australia/Melbourne:20260309T090000
DTEND;TZID=Australia/Melbourne:20260309T170000
DTSTAMP:20260419T220100
CREATED:20260118T024328Z
LAST-MODIFIED:20260118T024328Z
UID:10016039-1773046800-1773075600@horshamu3a.org.au
SUMMARY:Table Tennis (Monday)
DESCRIPTION:With Graeme Kuhne \nTable tennis is held at the Table Tennis Association building 3 mornings per week.  Come along for a social game\, exercise and a lot of fun. Small cost per session.  $3.00 \nEvery Monday\, Wednesday and Friday at 9.00 am at the Table Tennis Association 
URL:https://horshamu3a.org.au/event/table-tennis-monday/2026-03-09/
LOCATION:Table Tennis Association\, 11 Harriett Street\, Horsham\, VIC\, 3400\, Australia
CATEGORIES:lifestyle
ATTACH;FMTTYPE=image/png:https://horshamu3a.org.au/wp-content/uploads/2025/01/table-tennis-monday-1.png
END:VEVENT
BEGIN:VEVENT
DTSTART;TZID=Australia/Melbourne:20260310T100000
DTEND;TZID=Australia/Melbourne:20260310T120000
DTSTAMP:20260419T220100
CREATED:20260220T081622Z
LAST-MODIFIED:20260307T080254Z
UID:10021774-1773136800-1773144000@horshamu3a.org.au
SUMMARY:German Conversation
DESCRIPTION:With Ann Jensz \nThe aim is to develop speaking and listening skills and reading comprehension in a range of interesting cultural and every day contexts.  Participants should have sufficient knowledge of German to be able to construct simple sentences and understand basic spoken and written German\, have an interest in German culture and history\, a good sense of humour and enjoy the company of other Germanophiles. \n2nd and 4th Tuesday at 10.00 am in the Main Room                   
URL:https://horshamu3a.org.au/event/german-conversation/
LOCATION:Railway Station\, 23 Railway Avenue\, Horsham\, VIC\, 3400\, Australia
CATEGORIES:events,lifestyle
ATTACH;FMTTYPE=image/png:https://horshamu3a.org.au/wp-content/uploads/2025/12/Screenshot-2025-12-01-162105.png
ORGANIZER;CN="June Liddy":MAILTO:office@horshamu3a.org.au
END:VEVENT
BEGIN:VEVENT
DTSTART;TZID=Australia/Melbourne:20260310T133000
DTEND;TZID=Australia/Melbourne:20260310T153000
DTSTAMP:20260419T220100
CREATED:20260307T081242Z
LAST-MODIFIED:20260307T081242Z
UID:10021912-1773149400-1773156600@horshamu3a.org.au
SUMMARY:Bookworms
DESCRIPTION:With Mary-Lou & John Spehr. \nThe members of this group read an assigned book each month for discussion. Books chosen annually from the Wimmera Regional Library. Great discussions occur\, not always related to the set book! \n2nd Tuesday of each month at 1.30 pm      
URL:https://horshamu3a.org.au/event/bookworms/2026-03-10/
LOCATION:Wimmera Library\, Mc Laclan Street\, Horsham\, vic\, 3400\, Australia
CATEGORIES:lifestyle
ATTACH;FMTTYPE=image/png:https://horshamu3a.org.au/wp-content/uploads/2024/02/Bookworms.png
ORGANIZER;CN="June Liddy":MAILTO:office@horshamu3a.org.au
END:VEVENT
BEGIN:VEVENT
DTSTART;TZID=Australia/Melbourne:20260316T090000
DTEND;TZID=Australia/Melbourne:20260316T170000
DTSTAMP:20260419T220100
CREATED:20260118T024328Z
LAST-MODIFIED:20260118T024328Z
UID:10016040-1773651600-1773680400@horshamu3a.org.au
SUMMARY:Table Tennis (Monday)
DESCRIPTION:With Graeme Kuhne \nTable tennis is held at the Table Tennis Association building 3 mornings per week.  Come along for a social game\, exercise and a lot of fun. Small cost per session.  $3.00 \nEvery Monday\, Wednesday and Friday at 9.00 am at the Table Tennis Association 
URL:https://horshamu3a.org.au/event/table-tennis-monday/2026-03-16/
LOCATION:Table Tennis Association\, 11 Harriett Street\, Horsham\, VIC\, 3400\, Australia
CATEGORIES:lifestyle
ATTACH;FMTTYPE=image/png:https://horshamu3a.org.au/wp-content/uploads/2025/01/table-tennis-monday-1.png
END:VEVENT
BEGIN:VEVENT
DTSTART;TZID=Australia/Melbourne:20260316T113000
DTEND;TZID=Australia/Melbourne:20260316T133000
DTSTAMP:20260419T220100
CREATED:20260214T081608Z
LAST-MODIFIED:20260214T081608Z
UID:10021713-1773660600-1773667800@horshamu3a.org.au
SUMMARY:Luncheon Group
DESCRIPTION:With Joyce Lane \nThis is a social group with members meeting every month to have lunch and have a chat. If you like meeting new people or catching up with friends\, please come along. Let Joyce know if you’re attending. Everyone is to cover the cost of their lunch. \n3rd Monday of each month at 11.50 am at a venue to be advised.    
URL:https://horshamu3a.org.au/event/luncheon-group/2026-03-16/
LOCATION:Railway Station\, 23 Railway Avenue\, Horsham\, VIC\, 3400\, Australia
CATEGORIES:lifestyle
ATTACH;FMTTYPE=image/png:https://horshamu3a.org.au/wp-content/uploads/2024/02/Luncheon-Group.png
ORGANIZER;CN="June Liddy":MAILTO:office@horshamu3a.org.au
END:VEVENT
BEGIN:VEVENT
DTSTART;TZID=Australia/Melbourne:20260317T133000
DTEND;TZID=Australia/Melbourne:20260317T160000
DTSTAMP:20260419T220100
CREATED:20260214T080046Z
LAST-MODIFIED:20260214T080046Z
UID:10021070-1773754200-1773763200@horshamu3a.org.au
SUMMARY:Reading for Pleasure
DESCRIPTION:With Rhonda Coffey    \nMembers discuss the books they have been reading and make recommendations. A Library staff member presents a short information piece regarding the Library.  Tea and coffee is provided. This is an excellent sharing opportunity. \n3rd Tuesday at 1.30 pm at the Horsham Library   
URL:https://horshamu3a.org.au/event/reading-for-pleasure/2026-03-17/
LOCATION:Wimmera Library\, Mc Laclan Street\, Horsham\, vic\, 3400\, Australia
CATEGORIES:lifestyle
ATTACH;FMTTYPE=image/png:https://horshamu3a.org.au/wp-content/uploads/2025/07/reading-for-pleasure-1.png
END:VEVENT
BEGIN:VEVENT
DTSTART;TZID=Australia/Melbourne:20260318T140000
DTEND;TZID=Australia/Melbourne:20260318T160000
DTSTAMP:20260419T220100
CREATED:20260214T080638Z
LAST-MODIFIED:20260214T080638Z
UID:10021391-1773842400-1773849600@horshamu3a.org.au
SUMMARY:Lifestyle Program
DESCRIPTION:With Trish Deleeuw \nMembers weigh themselves at the Studio\, then head out for a coffee and a chat! \n1st & 3rd week at 2.00 pm in the Studio        
URL:https://horshamu3a.org.au/event/lifestyle-program/2026-03-18/
LOCATION:Railway Station\, 23 Railway Avenue\, Horsham\, VIC\, 3400\, Australia
CATEGORIES:lifestyle
ATTACH;FMTTYPE=image/png:https://horshamu3a.org.au/wp-content/uploads/2024/06/Lifestyle-Program-2.png
ORGANIZER;CN="June Liddy":MAILTO:office@horshamu3a.org.au
END:VEVENT
BEGIN:VEVENT
DTSTART;TZID=Australia/Melbourne:20260323T090000
DTEND;TZID=Australia/Melbourne:20260323T170000
DTSTAMP:20260419T220100
CREATED:20260118T024328Z
LAST-MODIFIED:20260118T024328Z
UID:10016041-1774256400-1774285200@horshamu3a.org.au
SUMMARY:Table Tennis (Monday)
DESCRIPTION:With Graeme Kuhne \nTable tennis is held at the Table Tennis Association building 3 mornings per week.  Come along for a social game\, exercise and a lot of fun. Small cost per session.  $3.00 \nEvery Monday\, Wednesday and Friday at 9.00 am at the Table Tennis Association 
URL:https://horshamu3a.org.au/event/table-tennis-monday/2026-03-23/
LOCATION:Table Tennis Association\, 11 Harriett Street\, Horsham\, VIC\, 3400\, Australia
CATEGORIES:lifestyle
ATTACH;FMTTYPE=image/png:https://horshamu3a.org.au/wp-content/uploads/2025/01/table-tennis-monday-1.png
END:VEVENT
BEGIN:VEVENT
DTSTART;TZID=Australia/Melbourne:20260324T100000
DTEND;TZID=Australia/Melbourne:20260324T120000
DTSTAMP:20260419T220100
CREATED:20260321T045243Z
LAST-MODIFIED:20260321T045243Z
UID:10022039-1774346400-1774353600@horshamu3a.org.au
SUMMARY:German Conversation
DESCRIPTION:With Ann Jensz \nThe aim is to develop speaking and listening skills and reading comprehension in a range of interesting cultural and every day contexts.  Participants should have sufficient knowledge of German to be able to construct simple sentences and understand basic spoken and written German\, have an interest in German culture and history\, a good sense of humour and enjoy the company of other Germanophiles. \n2nd and 4th Tuesday at 10.00 am in the Main Room             
URL:https://horshamu3a.org.au/event/german-conversation-2/2026-03-24/
LOCATION:Railway Station\, 23 Railway Avenue\, Horsham\, VIC\, 3400\, Australia
CATEGORIES:lifestyle
ATTACH;FMTTYPE=image/png:https://horshamu3a.org.au/wp-content/uploads/2025/12/Screenshot-2025-12-01-162105.png
ORGANIZER;CN="June Liddy":MAILTO:office@horshamu3a.org.au
END:VEVENT
BEGIN:VEVENT
DTSTART;TZID=Australia/Melbourne:20260330T090000
DTEND;TZID=Australia/Melbourne:20260330T170000
DTSTAMP:20260419T220100
CREATED:20260118T024328Z
LAST-MODIFIED:20260118T024328Z
UID:10016042-1774861200-1774890000@horshamu3a.org.au
SUMMARY:Table Tennis (Monday)
DESCRIPTION:With Graeme Kuhne \nTable tennis is held at the Table Tennis Association building 3 mornings per week.  Come along for a social game\, exercise and a lot of fun. Small cost per session.  $3.00 \nEvery Monday\, Wednesday and Friday at 9.00 am at the Table Tennis Association 
URL:https://horshamu3a.org.au/event/table-tennis-monday/2026-03-30/
LOCATION:Table Tennis Association\, 11 Harriett Street\, Horsham\, VIC\, 3400\, Australia
CATEGORIES:lifestyle
ATTACH;FMTTYPE=image/png:https://horshamu3a.org.au/wp-content/uploads/2025/01/table-tennis-monday-1.png
END:VEVENT
END:VCALENDAR