BEGIN:VCALENDAR
VERSION:2.0
PRODID:-//U3A - ECPv6.15.20//NONSGML v1.0//EN
CALSCALE:GREGORIAN
METHOD:PUBLISH
X-WR-CALNAME:U3A
X-ORIGINAL-URL:https://horshamu3a.org.au
X-WR-CALDESC:Events for U3A
REFRESH-INTERVAL;VALUE=DURATION:PT1H
X-Robots-Tag:noindex
X-PUBLISHED-TTL:PT1H
BEGIN:VTIMEZONE
TZID:Australia/Melbourne
BEGIN:STANDARD
TZOFFSETFROM:+1100
TZOFFSETTO:+1000
TZNAME:AEST
DTSTART:20250405T160000
END:STANDARD
BEGIN:DAYLIGHT
TZOFFSETFROM:+1000
TZOFFSETTO:+1100
TZNAME:AEDT
DTSTART:20251004T160000
END:DAYLIGHT
BEGIN:STANDARD
TZOFFSETFROM:+1100
TZOFFSETTO:+1000
TZNAME:AEST
DTSTART:20260404T160000
END:STANDARD
BEGIN:DAYLIGHT
TZOFFSETFROM:+1000
TZOFFSETTO:+1100
TZNAME:AEDT
DTSTART:20261003T160000
END:DAYLIGHT
BEGIN:STANDARD
TZOFFSETFROM:+1100
TZOFFSETTO:+1000
TZNAME:AEST
DTSTART:20270403T160000
END:STANDARD
BEGIN:DAYLIGHT
TZOFFSETFROM:+1000
TZOFFSETTO:+1100
TZNAME:AEDT
DTSTART:20271002T160000
END:DAYLIGHT
END:VTIMEZONE
BEGIN:VEVENT
DTSTART;TZID=Australia/Melbourne:20260601T133000
DTEND;TZID=Australia/Melbourne:20260601T160000
DTSTAMP:20260420T100250
CREATED:20260119T042452Z
LAST-MODIFIED:20260119T042452Z
UID:10016733-1780320600-1780329600@horshamu3a.org.au
SUMMARY:Bridge
DESCRIPTION:With Davifd Cariss. \nThis group plays contract bridge which is one of the whist games. Suited to anyone who has played 500 or Euchre. \nEvery Monday at 1.30 pm in the Main Room
URL:https://horshamu3a.org.au/event/bridge/2026-06-01/
LOCATION:Railway Station\, 23 Railway Avenue\, Horsham\, VIC\, 3400\, Australia
CATEGORIES:games
ATTACH;FMTTYPE=image/png:https://horshamu3a.org.au/wp-content/uploads/2024/02/Bridge.png
ORGANIZER;CN="June Liddy":MAILTO:office@horshamu3a.org.au
END:VEVENT
BEGIN:VEVENT
DTSTART;TZID=Australia/Melbourne:20260602T130000
DTEND;TZID=Australia/Melbourne:20260602T160000
DTSTAMP:20260420T100251
CREATED:20260119T044250Z
LAST-MODIFIED:20260119T044250Z
UID:10017252-1780405200-1780416000@horshamu3a.org.au
SUMMARY:Solo
DESCRIPTION:With Maxine Ferguson \nA small enthusiastic group play Solo (another card game). The participants say it is not a difficult game\, but it does make you think. \nEvery Tuesday at 1.00 pm in the Waiting Room       
URL:https://horshamu3a.org.au/event/solo/2026-06-02/
LOCATION:Railway Station\, 23 Railway Avenue\, Horsham\, VIC\, 3400\, Australia
CATEGORIES:games
ATTACH;FMTTYPE=image/png:https://horshamu3a.org.au/wp-content/uploads/2024/02/Solo.png
ORGANIZER;CN="June Liddy":MAILTO:office@horshamu3a.org.au
END:VEVENT
BEGIN:VEVENT
DTSTART;TZID=Australia/Melbourne:20260603T133000
DTEND;TZID=Australia/Melbourne:20260603T160000
DTSTAMP:20260420T100251
CREATED:20260119T051135Z
LAST-MODIFIED:20260119T051206Z
UID:10018090-1780493400-1780502400@horshamu3a.org.au
SUMMARY:500
DESCRIPTION:With June Liddy \nFun for all on 500 cards afternoons. June is tutor\, John is scorer & Maxi\, Bob\, Peter and Bill would love to show you the ropes. We stop about 3pm for a cuppa. No experience is necessary. We take errors in our stride and remind you what is trumps\, whenever necessary. \nEvery Wednesday from 1.00 pm to 3.30 ish in the Main Room   
URL:https://horshamu3a.org.au/event/500/2026-06-03/
LOCATION:Railway Station\, 23 Railway Avenue\, Horsham\, VIC\, 3400\, Australia
CATEGORIES:games
ATTACH;FMTTYPE=image/png:https://horshamu3a.org.au/wp-content/uploads/2024/02/500-K-1.png
ORGANIZER;CN="June Liddy":MAILTO:office@horshamu3a.org.au
END:VEVENT
BEGIN:VEVENT
DTSTART;TZID=Australia/Melbourne:20260603T133000
DTEND;TZID=Australia/Melbourne:20260603T160000
DTSTAMP:20260420T100251
CREATED:20260119T051417Z
LAST-MODIFIED:20260119T051417Z
UID:10018349-1780493400-1780502400@horshamu3a.org.au
SUMMARY:Canasta
DESCRIPTION:With Elizabeth Kaucner \nWe play Bolivia Canasta. Three packs of cards are used\, including all the jokers. The aim is to build sets and sequences. Ideally played by 4 people\, but we sometimes have to improvise with less. \nEach Wednesday at 1.30 pm in the Main Room
URL:https://horshamu3a.org.au/event/canasta/2026-06-03/
LOCATION:Railway Station\, 23 Railway Avenue\, Horsham\, VIC\, 3400\, Australia
CATEGORIES:games
ATTACH;FMTTYPE=image/png:https://horshamu3a.org.au/wp-content/uploads/2024/02/Canasta-1.30pm-1.png
END:VEVENT
BEGIN:VEVENT
DTSTART;TZID=Australia/Melbourne:20260603T133000
DTEND;TZID=Australia/Melbourne:20260603T160000
DTSTAMP:20260420T100251
CREATED:20260214T080351Z
LAST-MODIFIED:20260214T080351Z
UID:10021144-1780493400-1780502400@horshamu3a.org.au
SUMMARY:Mah Jong
DESCRIPTION:With Heather Crosthwaite \nThis is the oriental based game with 4 players\, not the game you may have played on the computer. Challenge yourself with something new. \nEvery Wednesday at 1.30 pm in the Waiting Room  
URL:https://horshamu3a.org.au/event/mah-jong/2026-06-03/
LOCATION:Railway Station\, 23 Railway Avenue\, Horsham\, VIC\, 3400\, Australia
CATEGORIES:games
ATTACH;FMTTYPE=image/png:https://horshamu3a.org.au/wp-content/uploads/2024/02/Mah-Jong-2.png
ORGANIZER;CN="June Liddy":MAILTO:office@horshamu3a.org.au
END:VEVENT
BEGIN:VEVENT
DTSTART;TZID=Australia/Melbourne:20260604T133000
DTEND;TZID=Australia/Melbourne:20260604T160000
DTSTAMP:20260420T100251
CREATED:20260123T223150Z
LAST-MODIFIED:20260123T223150Z
UID:10019391-1780579800-1780588800@horshamu3a.org.au
SUMMARY:Scrabble
DESCRIPTION:With Rhonda Pilgrim \nCome and join us if you want to improve your vocabulary whilst having fun. \nEvery Thursday at 1.30 pm in the Main Room               
URL:https://horshamu3a.org.au/event/scrabble/2026-06-04/
LOCATION:Railway Station\, 23 Railway Avenue\, Horsham\, VIC\, 3400\, Australia
CATEGORIES:games
ATTACH;FMTTYPE=image/png:https://horshamu3a.org.au/wp-content/uploads/2024/01/scrabble.png
END:VEVENT
BEGIN:VEVENT
DTSTART;TZID=Australia/Melbourne:20260608T133000
DTEND;TZID=Australia/Melbourne:20260608T160000
DTSTAMP:20260420T100251
CREATED:20260119T042452Z
LAST-MODIFIED:20260119T042452Z
UID:10016734-1780925400-1780934400@horshamu3a.org.au
SUMMARY:Bridge
DESCRIPTION:With Davifd Cariss. \nThis group plays contract bridge which is one of the whist games. Suited to anyone who has played 500 or Euchre. \nEvery Monday at 1.30 pm in the Main Room
URL:https://horshamu3a.org.au/event/bridge/2026-06-08/
LOCATION:Railway Station\, 23 Railway Avenue\, Horsham\, VIC\, 3400\, Australia
CATEGORIES:games
ATTACH;FMTTYPE=image/png:https://horshamu3a.org.au/wp-content/uploads/2024/02/Bridge.png
ORGANIZER;CN="June Liddy":MAILTO:office@horshamu3a.org.au
END:VEVENT
BEGIN:VEVENT
DTSTART;TZID=Australia/Melbourne:20260609T130000
DTEND;TZID=Australia/Melbourne:20260609T160000
DTSTAMP:20260420T100251
CREATED:20260119T044250Z
LAST-MODIFIED:20260119T044250Z
UID:10017253-1781010000-1781020800@horshamu3a.org.au
SUMMARY:Solo
DESCRIPTION:With Maxine Ferguson \nA small enthusiastic group play Solo (another card game). The participants say it is not a difficult game\, but it does make you think. \nEvery Tuesday at 1.00 pm in the Waiting Room       
URL:https://horshamu3a.org.au/event/solo/2026-06-09/
LOCATION:Railway Station\, 23 Railway Avenue\, Horsham\, VIC\, 3400\, Australia
CATEGORIES:games
ATTACH;FMTTYPE=image/png:https://horshamu3a.org.au/wp-content/uploads/2024/02/Solo.png
ORGANIZER;CN="June Liddy":MAILTO:office@horshamu3a.org.au
END:VEVENT
BEGIN:VEVENT
DTSTART;TZID=Australia/Melbourne:20260610T133000
DTEND;TZID=Australia/Melbourne:20260610T160000
DTSTAMP:20260420T100251
CREATED:20260119T051135Z
LAST-MODIFIED:20260119T051206Z
UID:10018091-1781098200-1781107200@horshamu3a.org.au
SUMMARY:500
DESCRIPTION:With June Liddy \nFun for all on 500 cards afternoons. June is tutor\, John is scorer & Maxi\, Bob\, Peter and Bill would love to show you the ropes. We stop about 3pm for a cuppa. No experience is necessary. We take errors in our stride and remind you what is trumps\, whenever necessary. \nEvery Wednesday from 1.00 pm to 3.30 ish in the Main Room   
URL:https://horshamu3a.org.au/event/500/2026-06-10/
LOCATION:Railway Station\, 23 Railway Avenue\, Horsham\, VIC\, 3400\, Australia
CATEGORIES:games
ATTACH;FMTTYPE=image/png:https://horshamu3a.org.au/wp-content/uploads/2024/02/500-K-1.png
ORGANIZER;CN="June Liddy":MAILTO:office@horshamu3a.org.au
END:VEVENT
BEGIN:VEVENT
DTSTART;TZID=Australia/Melbourne:20260610T133000
DTEND;TZID=Australia/Melbourne:20260610T160000
DTSTAMP:20260420T100251
CREATED:20260119T051417Z
LAST-MODIFIED:20260119T051417Z
UID:10018350-1781098200-1781107200@horshamu3a.org.au
SUMMARY:Canasta
DESCRIPTION:With Elizabeth Kaucner \nWe play Bolivia Canasta. Three packs of cards are used\, including all the jokers. The aim is to build sets and sequences. Ideally played by 4 people\, but we sometimes have to improvise with less. \nEach Wednesday at 1.30 pm in the Main Room
URL:https://horshamu3a.org.au/event/canasta/2026-06-10/
LOCATION:Railway Station\, 23 Railway Avenue\, Horsham\, VIC\, 3400\, Australia
CATEGORIES:games
ATTACH;FMTTYPE=image/png:https://horshamu3a.org.au/wp-content/uploads/2024/02/Canasta-1.30pm-1.png
END:VEVENT
BEGIN:VEVENT
DTSTART;TZID=Australia/Melbourne:20260610T133000
DTEND;TZID=Australia/Melbourne:20260610T160000
DTSTAMP:20260420T100251
CREATED:20260214T080351Z
LAST-MODIFIED:20260214T080351Z
UID:10021145-1781098200-1781107200@horshamu3a.org.au
SUMMARY:Mah Jong
DESCRIPTION:With Heather Crosthwaite \nThis is the oriental based game with 4 players\, not the game you may have played on the computer. Challenge yourself with something new. \nEvery Wednesday at 1.30 pm in the Waiting Room  
URL:https://horshamu3a.org.au/event/mah-jong/2026-06-10/
LOCATION:Railway Station\, 23 Railway Avenue\, Horsham\, VIC\, 3400\, Australia
CATEGORIES:games
ATTACH;FMTTYPE=image/png:https://horshamu3a.org.au/wp-content/uploads/2024/02/Mah-Jong-2.png
ORGANIZER;CN="June Liddy":MAILTO:office@horshamu3a.org.au
END:VEVENT
BEGIN:VEVENT
DTSTART;TZID=Australia/Melbourne:20260611T133000
DTEND;TZID=Australia/Melbourne:20260611T160000
DTSTAMP:20260420T100251
CREATED:20260123T223150Z
LAST-MODIFIED:20260123T223150Z
UID:10019392-1781184600-1781193600@horshamu3a.org.au
SUMMARY:Scrabble
DESCRIPTION:With Rhonda Pilgrim \nCome and join us if you want to improve your vocabulary whilst having fun. \nEvery Thursday at 1.30 pm in the Main Room               
URL:https://horshamu3a.org.au/event/scrabble/2026-06-11/
LOCATION:Railway Station\, 23 Railway Avenue\, Horsham\, VIC\, 3400\, Australia
CATEGORIES:games
ATTACH;FMTTYPE=image/png:https://horshamu3a.org.au/wp-content/uploads/2024/01/scrabble.png
END:VEVENT
BEGIN:VEVENT
DTSTART;TZID=Australia/Melbourne:20260615T133000
DTEND;TZID=Australia/Melbourne:20260615T160000
DTSTAMP:20260420T100251
CREATED:20260119T042452Z
LAST-MODIFIED:20260119T042452Z
UID:10016735-1781530200-1781539200@horshamu3a.org.au
SUMMARY:Bridge
DESCRIPTION:With Davifd Cariss. \nThis group plays contract bridge which is one of the whist games. Suited to anyone who has played 500 or Euchre. \nEvery Monday at 1.30 pm in the Main Room
URL:https://horshamu3a.org.au/event/bridge/2026-06-15/
LOCATION:Railway Station\, 23 Railway Avenue\, Horsham\, VIC\, 3400\, Australia
CATEGORIES:games
ATTACH;FMTTYPE=image/png:https://horshamu3a.org.au/wp-content/uploads/2024/02/Bridge.png
ORGANIZER;CN="June Liddy":MAILTO:office@horshamu3a.org.au
END:VEVENT
BEGIN:VEVENT
DTSTART;TZID=Australia/Melbourne:20260616T130000
DTEND;TZID=Australia/Melbourne:20260616T160000
DTSTAMP:20260420T100251
CREATED:20260119T044250Z
LAST-MODIFIED:20260119T044250Z
UID:10017254-1781614800-1781625600@horshamu3a.org.au
SUMMARY:Solo
DESCRIPTION:With Maxine Ferguson \nA small enthusiastic group play Solo (another card game). The participants say it is not a difficult game\, but it does make you think. \nEvery Tuesday at 1.00 pm in the Waiting Room       
URL:https://horshamu3a.org.au/event/solo/2026-06-16/
LOCATION:Railway Station\, 23 Railway Avenue\, Horsham\, VIC\, 3400\, Australia
CATEGORIES:games
ATTACH;FMTTYPE=image/png:https://horshamu3a.org.au/wp-content/uploads/2024/02/Solo.png
ORGANIZER;CN="June Liddy":MAILTO:office@horshamu3a.org.au
END:VEVENT
BEGIN:VEVENT
DTSTART;TZID=Australia/Melbourne:20260617T133000
DTEND;TZID=Australia/Melbourne:20260617T160000
DTSTAMP:20260420T100251
CREATED:20260119T051135Z
LAST-MODIFIED:20260119T051206Z
UID:10018092-1781703000-1781712000@horshamu3a.org.au
SUMMARY:500
DESCRIPTION:With June Liddy \nFun for all on 500 cards afternoons. June is tutor\, John is scorer & Maxi\, Bob\, Peter and Bill would love to show you the ropes. We stop about 3pm for a cuppa. No experience is necessary. We take errors in our stride and remind you what is trumps\, whenever necessary. \nEvery Wednesday from 1.00 pm to 3.30 ish in the Main Room   
URL:https://horshamu3a.org.au/event/500/2026-06-17/
LOCATION:Railway Station\, 23 Railway Avenue\, Horsham\, VIC\, 3400\, Australia
CATEGORIES:games
ATTACH;FMTTYPE=image/png:https://horshamu3a.org.au/wp-content/uploads/2024/02/500-K-1.png
ORGANIZER;CN="June Liddy":MAILTO:office@horshamu3a.org.au
END:VEVENT
BEGIN:VEVENT
DTSTART;TZID=Australia/Melbourne:20260617T133000
DTEND;TZID=Australia/Melbourne:20260617T160000
DTSTAMP:20260420T100251
CREATED:20260119T051417Z
LAST-MODIFIED:20260119T051417Z
UID:10018351-1781703000-1781712000@horshamu3a.org.au
SUMMARY:Canasta
DESCRIPTION:With Elizabeth Kaucner \nWe play Bolivia Canasta. Three packs of cards are used\, including all the jokers. The aim is to build sets and sequences. Ideally played by 4 people\, but we sometimes have to improvise with less. \nEach Wednesday at 1.30 pm in the Main Room
URL:https://horshamu3a.org.au/event/canasta/2026-06-17/
LOCATION:Railway Station\, 23 Railway Avenue\, Horsham\, VIC\, 3400\, Australia
CATEGORIES:games
ATTACH;FMTTYPE=image/png:https://horshamu3a.org.au/wp-content/uploads/2024/02/Canasta-1.30pm-1.png
END:VEVENT
BEGIN:VEVENT
DTSTART;TZID=Australia/Melbourne:20260617T133000
DTEND;TZID=Australia/Melbourne:20260617T160000
DTSTAMP:20260420T100251
CREATED:20260214T080351Z
LAST-MODIFIED:20260214T080351Z
UID:10021146-1781703000-1781712000@horshamu3a.org.au
SUMMARY:Mah Jong
DESCRIPTION:With Heather Crosthwaite \nThis is the oriental based game with 4 players\, not the game you may have played on the computer. Challenge yourself with something new. \nEvery Wednesday at 1.30 pm in the Waiting Room  
URL:https://horshamu3a.org.au/event/mah-jong/2026-06-17/
LOCATION:Railway Station\, 23 Railway Avenue\, Horsham\, VIC\, 3400\, Australia
CATEGORIES:games
ATTACH;FMTTYPE=image/png:https://horshamu3a.org.au/wp-content/uploads/2024/02/Mah-Jong-2.png
ORGANIZER;CN="June Liddy":MAILTO:office@horshamu3a.org.au
END:VEVENT
BEGIN:VEVENT
DTSTART;TZID=Australia/Melbourne:20260618T133000
DTEND;TZID=Australia/Melbourne:20260618T160000
DTSTAMP:20260420T100251
CREATED:20260123T223150Z
LAST-MODIFIED:20260123T223150Z
UID:10019393-1781789400-1781798400@horshamu3a.org.au
SUMMARY:Scrabble
DESCRIPTION:With Rhonda Pilgrim \nCome and join us if you want to improve your vocabulary whilst having fun. \nEvery Thursday at 1.30 pm in the Main Room               
URL:https://horshamu3a.org.au/event/scrabble/2026-06-18/
LOCATION:Railway Station\, 23 Railway Avenue\, Horsham\, VIC\, 3400\, Australia
CATEGORIES:games
ATTACH;FMTTYPE=image/png:https://horshamu3a.org.au/wp-content/uploads/2024/01/scrabble.png
END:VEVENT
BEGIN:VEVENT
DTSTART;TZID=Australia/Melbourne:20260622T133000
DTEND;TZID=Australia/Melbourne:20260622T160000
DTSTAMP:20260420T100251
CREATED:20260119T042452Z
LAST-MODIFIED:20260119T042452Z
UID:10016736-1782135000-1782144000@horshamu3a.org.au
SUMMARY:Bridge
DESCRIPTION:With Davifd Cariss. \nThis group plays contract bridge which is one of the whist games. Suited to anyone who has played 500 or Euchre. \nEvery Monday at 1.30 pm in the Main Room
URL:https://horshamu3a.org.au/event/bridge/2026-06-22/
LOCATION:Railway Station\, 23 Railway Avenue\, Horsham\, VIC\, 3400\, Australia
CATEGORIES:games
ATTACH;FMTTYPE=image/png:https://horshamu3a.org.au/wp-content/uploads/2024/02/Bridge.png
ORGANIZER;CN="June Liddy":MAILTO:office@horshamu3a.org.au
END:VEVENT
BEGIN:VEVENT
DTSTART;TZID=Australia/Melbourne:20260623T130000
DTEND;TZID=Australia/Melbourne:20260623T160000
DTSTAMP:20260420T100251
CREATED:20260119T044250Z
LAST-MODIFIED:20260119T044250Z
UID:10017255-1782219600-1782230400@horshamu3a.org.au
SUMMARY:Solo
DESCRIPTION:With Maxine Ferguson \nA small enthusiastic group play Solo (another card game). The participants say it is not a difficult game\, but it does make you think. \nEvery Tuesday at 1.00 pm in the Waiting Room       
URL:https://horshamu3a.org.au/event/solo/2026-06-23/
LOCATION:Railway Station\, 23 Railway Avenue\, Horsham\, VIC\, 3400\, Australia
CATEGORIES:games
ATTACH;FMTTYPE=image/png:https://horshamu3a.org.au/wp-content/uploads/2024/02/Solo.png
ORGANIZER;CN="June Liddy":MAILTO:office@horshamu3a.org.au
END:VEVENT
BEGIN:VEVENT
DTSTART;TZID=Australia/Melbourne:20260624T133000
DTEND;TZID=Australia/Melbourne:20260624T160000
DTSTAMP:20260420T100251
CREATED:20260119T051135Z
LAST-MODIFIED:20260119T051206Z
UID:10018093-1782307800-1782316800@horshamu3a.org.au
SUMMARY:500
DESCRIPTION:With June Liddy \nFun for all on 500 cards afternoons. June is tutor\, John is scorer & Maxi\, Bob\, Peter and Bill would love to show you the ropes. We stop about 3pm for a cuppa. No experience is necessary. We take errors in our stride and remind you what is trumps\, whenever necessary. \nEvery Wednesday from 1.00 pm to 3.30 ish in the Main Room   
URL:https://horshamu3a.org.au/event/500/2026-06-24/
LOCATION:Railway Station\, 23 Railway Avenue\, Horsham\, VIC\, 3400\, Australia
CATEGORIES:games
ATTACH;FMTTYPE=image/png:https://horshamu3a.org.au/wp-content/uploads/2024/02/500-K-1.png
ORGANIZER;CN="June Liddy":MAILTO:office@horshamu3a.org.au
END:VEVENT
BEGIN:VEVENT
DTSTART;TZID=Australia/Melbourne:20260624T133000
DTEND;TZID=Australia/Melbourne:20260624T160000
DTSTAMP:20260420T100251
CREATED:20260119T051417Z
LAST-MODIFIED:20260119T051417Z
UID:10018352-1782307800-1782316800@horshamu3a.org.au
SUMMARY:Canasta
DESCRIPTION:With Elizabeth Kaucner \nWe play Bolivia Canasta. Three packs of cards are used\, including all the jokers. The aim is to build sets and sequences. Ideally played by 4 people\, but we sometimes have to improvise with less. \nEach Wednesday at 1.30 pm in the Main Room
URL:https://horshamu3a.org.au/event/canasta/2026-06-24/
LOCATION:Railway Station\, 23 Railway Avenue\, Horsham\, VIC\, 3400\, Australia
CATEGORIES:games
ATTACH;FMTTYPE=image/png:https://horshamu3a.org.au/wp-content/uploads/2024/02/Canasta-1.30pm-1.png
END:VEVENT
BEGIN:VEVENT
DTSTART;TZID=Australia/Melbourne:20260624T133000
DTEND;TZID=Australia/Melbourne:20260624T160000
DTSTAMP:20260420T100251
CREATED:20260214T080351Z
LAST-MODIFIED:20260214T080351Z
UID:10021147-1782307800-1782316800@horshamu3a.org.au
SUMMARY:Mah Jong
DESCRIPTION:With Heather Crosthwaite \nThis is the oriental based game with 4 players\, not the game you may have played on the computer. Challenge yourself with something new. \nEvery Wednesday at 1.30 pm in the Waiting Room  
URL:https://horshamu3a.org.au/event/mah-jong/2026-06-24/
LOCATION:Railway Station\, 23 Railway Avenue\, Horsham\, VIC\, 3400\, Australia
CATEGORIES:games
ATTACH;FMTTYPE=image/png:https://horshamu3a.org.au/wp-content/uploads/2024/02/Mah-Jong-2.png
ORGANIZER;CN="June Liddy":MAILTO:office@horshamu3a.org.au
END:VEVENT
BEGIN:VEVENT
DTSTART;TZID=Australia/Melbourne:20260625T133000
DTEND;TZID=Australia/Melbourne:20260625T160000
DTSTAMP:20260420T100251
CREATED:20260123T223150Z
LAST-MODIFIED:20260123T223150Z
UID:10019394-1782394200-1782403200@horshamu3a.org.au
SUMMARY:Scrabble
DESCRIPTION:With Rhonda Pilgrim \nCome and join us if you want to improve your vocabulary whilst having fun. \nEvery Thursday at 1.30 pm in the Main Room               
URL:https://horshamu3a.org.au/event/scrabble/2026-06-25/
LOCATION:Railway Station\, 23 Railway Avenue\, Horsham\, VIC\, 3400\, Australia
CATEGORIES:games
ATTACH;FMTTYPE=image/png:https://horshamu3a.org.au/wp-content/uploads/2024/01/scrabble.png
END:VEVENT
BEGIN:VEVENT
DTSTART;TZID=Australia/Melbourne:20260629T133000
DTEND;TZID=Australia/Melbourne:20260629T160000
DTSTAMP:20260420T100251
CREATED:20260119T042452Z
LAST-MODIFIED:20260119T042452Z
UID:10016737-1782739800-1782748800@horshamu3a.org.au
SUMMARY:Bridge
DESCRIPTION:With Davifd Cariss. \nThis group plays contract bridge which is one of the whist games. Suited to anyone who has played 500 or Euchre. \nEvery Monday at 1.30 pm in the Main Room
URL:https://horshamu3a.org.au/event/bridge/2026-06-29/
LOCATION:Railway Station\, 23 Railway Avenue\, Horsham\, VIC\, 3400\, Australia
CATEGORIES:games
ATTACH;FMTTYPE=image/png:https://horshamu3a.org.au/wp-content/uploads/2024/02/Bridge.png
ORGANIZER;CN="June Liddy":MAILTO:office@horshamu3a.org.au
END:VEVENT
BEGIN:VEVENT
DTSTART;TZID=Australia/Melbourne:20260630T130000
DTEND;TZID=Australia/Melbourne:20260630T160000
DTSTAMP:20260420T100251
CREATED:20260119T044250Z
LAST-MODIFIED:20260119T044250Z
UID:10017256-1782824400-1782835200@horshamu3a.org.au
SUMMARY:Solo
DESCRIPTION:With Maxine Ferguson \nA small enthusiastic group play Solo (another card game). The participants say it is not a difficult game\, but it does make you think. \nEvery Tuesday at 1.00 pm in the Waiting Room       
URL:https://horshamu3a.org.au/event/solo/2026-06-30/
LOCATION:Railway Station\, 23 Railway Avenue\, Horsham\, VIC\, 3400\, Australia
CATEGORIES:games
ATTACH;FMTTYPE=image/png:https://horshamu3a.org.au/wp-content/uploads/2024/02/Solo.png
ORGANIZER;CN="June Liddy":MAILTO:office@horshamu3a.org.au
END:VEVENT
BEGIN:VEVENT
DTSTART;TZID=Australia/Melbourne:20260701T133000
DTEND;TZID=Australia/Melbourne:20260701T160000
DTSTAMP:20260420T100251
CREATED:20260119T051135Z
LAST-MODIFIED:20260119T051206Z
UID:10018094-1782912600-1782921600@horshamu3a.org.au
SUMMARY:500
DESCRIPTION:With June Liddy \nFun for all on 500 cards afternoons. June is tutor\, John is scorer & Maxi\, Bob\, Peter and Bill would love to show you the ropes. We stop about 3pm for a cuppa. No experience is necessary. We take errors in our stride and remind you what is trumps\, whenever necessary. \nEvery Wednesday from 1.00 pm to 3.30 ish in the Main Room   
URL:https://horshamu3a.org.au/event/500/2026-07-01/
LOCATION:Railway Station\, 23 Railway Avenue\, Horsham\, VIC\, 3400\, Australia
CATEGORIES:games
ATTACH;FMTTYPE=image/png:https://horshamu3a.org.au/wp-content/uploads/2024/02/500-K-1.png
ORGANIZER;CN="June Liddy":MAILTO:office@horshamu3a.org.au
END:VEVENT
BEGIN:VEVENT
DTSTART;TZID=Australia/Melbourne:20260701T133000
DTEND;TZID=Australia/Melbourne:20260701T160000
DTSTAMP:20260420T100251
CREATED:20260119T051417Z
LAST-MODIFIED:20260119T051417Z
UID:10018353-1782912600-1782921600@horshamu3a.org.au
SUMMARY:Canasta
DESCRIPTION:With Elizabeth Kaucner \nWe play Bolivia Canasta. Three packs of cards are used\, including all the jokers. The aim is to build sets and sequences. Ideally played by 4 people\, but we sometimes have to improvise with less. \nEach Wednesday at 1.30 pm in the Main Room
URL:https://horshamu3a.org.au/event/canasta/2026-07-01/
LOCATION:Railway Station\, 23 Railway Avenue\, Horsham\, VIC\, 3400\, Australia
CATEGORIES:games
ATTACH;FMTTYPE=image/png:https://horshamu3a.org.au/wp-content/uploads/2024/02/Canasta-1.30pm-1.png
END:VEVENT
BEGIN:VEVENT
DTSTART;TZID=Australia/Melbourne:20260701T133000
DTEND;TZID=Australia/Melbourne:20260701T160000
DTSTAMP:20260420T100251
CREATED:20260214T080351Z
LAST-MODIFIED:20260214T080351Z
UID:10021148-1782912600-1782921600@horshamu3a.org.au
SUMMARY:Mah Jong
DESCRIPTION:With Heather Crosthwaite \nThis is the oriental based game with 4 players\, not the game you may have played on the computer. Challenge yourself with something new. \nEvery Wednesday at 1.30 pm in the Waiting Room  
URL:https://horshamu3a.org.au/event/mah-jong/2026-07-01/
LOCATION:Railway Station\, 23 Railway Avenue\, Horsham\, VIC\, 3400\, Australia
CATEGORIES:games
ATTACH;FMTTYPE=image/png:https://horshamu3a.org.au/wp-content/uploads/2024/02/Mah-Jong-2.png
ORGANIZER;CN="June Liddy":MAILTO:office@horshamu3a.org.au
END:VEVENT
BEGIN:VEVENT
DTSTART;TZID=Australia/Melbourne:20260702T133000
DTEND;TZID=Australia/Melbourne:20260702T160000
DTSTAMP:20260420T100251
CREATED:20260123T223150Z
LAST-MODIFIED:20260123T223150Z
UID:10019395-1782999000-1783008000@horshamu3a.org.au
SUMMARY:Scrabble
DESCRIPTION:With Rhonda Pilgrim \nCome and join us if you want to improve your vocabulary whilst having fun. \nEvery Thursday at 1.30 pm in the Main Room               
URL:https://horshamu3a.org.au/event/scrabble/2026-07-02/
LOCATION:Railway Station\, 23 Railway Avenue\, Horsham\, VIC\, 3400\, Australia
CATEGORIES:games
ATTACH;FMTTYPE=image/png:https://horshamu3a.org.au/wp-content/uploads/2024/01/scrabble.png
END:VEVENT
END:VCALENDAR