BEGIN:VCALENDAR
VERSION:2.0
PRODID:-//U3A - ECPv6.15.20//NONSGML v1.0//EN
CALSCALE:GREGORIAN
METHOD:PUBLISH
X-WR-CALNAME:U3A
X-ORIGINAL-URL:https://horshamu3a.org.au
X-WR-CALDESC:Events for U3A
REFRESH-INTERVAL;VALUE=DURATION:PT1H
X-Robots-Tag:noindex
X-PUBLISHED-TTL:PT1H
BEGIN:VTIMEZONE
TZID:Australia/Melbourne
BEGIN:STANDARD
TZOFFSETFROM:+1100
TZOFFSETTO:+1000
TZNAME:AEST
DTSTART:20250405T160000
END:STANDARD
BEGIN:DAYLIGHT
TZOFFSETFROM:+1000
TZOFFSETTO:+1100
TZNAME:AEDT
DTSTART:20251004T160000
END:DAYLIGHT
BEGIN:STANDARD
TZOFFSETFROM:+1100
TZOFFSETTO:+1000
TZNAME:AEST
DTSTART:20260404T160000
END:STANDARD
BEGIN:DAYLIGHT
TZOFFSETFROM:+1000
TZOFFSETTO:+1100
TZNAME:AEDT
DTSTART:20261003T160000
END:DAYLIGHT
BEGIN:STANDARD
TZOFFSETFROM:+1100
TZOFFSETTO:+1000
TZNAME:AEST
DTSTART:20270403T160000
END:STANDARD
BEGIN:DAYLIGHT
TZOFFSETFROM:+1000
TZOFFSETTO:+1100
TZNAME:AEDT
DTSTART:20271002T160000
END:DAYLIGHT
END:VTIMEZONE
BEGIN:VEVENT
DTSTART;TZID=Australia/Melbourne:20260908T130000
DTEND;TZID=Australia/Melbourne:20260908T160000
DTSTAMP:20260421T152808
CREATED:20260119T044250Z
LAST-MODIFIED:20260119T044250Z
UID:10017266-1788872400-1788883200@horshamu3a.org.au
SUMMARY:Solo
DESCRIPTION:With Maxine Ferguson \nA small enthusiastic group play Solo (another card game). The participants say it is not a difficult game\, but it does make you think. \nEvery Tuesday at 1.00 pm in the Waiting Room       
URL:https://horshamu3a.org.au/event/solo/2026-09-08/
LOCATION:Railway Station\, 23 Railway Avenue\, Horsham\, VIC\, 3400\, Australia
CATEGORIES:games
ATTACH;FMTTYPE=image/png:https://horshamu3a.org.au/wp-content/uploads/2024/02/Solo.png
ORGANIZER;CN="June Liddy":MAILTO:office@horshamu3a.org.au
END:VEVENT
BEGIN:VEVENT
DTSTART;TZID=Australia/Melbourne:20260909T133000
DTEND;TZID=Australia/Melbourne:20260909T160000
DTSTAMP:20260421T152808
CREATED:20260119T051135Z
LAST-MODIFIED:20260119T051206Z
UID:10018104-1788960600-1788969600@horshamu3a.org.au
SUMMARY:500
DESCRIPTION:With June Liddy \nFun for all on 500 cards afternoons. June is tutor\, John is scorer & Maxi\, Bob\, Peter and Bill would love to show you the ropes. We stop about 3pm for a cuppa. No experience is necessary. We take errors in our stride and remind you what is trumps\, whenever necessary. \nEvery Wednesday from 1.00 pm to 3.30 ish in the Main Room   
URL:https://horshamu3a.org.au/event/500/2026-09-09/
LOCATION:Railway Station\, 23 Railway Avenue\, Horsham\, VIC\, 3400\, Australia
CATEGORIES:games
ATTACH;FMTTYPE=image/png:https://horshamu3a.org.au/wp-content/uploads/2024/02/500-K-1.png
ORGANIZER;CN="June Liddy":MAILTO:office@horshamu3a.org.au
END:VEVENT
BEGIN:VEVENT
DTSTART;TZID=Australia/Melbourne:20260909T133000
DTEND;TZID=Australia/Melbourne:20260909T160000
DTSTAMP:20260421T152808
CREATED:20260119T051417Z
LAST-MODIFIED:20260119T051417Z
UID:10018363-1788960600-1788969600@horshamu3a.org.au
SUMMARY:Canasta
DESCRIPTION:With Elizabeth Kaucner \nWe play Bolivia Canasta. Three packs of cards are used\, including all the jokers. The aim is to build sets and sequences. Ideally played by 4 people\, but we sometimes have to improvise with less. \nEach Wednesday at 1.30 pm in the Main Room
URL:https://horshamu3a.org.au/event/canasta/2026-09-09/
LOCATION:Railway Station\, 23 Railway Avenue\, Horsham\, VIC\, 3400\, Australia
CATEGORIES:games
ATTACH;FMTTYPE=image/png:https://horshamu3a.org.au/wp-content/uploads/2024/02/Canasta-1.30pm-1.png
END:VEVENT
BEGIN:VEVENT
DTSTART;TZID=Australia/Melbourne:20260909T133000
DTEND;TZID=Australia/Melbourne:20260909T160000
DTSTAMP:20260421T152808
CREATED:20260214T080351Z
LAST-MODIFIED:20260214T080351Z
UID:10021158-1788960600-1788969600@horshamu3a.org.au
SUMMARY:Mah Jong
DESCRIPTION:With Heather Crosthwaite \nThis is the oriental based game with 4 players\, not the game you may have played on the computer. Challenge yourself with something new. \nEvery Wednesday at 1.30 pm in the Waiting Room  
URL:https://horshamu3a.org.au/event/mah-jong/2026-09-09/
LOCATION:Railway Station\, 23 Railway Avenue\, Horsham\, VIC\, 3400\, Australia
CATEGORIES:games
ATTACH;FMTTYPE=image/png:https://horshamu3a.org.au/wp-content/uploads/2024/02/Mah-Jong-2.png
ORGANIZER;CN="June Liddy":MAILTO:office@horshamu3a.org.au
END:VEVENT
BEGIN:VEVENT
DTSTART;TZID=Australia/Melbourne:20260910T133000
DTEND;TZID=Australia/Melbourne:20260910T160000
DTSTAMP:20260421T152808
CREATED:20260123T223150Z
LAST-MODIFIED:20260123T223150Z
UID:10019405-1789047000-1789056000@horshamu3a.org.au
SUMMARY:Scrabble
DESCRIPTION:With Rhonda Pilgrim \nCome and join us if you want to improve your vocabulary whilst having fun. \nEvery Thursday at 1.30 pm in the Main Room               
URL:https://horshamu3a.org.au/event/scrabble/2026-09-10/
LOCATION:Railway Station\, 23 Railway Avenue\, Horsham\, VIC\, 3400\, Australia
CATEGORIES:games
ATTACH;FMTTYPE=image/png:https://horshamu3a.org.au/wp-content/uploads/2024/01/scrabble.png
END:VEVENT
BEGIN:VEVENT
DTSTART;TZID=Australia/Melbourne:20260914T133000
DTEND;TZID=Australia/Melbourne:20260914T160000
DTSTAMP:20260421T152808
CREATED:20260119T042452Z
LAST-MODIFIED:20260119T042452Z
UID:10016748-1789392600-1789401600@horshamu3a.org.au
SUMMARY:Bridge
DESCRIPTION:With Davifd Cariss. \nThis group plays contract bridge which is one of the whist games. Suited to anyone who has played 500 or Euchre. \nEvery Monday at 1.30 pm in the Main Room
URL:https://horshamu3a.org.au/event/bridge/2026-09-14/
LOCATION:Railway Station\, 23 Railway Avenue\, Horsham\, VIC\, 3400\, Australia
CATEGORIES:games
ATTACH;FMTTYPE=image/png:https://horshamu3a.org.au/wp-content/uploads/2024/02/Bridge.png
ORGANIZER;CN="June Liddy":MAILTO:office@horshamu3a.org.au
END:VEVENT
BEGIN:VEVENT
DTSTART;TZID=Australia/Melbourne:20260915T130000
DTEND;TZID=Australia/Melbourne:20260915T160000
DTSTAMP:20260421T152808
CREATED:20260119T044250Z
LAST-MODIFIED:20260119T044250Z
UID:10017267-1789477200-1789488000@horshamu3a.org.au
SUMMARY:Solo
DESCRIPTION:With Maxine Ferguson \nA small enthusiastic group play Solo (another card game). The participants say it is not a difficult game\, but it does make you think. \nEvery Tuesday at 1.00 pm in the Waiting Room       
URL:https://horshamu3a.org.au/event/solo/2026-09-15/
LOCATION:Railway Station\, 23 Railway Avenue\, Horsham\, VIC\, 3400\, Australia
CATEGORIES:games
ATTACH;FMTTYPE=image/png:https://horshamu3a.org.au/wp-content/uploads/2024/02/Solo.png
ORGANIZER;CN="June Liddy":MAILTO:office@horshamu3a.org.au
END:VEVENT
BEGIN:VEVENT
DTSTART;TZID=Australia/Melbourne:20260916T133000
DTEND;TZID=Australia/Melbourne:20260916T160000
DTSTAMP:20260421T152808
CREATED:20260119T051135Z
LAST-MODIFIED:20260119T051206Z
UID:10018105-1789565400-1789574400@horshamu3a.org.au
SUMMARY:500
DESCRIPTION:With June Liddy \nFun for all on 500 cards afternoons. June is tutor\, John is scorer & Maxi\, Bob\, Peter and Bill would love to show you the ropes. We stop about 3pm for a cuppa. No experience is necessary. We take errors in our stride and remind you what is trumps\, whenever necessary. \nEvery Wednesday from 1.00 pm to 3.30 ish in the Main Room   
URL:https://horshamu3a.org.au/event/500/2026-09-16/
LOCATION:Railway Station\, 23 Railway Avenue\, Horsham\, VIC\, 3400\, Australia
CATEGORIES:games
ATTACH;FMTTYPE=image/png:https://horshamu3a.org.au/wp-content/uploads/2024/02/500-K-1.png
ORGANIZER;CN="June Liddy":MAILTO:office@horshamu3a.org.au
END:VEVENT
BEGIN:VEVENT
DTSTART;TZID=Australia/Melbourne:20260916T133000
DTEND;TZID=Australia/Melbourne:20260916T160000
DTSTAMP:20260421T152808
CREATED:20260119T051417Z
LAST-MODIFIED:20260119T051417Z
UID:10018364-1789565400-1789574400@horshamu3a.org.au
SUMMARY:Canasta
DESCRIPTION:With Elizabeth Kaucner \nWe play Bolivia Canasta. Three packs of cards are used\, including all the jokers. The aim is to build sets and sequences. Ideally played by 4 people\, but we sometimes have to improvise with less. \nEach Wednesday at 1.30 pm in the Main Room
URL:https://horshamu3a.org.au/event/canasta/2026-09-16/
LOCATION:Railway Station\, 23 Railway Avenue\, Horsham\, VIC\, 3400\, Australia
CATEGORIES:games
ATTACH;FMTTYPE=image/png:https://horshamu3a.org.au/wp-content/uploads/2024/02/Canasta-1.30pm-1.png
END:VEVENT
BEGIN:VEVENT
DTSTART;TZID=Australia/Melbourne:20260916T133000
DTEND;TZID=Australia/Melbourne:20260916T160000
DTSTAMP:20260421T152808
CREATED:20260214T080351Z
LAST-MODIFIED:20260214T080351Z
UID:10021159-1789565400-1789574400@horshamu3a.org.au
SUMMARY:Mah Jong
DESCRIPTION:With Heather Crosthwaite \nThis is the oriental based game with 4 players\, not the game you may have played on the computer. Challenge yourself with something new. \nEvery Wednesday at 1.30 pm in the Waiting Room  
URL:https://horshamu3a.org.au/event/mah-jong/2026-09-16/
LOCATION:Railway Station\, 23 Railway Avenue\, Horsham\, VIC\, 3400\, Australia
CATEGORIES:games
ATTACH;FMTTYPE=image/png:https://horshamu3a.org.au/wp-content/uploads/2024/02/Mah-Jong-2.png
ORGANIZER;CN="June Liddy":MAILTO:office@horshamu3a.org.au
END:VEVENT
BEGIN:VEVENT
DTSTART;TZID=Australia/Melbourne:20260917T133000
DTEND;TZID=Australia/Melbourne:20260917T160000
DTSTAMP:20260421T152808
CREATED:20260123T223150Z
LAST-MODIFIED:20260123T223150Z
UID:10019406-1789651800-1789660800@horshamu3a.org.au
SUMMARY:Scrabble
DESCRIPTION:With Rhonda Pilgrim \nCome and join us if you want to improve your vocabulary whilst having fun. \nEvery Thursday at 1.30 pm in the Main Room               
URL:https://horshamu3a.org.au/event/scrabble/2026-09-17/
LOCATION:Railway Station\, 23 Railway Avenue\, Horsham\, VIC\, 3400\, Australia
CATEGORIES:games
ATTACH;FMTTYPE=image/png:https://horshamu3a.org.au/wp-content/uploads/2024/01/scrabble.png
END:VEVENT
BEGIN:VEVENT
DTSTART;TZID=Australia/Melbourne:20260921T133000
DTEND;TZID=Australia/Melbourne:20260921T160000
DTSTAMP:20260421T152808
CREATED:20260119T042452Z
LAST-MODIFIED:20260119T042452Z
UID:10016749-1789997400-1790006400@horshamu3a.org.au
SUMMARY:Bridge
DESCRIPTION:With Davifd Cariss. \nThis group plays contract bridge which is one of the whist games. Suited to anyone who has played 500 or Euchre. \nEvery Monday at 1.30 pm in the Main Room
URL:https://horshamu3a.org.au/event/bridge/2026-09-21/
LOCATION:Railway Station\, 23 Railway Avenue\, Horsham\, VIC\, 3400\, Australia
CATEGORIES:games
ATTACH;FMTTYPE=image/png:https://horshamu3a.org.au/wp-content/uploads/2024/02/Bridge.png
ORGANIZER;CN="June Liddy":MAILTO:office@horshamu3a.org.au
END:VEVENT
BEGIN:VEVENT
DTSTART;TZID=Australia/Melbourne:20260922T130000
DTEND;TZID=Australia/Melbourne:20260922T160000
DTSTAMP:20260421T152808
CREATED:20260119T044250Z
LAST-MODIFIED:20260119T044250Z
UID:10017268-1790082000-1790092800@horshamu3a.org.au
SUMMARY:Solo
DESCRIPTION:With Maxine Ferguson \nA small enthusiastic group play Solo (another card game). The participants say it is not a difficult game\, but it does make you think. \nEvery Tuesday at 1.00 pm in the Waiting Room       
URL:https://horshamu3a.org.au/event/solo/2026-09-22/
LOCATION:Railway Station\, 23 Railway Avenue\, Horsham\, VIC\, 3400\, Australia
CATEGORIES:games
ATTACH;FMTTYPE=image/png:https://horshamu3a.org.au/wp-content/uploads/2024/02/Solo.png
ORGANIZER;CN="June Liddy":MAILTO:office@horshamu3a.org.au
END:VEVENT
BEGIN:VEVENT
DTSTART;TZID=Australia/Melbourne:20260923T133000
DTEND;TZID=Australia/Melbourne:20260923T160000
DTSTAMP:20260421T152808
CREATED:20260119T051135Z
LAST-MODIFIED:20260119T051206Z
UID:10018106-1790170200-1790179200@horshamu3a.org.au
SUMMARY:500
DESCRIPTION:With June Liddy \nFun for all on 500 cards afternoons. June is tutor\, John is scorer & Maxi\, Bob\, Peter and Bill would love to show you the ropes. We stop about 3pm for a cuppa. No experience is necessary. We take errors in our stride and remind you what is trumps\, whenever necessary. \nEvery Wednesday from 1.00 pm to 3.30 ish in the Main Room   
URL:https://horshamu3a.org.au/event/500/2026-09-23/
LOCATION:Railway Station\, 23 Railway Avenue\, Horsham\, VIC\, 3400\, Australia
CATEGORIES:games
ATTACH;FMTTYPE=image/png:https://horshamu3a.org.au/wp-content/uploads/2024/02/500-K-1.png
ORGANIZER;CN="June Liddy":MAILTO:office@horshamu3a.org.au
END:VEVENT
BEGIN:VEVENT
DTSTART;TZID=Australia/Melbourne:20260923T133000
DTEND;TZID=Australia/Melbourne:20260923T160000
DTSTAMP:20260421T152808
CREATED:20260119T051417Z
LAST-MODIFIED:20260119T051417Z
UID:10018365-1790170200-1790179200@horshamu3a.org.au
SUMMARY:Canasta
DESCRIPTION:With Elizabeth Kaucner \nWe play Bolivia Canasta. Three packs of cards are used\, including all the jokers. The aim is to build sets and sequences. Ideally played by 4 people\, but we sometimes have to improvise with less. \nEach Wednesday at 1.30 pm in the Main Room
URL:https://horshamu3a.org.au/event/canasta/2026-09-23/
LOCATION:Railway Station\, 23 Railway Avenue\, Horsham\, VIC\, 3400\, Australia
CATEGORIES:games
ATTACH;FMTTYPE=image/png:https://horshamu3a.org.au/wp-content/uploads/2024/02/Canasta-1.30pm-1.png
END:VEVENT
BEGIN:VEVENT
DTSTART;TZID=Australia/Melbourne:20260923T133000
DTEND;TZID=Australia/Melbourne:20260923T160000
DTSTAMP:20260421T152808
CREATED:20260214T080351Z
LAST-MODIFIED:20260214T080351Z
UID:10021160-1790170200-1790179200@horshamu3a.org.au
SUMMARY:Mah Jong
DESCRIPTION:With Heather Crosthwaite \nThis is the oriental based game with 4 players\, not the game you may have played on the computer. Challenge yourself with something new. \nEvery Wednesday at 1.30 pm in the Waiting Room  
URL:https://horshamu3a.org.au/event/mah-jong/2026-09-23/
LOCATION:Railway Station\, 23 Railway Avenue\, Horsham\, VIC\, 3400\, Australia
CATEGORIES:games
ATTACH;FMTTYPE=image/png:https://horshamu3a.org.au/wp-content/uploads/2024/02/Mah-Jong-2.png
ORGANIZER;CN="June Liddy":MAILTO:office@horshamu3a.org.au
END:VEVENT
BEGIN:VEVENT
DTSTART;TZID=Australia/Melbourne:20260924T133000
DTEND;TZID=Australia/Melbourne:20260924T160000
DTSTAMP:20260421T152808
CREATED:20260123T223150Z
LAST-MODIFIED:20260123T223150Z
UID:10019407-1790256600-1790265600@horshamu3a.org.au
SUMMARY:Scrabble
DESCRIPTION:With Rhonda Pilgrim \nCome and join us if you want to improve your vocabulary whilst having fun. \nEvery Thursday at 1.30 pm in the Main Room               
URL:https://horshamu3a.org.au/event/scrabble/2026-09-24/
LOCATION:Railway Station\, 23 Railway Avenue\, Horsham\, VIC\, 3400\, Australia
CATEGORIES:games
ATTACH;FMTTYPE=image/png:https://horshamu3a.org.au/wp-content/uploads/2024/01/scrabble.png
END:VEVENT
BEGIN:VEVENT
DTSTART;TZID=Australia/Melbourne:20260928T133000
DTEND;TZID=Australia/Melbourne:20260928T160000
DTSTAMP:20260421T152809
CREATED:20260119T042452Z
LAST-MODIFIED:20260119T042452Z
UID:10016750-1790602200-1790611200@horshamu3a.org.au
SUMMARY:Bridge
DESCRIPTION:With Davifd Cariss. \nThis group plays contract bridge which is one of the whist games. Suited to anyone who has played 500 or Euchre. \nEvery Monday at 1.30 pm in the Main Room
URL:https://horshamu3a.org.au/event/bridge/2026-09-28/
LOCATION:Railway Station\, 23 Railway Avenue\, Horsham\, VIC\, 3400\, Australia
CATEGORIES:games
ATTACH;FMTTYPE=image/png:https://horshamu3a.org.au/wp-content/uploads/2024/02/Bridge.png
ORGANIZER;CN="June Liddy":MAILTO:office@horshamu3a.org.au
END:VEVENT
BEGIN:VEVENT
DTSTART;TZID=Australia/Melbourne:20260929T130000
DTEND;TZID=Australia/Melbourne:20260929T160000
DTSTAMP:20260421T152809
CREATED:20260119T044250Z
LAST-MODIFIED:20260119T044250Z
UID:10017269-1790686800-1790697600@horshamu3a.org.au
SUMMARY:Solo
DESCRIPTION:With Maxine Ferguson \nA small enthusiastic group play Solo (another card game). The participants say it is not a difficult game\, but it does make you think. \nEvery Tuesday at 1.00 pm in the Waiting Room       
URL:https://horshamu3a.org.au/event/solo/2026-09-29/
LOCATION:Railway Station\, 23 Railway Avenue\, Horsham\, VIC\, 3400\, Australia
CATEGORIES:games
ATTACH;FMTTYPE=image/png:https://horshamu3a.org.au/wp-content/uploads/2024/02/Solo.png
ORGANIZER;CN="June Liddy":MAILTO:office@horshamu3a.org.au
END:VEVENT
BEGIN:VEVENT
DTSTART;TZID=Australia/Melbourne:20260930T133000
DTEND;TZID=Australia/Melbourne:20260930T160000
DTSTAMP:20260421T152809
CREATED:20260119T051135Z
LAST-MODIFIED:20260119T051206Z
UID:10018107-1790775000-1790784000@horshamu3a.org.au
SUMMARY:500
DESCRIPTION:With June Liddy \nFun for all on 500 cards afternoons. June is tutor\, John is scorer & Maxi\, Bob\, Peter and Bill would love to show you the ropes. We stop about 3pm for a cuppa. No experience is necessary. We take errors in our stride and remind you what is trumps\, whenever necessary. \nEvery Wednesday from 1.00 pm to 3.30 ish in the Main Room   
URL:https://horshamu3a.org.au/event/500/2026-09-30/
LOCATION:Railway Station\, 23 Railway Avenue\, Horsham\, VIC\, 3400\, Australia
CATEGORIES:games
ATTACH;FMTTYPE=image/png:https://horshamu3a.org.au/wp-content/uploads/2024/02/500-K-1.png
ORGANIZER;CN="June Liddy":MAILTO:office@horshamu3a.org.au
END:VEVENT
BEGIN:VEVENT
DTSTART;TZID=Australia/Melbourne:20260930T133000
DTEND;TZID=Australia/Melbourne:20260930T160000
DTSTAMP:20260421T152809
CREATED:20260119T051417Z
LAST-MODIFIED:20260119T051417Z
UID:10018366-1790775000-1790784000@horshamu3a.org.au
SUMMARY:Canasta
DESCRIPTION:With Elizabeth Kaucner \nWe play Bolivia Canasta. Three packs of cards are used\, including all the jokers. The aim is to build sets and sequences. Ideally played by 4 people\, but we sometimes have to improvise with less. \nEach Wednesday at 1.30 pm in the Main Room
URL:https://horshamu3a.org.au/event/canasta/2026-09-30/
LOCATION:Railway Station\, 23 Railway Avenue\, Horsham\, VIC\, 3400\, Australia
CATEGORIES:games
ATTACH;FMTTYPE=image/png:https://horshamu3a.org.au/wp-content/uploads/2024/02/Canasta-1.30pm-1.png
END:VEVENT
BEGIN:VEVENT
DTSTART;TZID=Australia/Melbourne:20260930T133000
DTEND;TZID=Australia/Melbourne:20260930T160000
DTSTAMP:20260421T152809
CREATED:20260214T080351Z
LAST-MODIFIED:20260214T080351Z
UID:10021161-1790775000-1790784000@horshamu3a.org.au
SUMMARY:Mah Jong
DESCRIPTION:With Heather Crosthwaite \nThis is the oriental based game with 4 players\, not the game you may have played on the computer. Challenge yourself with something new. \nEvery Wednesday at 1.30 pm in the Waiting Room  
URL:https://horshamu3a.org.au/event/mah-jong/2026-09-30/
LOCATION:Railway Station\, 23 Railway Avenue\, Horsham\, VIC\, 3400\, Australia
CATEGORIES:games
ATTACH;FMTTYPE=image/png:https://horshamu3a.org.au/wp-content/uploads/2024/02/Mah-Jong-2.png
ORGANIZER;CN="June Liddy":MAILTO:office@horshamu3a.org.au
END:VEVENT
BEGIN:VEVENT
DTSTART;TZID=Australia/Melbourne:20261001T133000
DTEND;TZID=Australia/Melbourne:20261001T160000
DTSTAMP:20260421T152809
CREATED:20260123T223150Z
LAST-MODIFIED:20260123T223150Z
UID:10019408-1790861400-1790870400@horshamu3a.org.au
SUMMARY:Scrabble
DESCRIPTION:With Rhonda Pilgrim \nCome and join us if you want to improve your vocabulary whilst having fun. \nEvery Thursday at 1.30 pm in the Main Room               
URL:https://horshamu3a.org.au/event/scrabble/2026-10-01/
LOCATION:Railway Station\, 23 Railway Avenue\, Horsham\, VIC\, 3400\, Australia
CATEGORIES:games
ATTACH;FMTTYPE=image/png:https://horshamu3a.org.au/wp-content/uploads/2024/01/scrabble.png
END:VEVENT
BEGIN:VEVENT
DTSTART;TZID=Australia/Melbourne:20261005T133000
DTEND;TZID=Australia/Melbourne:20261005T160000
DTSTAMP:20260421T152809
CREATED:20260119T042452Z
LAST-MODIFIED:20260119T042452Z
UID:10016751-1791207000-1791216000@horshamu3a.org.au
SUMMARY:Bridge
DESCRIPTION:With Davifd Cariss. \nThis group plays contract bridge which is one of the whist games. Suited to anyone who has played 500 or Euchre. \nEvery Monday at 1.30 pm in the Main Room
URL:https://horshamu3a.org.au/event/bridge/2026-10-05/
LOCATION:Railway Station\, 23 Railway Avenue\, Horsham\, VIC\, 3400\, Australia
CATEGORIES:games
ATTACH;FMTTYPE=image/png:https://horshamu3a.org.au/wp-content/uploads/2024/02/Bridge.png
ORGANIZER;CN="June Liddy":MAILTO:office@horshamu3a.org.au
END:VEVENT
BEGIN:VEVENT
DTSTART;TZID=Australia/Melbourne:20261006T130000
DTEND;TZID=Australia/Melbourne:20261006T160000
DTSTAMP:20260421T152809
CREATED:20260119T044250Z
LAST-MODIFIED:20260119T044250Z
UID:10017270-1791291600-1791302400@horshamu3a.org.au
SUMMARY:Solo
DESCRIPTION:With Maxine Ferguson \nA small enthusiastic group play Solo (another card game). The participants say it is not a difficult game\, but it does make you think. \nEvery Tuesday at 1.00 pm in the Waiting Room       
URL:https://horshamu3a.org.au/event/solo/2026-10-06/
LOCATION:Railway Station\, 23 Railway Avenue\, Horsham\, VIC\, 3400\, Australia
CATEGORIES:games
ATTACH;FMTTYPE=image/png:https://horshamu3a.org.au/wp-content/uploads/2024/02/Solo.png
ORGANIZER;CN="June Liddy":MAILTO:office@horshamu3a.org.au
END:VEVENT
BEGIN:VEVENT
DTSTART;TZID=Australia/Melbourne:20261007T133000
DTEND;TZID=Australia/Melbourne:20261007T160000
DTSTAMP:20260421T152809
CREATED:20260119T051135Z
LAST-MODIFIED:20260119T051206Z
UID:10018108-1791379800-1791388800@horshamu3a.org.au
SUMMARY:500
DESCRIPTION:With June Liddy \nFun for all on 500 cards afternoons. June is tutor\, John is scorer & Maxi\, Bob\, Peter and Bill would love to show you the ropes. We stop about 3pm for a cuppa. No experience is necessary. We take errors in our stride and remind you what is trumps\, whenever necessary. \nEvery Wednesday from 1.00 pm to 3.30 ish in the Main Room   
URL:https://horshamu3a.org.au/event/500/2026-10-07/
LOCATION:Railway Station\, 23 Railway Avenue\, Horsham\, VIC\, 3400\, Australia
CATEGORIES:games
ATTACH;FMTTYPE=image/png:https://horshamu3a.org.au/wp-content/uploads/2024/02/500-K-1.png
ORGANIZER;CN="June Liddy":MAILTO:office@horshamu3a.org.au
END:VEVENT
BEGIN:VEVENT
DTSTART;TZID=Australia/Melbourne:20261007T133000
DTEND;TZID=Australia/Melbourne:20261007T160000
DTSTAMP:20260421T152809
CREATED:20260119T051417Z
LAST-MODIFIED:20260119T051417Z
UID:10018367-1791379800-1791388800@horshamu3a.org.au
SUMMARY:Canasta
DESCRIPTION:With Elizabeth Kaucner \nWe play Bolivia Canasta. Three packs of cards are used\, including all the jokers. The aim is to build sets and sequences. Ideally played by 4 people\, but we sometimes have to improvise with less. \nEach Wednesday at 1.30 pm in the Main Room
URL:https://horshamu3a.org.au/event/canasta/2026-10-07/
LOCATION:Railway Station\, 23 Railway Avenue\, Horsham\, VIC\, 3400\, Australia
CATEGORIES:games
ATTACH;FMTTYPE=image/png:https://horshamu3a.org.au/wp-content/uploads/2024/02/Canasta-1.30pm-1.png
END:VEVENT
BEGIN:VEVENT
DTSTART;TZID=Australia/Melbourne:20261007T133000
DTEND;TZID=Australia/Melbourne:20261007T160000
DTSTAMP:20260421T152809
CREATED:20260214T080351Z
LAST-MODIFIED:20260214T080351Z
UID:10021162-1791379800-1791388800@horshamu3a.org.au
SUMMARY:Mah Jong
DESCRIPTION:With Heather Crosthwaite \nThis is the oriental based game with 4 players\, not the game you may have played on the computer. Challenge yourself with something new. \nEvery Wednesday at 1.30 pm in the Waiting Room  
URL:https://horshamu3a.org.au/event/mah-jong/2026-10-07/
LOCATION:Railway Station\, 23 Railway Avenue\, Horsham\, VIC\, 3400\, Australia
CATEGORIES:games
ATTACH;FMTTYPE=image/png:https://horshamu3a.org.au/wp-content/uploads/2024/02/Mah-Jong-2.png
ORGANIZER;CN="June Liddy":MAILTO:office@horshamu3a.org.au
END:VEVENT
BEGIN:VEVENT
DTSTART;TZID=Australia/Melbourne:20261008T133000
DTEND;TZID=Australia/Melbourne:20261008T160000
DTSTAMP:20260421T152809
CREATED:20260123T223150Z
LAST-MODIFIED:20260123T223150Z
UID:10019409-1791466200-1791475200@horshamu3a.org.au
SUMMARY:Scrabble
DESCRIPTION:With Rhonda Pilgrim \nCome and join us if you want to improve your vocabulary whilst having fun. \nEvery Thursday at 1.30 pm in the Main Room               
URL:https://horshamu3a.org.au/event/scrabble/2026-10-08/
LOCATION:Railway Station\, 23 Railway Avenue\, Horsham\, VIC\, 3400\, Australia
CATEGORIES:games
ATTACH;FMTTYPE=image/png:https://horshamu3a.org.au/wp-content/uploads/2024/01/scrabble.png
END:VEVENT
BEGIN:VEVENT
DTSTART;TZID=Australia/Melbourne:20261012T133000
DTEND;TZID=Australia/Melbourne:20261012T160000
DTSTAMP:20260421T152809
CREATED:20260119T042452Z
LAST-MODIFIED:20260119T042452Z
UID:10016752-1791811800-1791820800@horshamu3a.org.au
SUMMARY:Bridge
DESCRIPTION:With Davifd Cariss. \nThis group plays contract bridge which is one of the whist games. Suited to anyone who has played 500 or Euchre. \nEvery Monday at 1.30 pm in the Main Room
URL:https://horshamu3a.org.au/event/bridge/2026-10-12/
LOCATION:Railway Station\, 23 Railway Avenue\, Horsham\, VIC\, 3400\, Australia
CATEGORIES:games
ATTACH;FMTTYPE=image/png:https://horshamu3a.org.au/wp-content/uploads/2024/02/Bridge.png
ORGANIZER;CN="June Liddy":MAILTO:office@horshamu3a.org.au
END:VEVENT
END:VCALENDAR