BEGIN:VCALENDAR
VERSION:2.0
PRODID:-//U3A - ECPv6.15.20//NONSGML v1.0//EN
CALSCALE:GREGORIAN
METHOD:PUBLISH
X-WR-CALNAME:U3A
X-ORIGINAL-URL:https://horshamu3a.org.au
X-WR-CALDESC:Events for U3A
REFRESH-INTERVAL;VALUE=DURATION:PT1H
X-Robots-Tag:noindex
X-PUBLISHED-TTL:PT1H
BEGIN:VTIMEZONE
TZID:Australia/Melbourne
BEGIN:STANDARD
TZOFFSETFROM:+1100
TZOFFSETTO:+1000
TZNAME:AEST
DTSTART:20250405T160000
END:STANDARD
BEGIN:DAYLIGHT
TZOFFSETFROM:+1000
TZOFFSETTO:+1100
TZNAME:AEDT
DTSTART:20251004T160000
END:DAYLIGHT
BEGIN:STANDARD
TZOFFSETFROM:+1100
TZOFFSETTO:+1000
TZNAME:AEST
DTSTART:20260404T160000
END:STANDARD
BEGIN:DAYLIGHT
TZOFFSETFROM:+1000
TZOFFSETTO:+1100
TZNAME:AEDT
DTSTART:20261003T160000
END:DAYLIGHT
BEGIN:STANDARD
TZOFFSETFROM:+1100
TZOFFSETTO:+1000
TZNAME:AEST
DTSTART:20270403T160000
END:STANDARD
BEGIN:DAYLIGHT
TZOFFSETFROM:+1000
TZOFFSETTO:+1100
TZNAME:AEDT
DTSTART:20271002T160000
END:DAYLIGHT
END:VTIMEZONE
BEGIN:VEVENT
DTSTART;TZID=Australia/Melbourne:20260406T133000
DTEND;TZID=Australia/Melbourne:20260406T150000
DTSTAMP:20260421T224852
CREATED:20260118T040749Z
LAST-MODIFIED:20260118T040749Z
UID:10016296-1775482200-1775487600@horshamu3a.org.au
SUMMARY:Cryptic Crosswords
DESCRIPTION:Held 2nd & 4th Monday in the Small Classroom at 1.30pm\, led by Heather Crosthwaite. \nThe group meets to do cryptic crosswords together and to learn more about how they work.
URL:https://horshamu3a.org.au/event/cryptic-crosswords-2-2-2-2-2-2-2-2/2026-04-06/
LOCATION:Railway Station\, 23 Railway Avenue\, Horsham\, VIC\, 3400\, Australia
CATEGORIES:games
ATTACH;FMTTYPE=image/png:https://horshamu3a.org.au/wp-content/uploads/2024/02/cryptic-Crosswords.png
END:VEVENT
BEGIN:VEVENT
DTSTART;TZID=Australia/Melbourne:20260406T133000
DTEND;TZID=Australia/Melbourne:20260406T160000
DTSTAMP:20260421T224852
CREATED:20260119T042452Z
LAST-MODIFIED:20260119T042452Z
UID:10016725-1775482200-1775491200@horshamu3a.org.au
SUMMARY:Bridge
DESCRIPTION:With Davifd Cariss. \nThis group plays contract bridge which is one of the whist games. Suited to anyone who has played 500 or Euchre. \nEvery Monday at 1.30 pm in the Main Room
URL:https://horshamu3a.org.au/event/bridge/2026-04-06/
LOCATION:Railway Station\, 23 Railway Avenue\, Horsham\, VIC\, 3400\, Australia
CATEGORIES:games
ATTACH;FMTTYPE=image/png:https://horshamu3a.org.au/wp-content/uploads/2024/02/Bridge.png
ORGANIZER;CN="June Liddy":MAILTO:office@horshamu3a.org.au
END:VEVENT
END:VCALENDAR