BEGIN:VCALENDAR
VERSION:2.0
PRODID:-//U3A - ECPv6.15.20//NONSGML v1.0//EN
CALSCALE:GREGORIAN
METHOD:PUBLISH
X-WR-CALNAME:U3A
X-ORIGINAL-URL:https://horshamu3a.org.au
X-WR-CALDESC:Events for U3A
REFRESH-INTERVAL;VALUE=DURATION:PT1H
X-Robots-Tag:noindex
X-PUBLISHED-TTL:PT1H
BEGIN:VTIMEZONE
TZID:Australia/Melbourne
BEGIN:STANDARD
TZOFFSETFROM:+1100
TZOFFSETTO:+1000
TZNAME:AEST
DTSTART:20250405T160000
END:STANDARD
BEGIN:DAYLIGHT
TZOFFSETFROM:+1000
TZOFFSETTO:+1100
TZNAME:AEDT
DTSTART:20251004T160000
END:DAYLIGHT
BEGIN:STANDARD
TZOFFSETFROM:+1100
TZOFFSETTO:+1000
TZNAME:AEST
DTSTART:20260404T160000
END:STANDARD
BEGIN:DAYLIGHT
TZOFFSETFROM:+1000
TZOFFSETTO:+1100
TZNAME:AEDT
DTSTART:20261003T160000
END:DAYLIGHT
BEGIN:STANDARD
TZOFFSETFROM:+1100
TZOFFSETTO:+1000
TZNAME:AEST
DTSTART:20270403T160000
END:STANDARD
BEGIN:DAYLIGHT
TZOFFSETFROM:+1000
TZOFFSETTO:+1100
TZNAME:AEDT
DTSTART:20271002T160000
END:DAYLIGHT
END:VTIMEZONE
BEGIN:VEVENT
DTSTART;TZID=Australia/Melbourne:20260323T100000
DTEND;TZID=Australia/Melbourne:20260323T120000
DTSTAMP:20260419T224256
CREATED:20260302T034147Z
LAST-MODIFIED:20260315T232610Z
UID:10021911-1774260000-1774267200@horshamu3a.org.au
SUMMARY:Local History: Gold Escort Routes with Harvey Champness
DESCRIPTION:Horsham U3A’s Local History Group invites you to a special presentation on Monday 23rd March from 10:00am with local historian and author Harvey Champness. Harvey will explore the fascinating Gold Escort Routes in the Wimmera\, tracing the paths\, people and stories behind the gold convoys that linked our region to Ballarat and beyond. All members and visitors are welcome to come along\, learn more about our local past and enjoy a morning of lively history and discussion.
URL:https://horshamu3a.org.au/event/local-history-gold-escort-routes-with-harvey-champness/
LOCATION:Railway Station\, 23 Railway Avenue\, Horsham\, VIC\, 3400\, Australia
CATEGORIES:documentaries
ATTACH;FMTTYPE=image/png:https://horshamu3a.org.au/wp-content/uploads/2026/03/Local-history-gold-escort-routes.png
ORGANIZER;CN="Trish Maybery":MAILTO:twisties34@gmail.com
END:VEVENT
BEGIN:VEVENT
DTSTART;TZID=Australia/Melbourne:20260318T100000
DTEND;TZID=Australia/Melbourne:20260318T120000
DTSTAMP:20260419T224256
CREATED:20260302T030309Z
LAST-MODIFIED:20260316T001519Z
UID:10021909-1773828000-1773835200@horshamu3a.org.au
SUMMARY:Nature Watch: Finding the Way & Deadliest Destinations
DESCRIPTION: Finding the Way – Narrated by David Attenborough \nSome animals have an extraordinary ability to find their way. The dung beetle\, an insect revered by ancient Egyptians\, uses the sun\, the moon and even the Milky Way to move its prized ball of dung in the right direction. Pigeons are often considered feeble birdbrains\, but they have incredible memories that can recall several complex travel routes with amazing accuracy and they even use man-made roads and hedgerows to find the quickest way home. \nPlus \nAustralia’s Deadliest Destinations – Narrated by Greg Grainger \nThe series reveals landscapes – from deserts to coral reefs\, from snow-fields to wetlands\, filled with venomous creatures\, such as the platypus.
URL:https://horshamu3a.org.au/event/nature-watch-finding-the-way-deadliest-destinations/
LOCATION:Railway Station\, 23 Railway Avenue\, Horsham\, VIC\, 3400\, Australia
CATEGORIES:documentaries
ATTACH;FMTTYPE=image/png:https://horshamu3a.org.au/wp-content/uploads/2026/03/Australias-Deadliest-Destinations.png
END:VEVENT
END:VCALENDAR