BEGIN:VCALENDAR
VERSION:2.0
PRODID:-//U3A - ECPv6.15.20//NONSGML v1.0//EN
CALSCALE:GREGORIAN
METHOD:PUBLISH
X-WR-CALNAME:U3A
X-ORIGINAL-URL:https://horshamu3a.org.au
X-WR-CALDESC:Events for U3A
REFRESH-INTERVAL;VALUE=DURATION:PT1H
X-Robots-Tag:noindex
X-PUBLISHED-TTL:PT1H
BEGIN:VTIMEZONE
TZID:Australia/Melbourne
BEGIN:STANDARD
TZOFFSETFROM:+1100
TZOFFSETTO:+1000
TZNAME:AEST
DTSTART:20250405T160000
END:STANDARD
BEGIN:DAYLIGHT
TZOFFSETFROM:+1000
TZOFFSETTO:+1100
TZNAME:AEDT
DTSTART:20251004T160000
END:DAYLIGHT
BEGIN:STANDARD
TZOFFSETFROM:+1100
TZOFFSETTO:+1000
TZNAME:AEST
DTSTART:20260404T160000
END:STANDARD
BEGIN:DAYLIGHT
TZOFFSETFROM:+1000
TZOFFSETTO:+1100
TZNAME:AEDT
DTSTART:20261003T160000
END:DAYLIGHT
BEGIN:STANDARD
TZOFFSETFROM:+1100
TZOFFSETTO:+1000
TZNAME:AEST
DTSTART:20270403T160000
END:STANDARD
BEGIN:DAYLIGHT
TZOFFSETFROM:+1000
TZOFFSETTO:+1100
TZNAME:AEDT
DTSTART:20271002T160000
END:DAYLIGHT
END:VTIMEZONE
BEGIN:VEVENT
DTSTART;TZID=Australia/Melbourne:20260728T100000
DTEND;TZID=Australia/Melbourne:20260728T120000
DTSTAMP:20260420T133714
CREATED:20260119T042808Z
LAST-MODIFIED:20260119T045145Z
UID:10017000-1785232800-1785240000@horshamu3a.org.au
SUMMARY:Art: Pastels & Water Colours
DESCRIPTION:With Robin Ellis. \nThis group meets to learn and practice new skills in Acrylic and Water Colour Painting and Pastel and Pencil Drawing. Come along and join in and learn new skills.
URL:https://horshamu3a.org.au/event/art-pastels-water-colours/2026-07-28/
LOCATION:Railway Station\, 23 Railway Avenue\, Horsham\, VIC\, 3400\, Australia
CATEGORIES:craft
ATTACH;FMTTYPE=image/png:https://horshamu3a.org.au/wp-content/uploads/2024/02/Pastels-Water-Colours.png
END:VEVENT
BEGIN:VEVENT
DTSTART;TZID=Australia/Melbourne:20260728T100000
DTEND;TZID=Australia/Melbourne:20260728T120000
DTSTAMP:20260420T133714
CREATED:20260328T010018Z
LAST-MODIFIED:20260328T010019Z
UID:10022178-1785232800-1785240000@horshamu3a.org.au
SUMMARY:Singing For Fun
DESCRIPTION:bout Course\n\nWith June Liddy   \nThis class offers members the chance to sing together. Come along and be involved with other enthusiastic singers. \n1st and 3rd Tuesday each month at 10.00 am in the Main Room     
URL:https://horshamu3a.org.au/event/singing-for-fun-2-2/2026-07-28/
LOCATION:Railway Station\, 23 Railway Avenue\, Horsham\, VIC\, 3400\, Australia
CATEGORIES:musical & video
ATTACH;FMTTYPE=image/png:https://horshamu3a.org.au/wp-content/uploads/2026/01/singing-for-fun.png
ORGANIZER;CN="June Liddy":MAILTO:office@horshamu3a.org.au
END:VEVENT
BEGIN:VEVENT
DTSTART;TZID=Australia/Melbourne:20260728T130000
DTEND;TZID=Australia/Melbourne:20260728T160000
DTSTAMP:20260420T133714
CREATED:20260119T044250Z
LAST-MODIFIED:20260119T044250Z
UID:10017260-1785243600-1785254400@horshamu3a.org.au
SUMMARY:Solo
DESCRIPTION:With Maxine Ferguson \nA small enthusiastic group play Solo (another card game). The participants say it is not a difficult game\, but it does make you think. \nEvery Tuesday at 1.00 pm in the Waiting Room       
URL:https://horshamu3a.org.au/event/solo/2026-07-28/
LOCATION:Railway Station\, 23 Railway Avenue\, Horsham\, VIC\, 3400\, Australia
CATEGORIES:games
ATTACH;FMTTYPE=image/png:https://horshamu3a.org.au/wp-content/uploads/2024/02/Solo.png
ORGANIZER;CN="June Liddy":MAILTO:office@horshamu3a.org.au
END:VEVENT
END:VCALENDAR