BEGIN:VCALENDAR
VERSION:2.0
PRODID:-//U3A - ECPv6.15.20//NONSGML v1.0//EN
CALSCALE:GREGORIAN
METHOD:PUBLISH
X-WR-CALNAME:U3A
X-ORIGINAL-URL:https://horshamu3a.org.au
X-WR-CALDESC:Events for U3A
REFRESH-INTERVAL;VALUE=DURATION:PT1H
X-Robots-Tag:noindex
X-PUBLISHED-TTL:PT1H
BEGIN:VTIMEZONE
TZID:Australia/Melbourne
BEGIN:STANDARD
TZOFFSETFROM:+1100
TZOFFSETTO:+1000
TZNAME:AEST
DTSTART:20250405T160000
END:STANDARD
BEGIN:DAYLIGHT
TZOFFSETFROM:+1000
TZOFFSETTO:+1100
TZNAME:AEDT
DTSTART:20251004T160000
END:DAYLIGHT
BEGIN:STANDARD
TZOFFSETFROM:+1100
TZOFFSETTO:+1000
TZNAME:AEST
DTSTART:20260404T160000
END:STANDARD
BEGIN:DAYLIGHT
TZOFFSETFROM:+1000
TZOFFSETTO:+1100
TZNAME:AEDT
DTSTART:20261003T160000
END:DAYLIGHT
BEGIN:STANDARD
TZOFFSETFROM:+1100
TZOFFSETTO:+1000
TZNAME:AEST
DTSTART:20270403T160000
END:STANDARD
BEGIN:DAYLIGHT
TZOFFSETFROM:+1000
TZOFFSETTO:+1100
TZNAME:AEDT
DTSTART:20271002T160000
END:DAYLIGHT
END:VTIMEZONE
BEGIN:VEVENT
DTSTART;TZID=Australia/Melbourne:20260717T083000
DTEND;TZID=Australia/Melbourne:20260717T120000
DTSTAMP:20260420T133708
CREATED:20260123T223524Z
LAST-MODIFIED:20260123T223524Z
UID:10019657-1784277000-1784289600@horshamu3a.org.au
SUMMARY:Table Tennis (Friday)
DESCRIPTION:With Graeme Kuhne \nTable tennis is held at the Table Tennis Association building 3 mornings per week.  Come along for a social game\, exercise and a lot of fun. Small cost per session.  $3.00 \nEvery Monday\, Wednesday and Friday at 9.00 am at the Table Tennis Association 
URL:https://horshamu3a.org.au/event/table-tennis-friday/2026-07-17/
LOCATION:Table Tennis Association\, 11 Harriett Street\, Horsham\, VIC\, 3400\, Australia
CATEGORIES:active
ATTACH;FMTTYPE=image/png:https://horshamu3a.org.au/wp-content/uploads/2024/01/table-tennis-2.png
END:VEVENT
BEGIN:VEVENT
DTSTART;TZID=Australia/Melbourne:20260717T090000
DTEND;TZID=Australia/Melbourne:20260717T100000
DTSTAMP:20260420T133708
CREATED:20260123T223844Z
LAST-MODIFIED:20260123T223844Z
UID:10019917-1784278800-1784282400@horshamu3a.org.au
SUMMARY:Tai Chi (Friday)
DESCRIPTION:Contact Person: Rhonda Coffey \nSlow gentle movement with deep breathing. Great for balance and coordination. You can do the exercises standing or in a chair.   Cost $20.00 per term                  \nEvery Wednesday and Friday at 9.15 am at Hamilton Lamb Hall
URL:https://horshamu3a.org.au/event/tai-chi-friday/2026-07-17/
LOCATION:Hamilton Lamb Hall\, 13 Kalkee Road\, Horsham\, Vic\, 3400\, Australia
CATEGORIES:active
ATTACH;FMTTYPE=image/png:https://horshamu3a.org.au/wp-content/uploads/2024/09/Tai-Chi-1.png
END:VEVENT
BEGIN:VEVENT
DTSTART;TZID=Australia/Melbourne:20260717T093000
DTEND;TZID=Australia/Melbourne:20260717T120000
DTSTAMP:20260420T133708
CREATED:20260123T224100Z
LAST-MODIFIED:20260123T224100Z
UID:10020177-1784280600-1784289600@horshamu3a.org.au
SUMMARY:Oil Painting
DESCRIPTION:Find out how to use oils to create a pleasing picture. Most pictures are done from photographs rather than real life objects. You will need to provide your own materials.
URL:https://horshamu3a.org.au/event/oil-painting/2026-07-17/
LOCATION:Railway Station\, 23 Railway Avenue\, Horsham\, VIC\, 3400\, Australia
CATEGORIES:craft
ATTACH;FMTTYPE=image/png:https://horshamu3a.org.au/wp-content/uploads/2025/11/Screenshot-2025-11-25-152152.png
END:VEVENT
BEGIN:VEVENT
DTSTART;TZID=Australia/Melbourne:20260717T133000
DTEND;TZID=Australia/Melbourne:20260717T150000
DTSTAMP:20260420T133708
CREATED:20260123T224518Z
LAST-MODIFIED:20260123T224518Z
UID:10020697-1784295000-1784300400@horshamu3a.org.au
SUMMARY:Technology Group
DESCRIPTION:With Trish Maybery \nHorsham U3A’s new Tech Skills group will introduce basic computer use\, internet and email\, staying safe online\, and simple social media. Members will then explore graphic design with Canva\, beginner photo editing\, and practical ways to use AI tools for everyday tasks\, creativity and learning. \nEvery Friday at 1.30 pm in the Main Room            
URL:https://horshamu3a.org.au/event/technology-group/2026-07-17/
LOCATION:Railway Station\, 23 Railway Avenue\, Horsham\, VIC\, 3400\, Australia
CATEGORIES:technology
ATTACH;FMTTYPE=image/png:https://horshamu3a.org.au/wp-content/uploads/2024/02/Technology-group.png
ORGANIZER;CN="Trish Maybery":MAILTO:twisties34@gmail.com
END:VEVENT
BEGIN:VEVENT
DTSTART;TZID=Australia/Melbourne:20260717T133000
DTEND;TZID=Australia/Melbourne:20260717T160000
DTSTAMP:20260420T133708
CREATED:20260123T224302Z
LAST-MODIFIED:20260123T224302Z
UID:10020437-1784295000-1784304000@horshamu3a.org.au
SUMMARY:Knitting & Crochet
DESCRIPTION:With Maxine Ferguson. \nMembers meet weekly to chat and share ideas as they work on their individual projects. Bring your own yarn\, needles or a crochet hook. Help is available if needed. \nHeld every Friday afternoon from 1.30pm in the Waiting Room.
URL:https://horshamu3a.org.au/event/knitting-crochet/2026-07-17/
LOCATION:Railway Station\, 23 Railway Avenue\, Horsham\, VIC\, 3400\, Australia
CATEGORIES:craft
ATTACH;FMTTYPE=image/png:https://horshamu3a.org.au/wp-content/uploads/2024/02/Knitting-Crochet.png
END:VEVENT
END:VCALENDAR