BEGIN:VCALENDAR
VERSION:2.0
PRODID:-//U3A - ECPv6.15.20//NONSGML v1.0//EN
CALSCALE:GREGORIAN
METHOD:PUBLISH
X-WR-CALNAME:U3A
X-ORIGINAL-URL:https://horshamu3a.org.au
X-WR-CALDESC:Events for U3A
REFRESH-INTERVAL;VALUE=DURATION:PT1H
X-Robots-Tag:noindex
X-PUBLISHED-TTL:PT1H
BEGIN:VTIMEZONE
TZID:Australia/Melbourne
BEGIN:STANDARD
TZOFFSETFROM:+1100
TZOFFSETTO:+1000
TZNAME:AEST
DTSTART:20250405T160000
END:STANDARD
BEGIN:DAYLIGHT
TZOFFSETFROM:+1000
TZOFFSETTO:+1100
TZNAME:AEDT
DTSTART:20251004T160000
END:DAYLIGHT
BEGIN:STANDARD
TZOFFSETFROM:+1100
TZOFFSETTO:+1000
TZNAME:AEST
DTSTART:20260404T160000
END:STANDARD
BEGIN:DAYLIGHT
TZOFFSETFROM:+1000
TZOFFSETTO:+1100
TZNAME:AEDT
DTSTART:20261003T160000
END:DAYLIGHT
BEGIN:STANDARD
TZOFFSETFROM:+1100
TZOFFSETTO:+1000
TZNAME:AEST
DTSTART:20270403T160000
END:STANDARD
BEGIN:DAYLIGHT
TZOFFSETFROM:+1000
TZOFFSETTO:+1100
TZNAME:AEDT
DTSTART:20271002T160000
END:DAYLIGHT
END:VTIMEZONE
BEGIN:VEVENT
DTSTART;TZID=Australia/Melbourne:20260716T090000
DTEND;TZID=Australia/Melbourne:20260716T100000
DTSTAMP:20260420T133706
CREATED:20260120T061914Z
LAST-MODIFIED:20260120T062712Z
UID:10018617-1784192400-1784196000@horshamu3a.org.au
SUMMARY:Seated Gentle Exercises (Thursday)
DESCRIPTION:With Breanne Mills \nThis class is a 45 minutes session\, comprising a mixture of seated and standing movements. The emphasis is on low impact exercises with the opportunity to work harder\, depending on your fitness and skill level. The aim is to move all parts of the body\, thus maintaining a wide range of movement to enable us to continue to enjoy life and daily activities. It includes balls\, bean bags\, weights and fun routines. Cost $8.00  per session. \nEvery Monday & Thursday at 9.15 am at the Hamilton Lamb Halllth
URL:https://horshamu3a.org.au/event/seated-gentle-exercises-thursday/2026-07-16/
LOCATION:Hamilton Lamb Hall\, 13 Kalkee Road\, Horsham\, Vic\, 3400\, Australia
CATEGORIES:active
ATTACH;FMTTYPE=image/jpeg:https://horshamu3a.org.au/wp-content/uploads/2024/03/Seated-Gentle-exercise-group-2023-rotated.jpg
ORGANIZER;CN="June Liddy":MAILTO:office@horshamu3a.org.au
END:VEVENT
BEGIN:VEVENT
DTSTART;TZID=Australia/Melbourne:20260716T100000
DTEND;TZID=Australia/Melbourne:20260716T120000
DTSTAMP:20260420T133706
CREATED:20260214T081145Z
LAST-MODIFIED:20260214T081145Z
UID:10021472-1784196000-1784203200@horshamu3a.org.au
SUMMARY:Sounds of Music
DESCRIPTION:With Elizabeth Kaucner \nThere is a topic for the 1st Thursday of the month and members are invited to bring music to share.  On the 2nd Thursday you are invited to share a musical. The rest of the month you can enjoy a selection of enjoyable and entertaining music. \nEvery Thursday at 10.00 am in the Main Room       
URL:https://horshamu3a.org.au/event/sounds-of-music-2/2026-07-16/
LOCATION:Railway Station\, 23 Railway Avenue\, Horsham\, VIC\, 3400\, Australia
CATEGORIES:musical & video
ATTACH;FMTTYPE=image/png:https://horshamu3a.org.au/wp-content/uploads/2024/01/sounds-of-music-1.png
ORGANIZER;CN="June Liddy":MAILTO:office@horshamu3a.org.au
END:VEVENT
BEGIN:VEVENT
DTSTART;TZID=Australia/Melbourne:20260716T103000
DTEND;TZID=Australia/Melbourne:20260716T123000
DTSTAMP:20260420T133706
CREATED:20260123T222914Z
LAST-MODIFIED:20260123T222914Z
UID:10019137-1784197800-1784205000@horshamu3a.org.au
SUMMARY:Patchwork & Stitch
DESCRIPTION:With Leande Elliott \nAn opportunity to meet with a group that does stitching and patchwork. It will give you the opportunity to enhance your existing skills and learn new ones. \nHeld every Thursday from 10.30am in the Waiting Room.
URL:https://horshamu3a.org.au/event/patchwork-stitch/2026-07-16/
LOCATION:Railway Station\, 23 Railway Avenue\, Horsham\, VIC\, 3400\, Australia
CATEGORIES:craft
ATTACH;FMTTYPE=image/png:https://horshamu3a.org.au/wp-content/uploads/2024/01/patchwork-stitch-1.png
END:VEVENT
BEGIN:VEVENT
DTSTART;TZID=Australia/Melbourne:20260716T133000
DTEND;TZID=Australia/Melbourne:20260716T160000
DTSTAMP:20260420T133707
CREATED:20260123T223150Z
LAST-MODIFIED:20260123T223150Z
UID:10019397-1784208600-1784217600@horshamu3a.org.au
SUMMARY:Scrabble
DESCRIPTION:With Rhonda Pilgrim \nCome and join us if you want to improve your vocabulary whilst having fun. \nEvery Thursday at 1.30 pm in the Main Room               
URL:https://horshamu3a.org.au/event/scrabble/2026-07-16/
LOCATION:Railway Station\, 23 Railway Avenue\, Horsham\, VIC\, 3400\, Australia
CATEGORIES:games
ATTACH;FMTTYPE=image/png:https://horshamu3a.org.au/wp-content/uploads/2024/01/scrabble.png
END:VEVENT
END:VCALENDAR