BEGIN:VCALENDAR
VERSION:2.0
PRODID:-//U3A - ECPv6.15.20//NONSGML v1.0//EN
CALSCALE:GREGORIAN
METHOD:PUBLISH
X-WR-CALNAME:U3A
X-ORIGINAL-URL:https://horshamu3a.org.au
X-WR-CALDESC:Events for U3A
REFRESH-INTERVAL;VALUE=DURATION:PT1H
X-Robots-Tag:noindex
X-PUBLISHED-TTL:PT1H
BEGIN:VTIMEZONE
TZID:Australia/Melbourne
BEGIN:STANDARD
TZOFFSETFROM:+1100
TZOFFSETTO:+1000
TZNAME:AEST
DTSTART:20250405T160000
END:STANDARD
BEGIN:DAYLIGHT
TZOFFSETFROM:+1000
TZOFFSETTO:+1100
TZNAME:AEDT
DTSTART:20251004T160000
END:DAYLIGHT
BEGIN:STANDARD
TZOFFSETFROM:+1100
TZOFFSETTO:+1000
TZNAME:AEST
DTSTART:20260404T160000
END:STANDARD
BEGIN:DAYLIGHT
TZOFFSETFROM:+1000
TZOFFSETTO:+1100
TZNAME:AEDT
DTSTART:20261003T160000
END:DAYLIGHT
BEGIN:STANDARD
TZOFFSETFROM:+1100
TZOFFSETTO:+1000
TZNAME:AEST
DTSTART:20270403T160000
END:STANDARD
BEGIN:DAYLIGHT
TZOFFSETFROM:+1000
TZOFFSETTO:+1100
TZNAME:AEDT
DTSTART:20271002T160000
END:DAYLIGHT
END:VTIMEZONE
BEGIN:VEVENT
DTSTART;TZID=Australia/Melbourne:20260713T090000
DTEND;TZID=Australia/Melbourne:20260713T100000
DTSTAMP:20260420T133712
CREATED:20260119T040018Z
LAST-MODIFIED:20260119T040018Z
UID:10015005-1783933200-1783936800@horshamu3a.org.au
SUMMARY:Seated Gentle Exercises (Monday)
DESCRIPTION:Now on Monday’s from 9.15 am is an extra class on Seated Gentle Exercises. \n  \n 
URL:https://horshamu3a.org.au/event/seated-gentle-exercises-monday-2/2026-07-13/
LOCATION:Railway Station\, 23 Railway Avenue\, Horsham\, VIC\, 3400\, Australia
CATEGORIES:active
ATTACH;FMTTYPE=image/jpeg:https://horshamu3a.org.au/wp-content/uploads/2024/03/Seated-Gentle-exercise-group-2023-rotated.jpg
END:VEVENT
BEGIN:VEVENT
DTSTART;TZID=Australia/Melbourne:20260713T090000
DTEND;TZID=Australia/Melbourne:20260713T170000
DTSTAMP:20260420T133712
CREATED:20260118T024328Z
LAST-MODIFIED:20260118T024328Z
UID:10016057-1783933200-1783962000@horshamu3a.org.au
SUMMARY:Table Tennis (Monday)
DESCRIPTION:With Graeme Kuhne \nTable tennis is held at the Table Tennis Association building 3 mornings per week.  Come along for a social game\, exercise and a lot of fun. Small cost per session.  $3.00 \nEvery Monday\, Wednesday and Friday at 9.00 am at the Table Tennis Association 
URL:https://horshamu3a.org.au/event/table-tennis-monday/2026-07-13/
LOCATION:Table Tennis Association\, 11 Harriett Street\, Horsham\, VIC\, 3400\, Australia
CATEGORIES:lifestyle
ATTACH;FMTTYPE=image/png:https://horshamu3a.org.au/wp-content/uploads/2025/01/table-tennis-monday-1.png
END:VEVENT
BEGIN:VEVENT
DTSTART;TZID=Australia/Melbourne:20260713T100000
DTEND;TZID=Australia/Melbourne:20260713T120000
DTSTAMP:20260420T133712
CREATED:20260123T221640Z
LAST-MODIFIED:20260123T221640Z
UID:10018876-1783936800-1783944000@horshamu3a.org.au
SUMMARY:China Painting
DESCRIPTION:With Joyce Lane. \nSubjects chosen by the individual are painted on china. The china is then fired in a kiln to attain permanence. \nAssistance is available for new members.  \nHeld every Monday from 10am in the Studio
URL:https://horshamu3a.org.au/event/china-painting/2026-07-13/
LOCATION:Railway Station\, 23 Railway Avenue\, Horsham\, VIC\, 3400\, Australia
CATEGORIES:craft
ATTACH;FMTTYPE=image/png:https://horshamu3a.org.au/wp-content/uploads/2024/02/china-painting-1.png
ORGANIZER;CN="June Liddy":MAILTO:office@horshamu3a.org.au
END:VEVENT
BEGIN:VEVENT
DTSTART;TZID=Australia/Melbourne:20260713T133000
DTEND;TZID=Australia/Melbourne:20260713T160000
DTSTAMP:20260420T133712
CREATED:20260119T042452Z
LAST-MODIFIED:20260119T042452Z
UID:10016739-1783949400-1783958400@horshamu3a.org.au
SUMMARY:Bridge
DESCRIPTION:With Davifd Cariss. \nThis group plays contract bridge which is one of the whist games. Suited to anyone who has played 500 or Euchre. \nEvery Monday at 1.30 pm in the Main Room
URL:https://horshamu3a.org.au/event/bridge/2026-07-13/
LOCATION:Railway Station\, 23 Railway Avenue\, Horsham\, VIC\, 3400\, Australia
CATEGORIES:games
ATTACH;FMTTYPE=image/png:https://horshamu3a.org.au/wp-content/uploads/2024/02/Bridge.png
ORGANIZER;CN="June Liddy":MAILTO:office@horshamu3a.org.au
END:VEVENT
END:VCALENDAR