BEGIN:VCALENDAR
VERSION:2.0
PRODID:-//U3A - ECPv6.15.20//NONSGML v1.0//EN
CALSCALE:GREGORIAN
METHOD:PUBLISH
X-WR-CALNAME:U3A
X-ORIGINAL-URL:https://horshamu3a.org.au
X-WR-CALDESC:Events for U3A
REFRESH-INTERVAL;VALUE=DURATION:PT1H
X-Robots-Tag:noindex
X-PUBLISHED-TTL:PT1H
BEGIN:VTIMEZONE
TZID:Australia/Melbourne
BEGIN:STANDARD
TZOFFSETFROM:+1100
TZOFFSETTO:+1000
TZNAME:AEST
DTSTART:20250405T160000
END:STANDARD
BEGIN:DAYLIGHT
TZOFFSETFROM:+1000
TZOFFSETTO:+1100
TZNAME:AEDT
DTSTART:20251004T160000
END:DAYLIGHT
BEGIN:STANDARD
TZOFFSETFROM:+1100
TZOFFSETTO:+1000
TZNAME:AEST
DTSTART:20260404T160000
END:STANDARD
BEGIN:DAYLIGHT
TZOFFSETFROM:+1000
TZOFFSETTO:+1100
TZNAME:AEDT
DTSTART:20261003T160000
END:DAYLIGHT
BEGIN:STANDARD
TZOFFSETFROM:+1100
TZOFFSETTO:+1000
TZNAME:AEST
DTSTART:20270403T160000
END:STANDARD
BEGIN:DAYLIGHT
TZOFFSETFROM:+1000
TZOFFSETTO:+1100
TZNAME:AEDT
DTSTART:20271002T160000
END:DAYLIGHT
END:VTIMEZONE
BEGIN:VEVENT
DTSTART;TZID=Australia/Melbourne:20260316T090000
DTEND;TZID=Australia/Melbourne:20260316T100000
DTSTAMP:20260421T055438
CREATED:20260119T040018Z
LAST-MODIFIED:20260119T040018Z
UID:10014988-1773651600-1773655200@horshamu3a.org.au
SUMMARY:Seated Gentle Exercises (Monday)
DESCRIPTION:Now on Monday’s from 9.15 am is an extra class on Seated Gentle Exercises. \n  \n 
URL:https://horshamu3a.org.au/event/seated-gentle-exercises-monday-2/2026-03-16/
LOCATION:Railway Station\, 23 Railway Avenue\, Horsham\, VIC\, 3400\, Australia
CATEGORIES:active
ATTACH;FMTTYPE=image/jpeg:https://horshamu3a.org.au/wp-content/uploads/2024/03/Seated-Gentle-exercise-group-2023-rotated.jpg
END:VEVENT
BEGIN:VEVENT
DTSTART;TZID=Australia/Melbourne:20260316T090000
DTEND;TZID=Australia/Melbourne:20260316T170000
DTSTAMP:20260421T055438
CREATED:20260118T024328Z
LAST-MODIFIED:20260118T024328Z
UID:10016040-1773651600-1773680400@horshamu3a.org.au
SUMMARY:Table Tennis (Monday)
DESCRIPTION:With Graeme Kuhne \nTable tennis is held at the Table Tennis Association building 3 mornings per week.  Come along for a social game\, exercise and a lot of fun. Small cost per session.  $3.00 \nEvery Monday\, Wednesday and Friday at 9.00 am at the Table Tennis Association 
URL:https://horshamu3a.org.au/event/table-tennis-monday/2026-03-16/
LOCATION:Table Tennis Association\, 11 Harriett Street\, Horsham\, VIC\, 3400\, Australia
CATEGORIES:lifestyle
ATTACH;FMTTYPE=image/png:https://horshamu3a.org.au/wp-content/uploads/2025/01/table-tennis-monday-1.png
END:VEVENT
BEGIN:VEVENT
DTSTART;TZID=Australia/Melbourne:20260316T100000
DTEND;TZID=Australia/Melbourne:20260316T120000
DTSTAMP:20260421T055438
CREATED:20260123T221640Z
LAST-MODIFIED:20260123T221640Z
UID:10018859-1773655200-1773662400@horshamu3a.org.au
SUMMARY:China Painting
DESCRIPTION:With Joyce Lane. \nSubjects chosen by the individual are painted on china. The china is then fired in a kiln to attain permanence. \nAssistance is available for new members.  \nHeld every Monday from 10am in the Studio
URL:https://horshamu3a.org.au/event/china-painting/2026-03-16/
LOCATION:Railway Station\, 23 Railway Avenue\, Horsham\, VIC\, 3400\, Australia
CATEGORIES:craft
ATTACH;FMTTYPE=image/png:https://horshamu3a.org.au/wp-content/uploads/2024/02/china-painting-1.png
ORGANIZER;CN="June Liddy":MAILTO:office@horshamu3a.org.au
END:VEVENT
BEGIN:VEVENT
DTSTART;TZID=Australia/Melbourne:20260316T100000
DTEND;TZID=Australia/Melbourne:20260316T120000
DTSTAMP:20260421T055438
CREATED:20260302T032354Z
LAST-MODIFIED:20260302T033122Z
UID:10021910-1773655200-1773662400@horshamu3a.org.au
SUMMARY:Arm Chair Travel: Italy
DESCRIPTION:Join us for our next Arm Chair Travel session on Monday 16 March\, when Rhonda will take us on a relaxing virtual journey through Italy. From historic cities and grand cathedrals to picturesque canals and countryside\, we’ll explore the heart of European culture and history without leaving Horsham U3A. All members are welcome – sit back\, enjoy the images and stories\, and share your own Italian memories or dreams of travel.
URL:https://horshamu3a.org.au/event/arm-chair-travel-italy/
LOCATION:Railway Station\, 23 Railway Avenue\, Horsham\, VIC\, 3400\, Australia
CATEGORIES:musical & video
ATTACH;FMTTYPE=image/png:https://horshamu3a.org.au/wp-content/uploads/2026/03/virtual-travel-italy.png
ORGANIZER;CN="Trish Maybery":MAILTO:twisties34@gmail.com
END:VEVENT
BEGIN:VEVENT
DTSTART;TZID=Australia/Melbourne:20260316T113000
DTEND;TZID=Australia/Melbourne:20260316T133000
DTSTAMP:20260421T055438
CREATED:20260214T081608Z
LAST-MODIFIED:20260214T081608Z
UID:10021713-1773660600-1773667800@horshamu3a.org.au
SUMMARY:Luncheon Group
DESCRIPTION:With Joyce Lane \nThis is a social group with members meeting every month to have lunch and have a chat. If you like meeting new people or catching up with friends\, please come along. Let Joyce know if you’re attending. Everyone is to cover the cost of their lunch. \n3rd Monday of each month at 11.50 am at a venue to be advised.    
URL:https://horshamu3a.org.au/event/luncheon-group/2026-03-16/
LOCATION:Railway Station\, 23 Railway Avenue\, Horsham\, VIC\, 3400\, Australia
CATEGORIES:lifestyle
ATTACH;FMTTYPE=image/png:https://horshamu3a.org.au/wp-content/uploads/2024/02/Luncheon-Group.png
ORGANIZER;CN="June Liddy":MAILTO:office@horshamu3a.org.au
END:VEVENT
BEGIN:VEVENT
DTSTART;TZID=Australia/Melbourne:20260316T133000
DTEND;TZID=Australia/Melbourne:20260316T160000
DTSTAMP:20260421T055438
CREATED:20260119T042452Z
LAST-MODIFIED:20260119T042452Z
UID:10016722-1773667800-1773676800@horshamu3a.org.au
SUMMARY:Bridge
DESCRIPTION:With Davifd Cariss. \nThis group plays contract bridge which is one of the whist games. Suited to anyone who has played 500 or Euchre. \nEvery Monday at 1.30 pm in the Main Room
URL:https://horshamu3a.org.au/event/bridge/2026-03-16/
LOCATION:Railway Station\, 23 Railway Avenue\, Horsham\, VIC\, 3400\, Australia
CATEGORIES:games
ATTACH;FMTTYPE=image/png:https://horshamu3a.org.au/wp-content/uploads/2024/02/Bridge.png
ORGANIZER;CN="June Liddy":MAILTO:office@horshamu3a.org.au
END:VEVENT
END:VCALENDAR